BEGIN:VCALENDAR
VERSION:2.0
PRODID:-//Rowing British Columbia - ECPv6.15.12.2//NONSGML v1.0//EN
CALSCALE:GREGORIAN
METHOD:PUBLISH
X-WR-CALNAME:Rowing British Columbia
X-ORIGINAL-URL:https://rowingbc.ca
X-WR-CALDESC:Events for Rowing British Columbia
REFRESH-INTERVAL;VALUE=DURATION:PT1H
X-Robots-Tag:noindex
X-PUBLISHED-TTL:PT1H
BEGIN:VTIMEZONE
TZID:America/Vancouver
BEGIN:DAYLIGHT
TZOFFSETFROM:-0800
TZOFFSETTO:-0700
TZNAME:PDT
DTSTART:20220313T100000
END:DAYLIGHT
BEGIN:STANDARD
TZOFFSETFROM:-0700
TZOFFSETTO:-0800
TZNAME:PST
DTSTART:20221106T090000
END:STANDARD
BEGIN:DAYLIGHT
TZOFFSETFROM:-0800
TZOFFSETTO:-0700
TZNAME:PDT
DTSTART:20230312T100000
END:DAYLIGHT
BEGIN:STANDARD
TZOFFSETFROM:-0700
TZOFFSETTO:-0800
TZNAME:PST
DTSTART:20231105T090000
END:STANDARD
BEGIN:DAYLIGHT
TZOFFSETFROM:-0800
TZOFFSETTO:-0700
TZNAME:PDT
DTSTART:20240310T100000
END:DAYLIGHT
BEGIN:STANDARD
TZOFFSETFROM:-0700
TZOFFSETTO:-0800
TZNAME:PST
DTSTART:20241103T090000
END:STANDARD
END:VTIMEZONE
BEGIN:VEVENT
DTSTART;TZID=America/Vancouver:20231112T143000
DTEND;TZID=America/Vancouver:20231112T183000
DTSTAMP:20260421T103302
CREATED:20221212T234625Z
LAST-MODIFIED:20231024T223341Z
UID:10000301-1699799400-1699813800@rowingbc.ca
SUMMARY:WORKSHOP: RCA Coach Weekend 2 Workshop
DESCRIPTION:Location: Virtual \nDescription: RCA Coach Weekend #2 Virtual Workshop (Part A) via Zoom Sunday\, November 12th\, from 2:30-6:30pm. This is the first part of the RCA Coach Weekend #2 Virtual Workshop. Parts B & C are the following Sundays\, November 19th\, and November 26th. Participants must complete a practical task  in between each workshop\, and must have completed RCA Coach Weekend #1 before attending this workshop. \nCost for the RCA Coach Weekend #2 Virtual Workshop (including Parts A\, B and C) is $250 \nRegistration: There are two steps to register\, so please make sure to complete both \n\nTo register on the Coaches Association of Canada please click here\nTo register with Rowing BC for the workshop please click here\n\nRegistrations close on November 9th\, 2023. There are 12 spots available so make sure to register early. All coach workshop participants are required by RCA to have completed the Every Coach Certified modules. More information can be found HERE. \nPlease reach out to Lisa Tschannen\, Rowing BC’s Manager of Education\, Innovation\, and Inclusion with any questions.
URL:https://rowingbc.ca/event/rca-coach-weekend-2-workshop-10/
CATEGORIES:Coach Workshops
END:VEVENT
BEGIN:VEVENT
DTSTART;TZID=America/Vancouver:20231119T143000
DTEND;TZID=America/Vancouver:20231119T183000
DTSTAMP:20260421T103302
CREATED:20221212T234920Z
LAST-MODIFIED:20231006T171940Z
UID:10000303-1700404200-1700418600@rowingbc.ca
SUMMARY:WORKSHOP: RCA Coach Weekend 2 Workshop
DESCRIPTION:Location: Virtual \nDescription: RCA Coach Weekend #2 Virtual Workshop (Part B) via Zoom Sunday\, November 19th\, from 2:30-6:30pm. This is the second part of the RCA Coach Weekend #2 Virtual Workshop. Parts A is on the preceding Sunday\, November 12th\, and Part C is on the following Sunday\, November 26th. Participants must complete a practical task  in between each workshop\, and must have completed RCA Coach Weekend #1 before attending this workshop. \nCost for the RCA Coach Weekend #2 Virtual Workshop (including Parts A\, B and C) is $250 \nRegistration: There are two steps to register\, so please make sure to complete both \n\nTo register on the Coaches Association of Canada please click here\nTo register with Rowing BC for the workshop please click here\n\nRegistrations close on October 10th\, 2023. There are 12 spots available so make sure to register early. All coach workshop participants are required by RCA to have completed the Every Coach Certified modules. More information can be found HERE. \nPlease reach out to Lisa Tschannen\, Rowing BC’s Manager of Education\, Innovation\, and Inclusion with any questions.
URL:https://rowingbc.ca/event/rca-coach-weekend-2-workshop-11/
CATEGORIES:Coach Workshops
END:VEVENT
BEGIN:VEVENT
DTSTART;TZID=America/Vancouver:20231126T143000
DTEND;TZID=America/Vancouver:20231126T183000
DTSTAMP:20260421T103302
CREATED:20221212T235114Z
LAST-MODIFIED:20231006T172045Z
UID:10000305-1701009000-1701023400@rowingbc.ca
SUMMARY:WORKSHOP: RCA Coach Weekend 2 Workshop
DESCRIPTION:Location: Virtual \nDescription: RCA Coach Weekend #2 Virtual Workshop (Part C) via Zoom Sunday\, November 26th\, from 2:30-6:30pm. This is the final part of the RCA Coach Weekend #2 Virtual Workshop. Parts A & B are the preceding Sundays\, November 12th and November 19th. Participants must complete a practical task  in between each workshop\, and must have completed RCA Coach Weekend #1 before attending this workshop. \nCost for the RCA Coach Weekend #2 Virtual Workshop (including Parts A\, B and C) is $250 \nRegistration: There are two steps to register\, so please make sure to complete both \n\nTo register on the Coaches Association of Canada please click here\nTo register with Rowing BC for the workshop please click here\n\nRegistrations close on October 10th\, 2023. There are 12 spots available so make sure to register early. All coach workshop participants are required by RCA to have completed the Every Coach Certified modules. More information can be found HERE. \nPlease reach out to Lisa Tschannen\, Rowing BC’s Manager of Education\, Innovation\, and Inclusion with any questions.
URL:https://rowingbc.ca/event/rca-coach-weekend-2-workshop-12/
CATEGORIES:Coach Workshops
END:VEVENT
END:VCALENDAR