BEGIN:VCALENDAR
VERSION:2.0
PRODID:-//Rowing British Columbia - ECPv6.15.12.2//NONSGML v1.0//EN
CALSCALE:GREGORIAN
METHOD:PUBLISH
X-WR-CALNAME:Rowing British Columbia
X-ORIGINAL-URL:https://rowingbc.ca
X-WR-CALDESC:Events for Rowing British Columbia
REFRESH-INTERVAL;VALUE=DURATION:PT1H
X-Robots-Tag:noindex
X-PUBLISHED-TTL:PT1H
BEGIN:VTIMEZONE
TZID:America/Vancouver
BEGIN:DAYLIGHT
TZOFFSETFROM:-0800
TZOFFSETTO:-0700
TZNAME:PDT
DTSTART:20230312T100000
END:DAYLIGHT
BEGIN:STANDARD
TZOFFSETFROM:-0700
TZOFFSETTO:-0800
TZNAME:PST
DTSTART:20231105T090000
END:STANDARD
BEGIN:DAYLIGHT
TZOFFSETFROM:-0800
TZOFFSETTO:-0700
TZNAME:PDT
DTSTART:20240310T100000
END:DAYLIGHT
BEGIN:STANDARD
TZOFFSETFROM:-0700
TZOFFSETTO:-0800
TZNAME:PST
DTSTART:20241103T090000
END:STANDARD
BEGIN:DAYLIGHT
TZOFFSETFROM:-0800
TZOFFSETTO:-0700
TZNAME:PDT
DTSTART:20250309T100000
END:DAYLIGHT
BEGIN:STANDARD
TZOFFSETFROM:-0700
TZOFFSETTO:-0800
TZNAME:PST
DTSTART:20251102T090000
END:STANDARD
END:VTIMEZONE
BEGIN:VEVENT
DTSTART;TZID=America/Vancouver:20240623T143000
DTEND;TZID=America/Vancouver:20240623T183000
DTSTAMP:20260420T224617
CREATED:20231017T233239Z
LAST-MODIFIED:20231128T235229Z
UID:10000344-1719153000-1719167400@rowingbc.ca
SUMMARY:WORKSHOP: RCA Learn to Row Coach Virtual Workshop (Part A)
DESCRIPTION:Location: Virtual \nDescription: RCA Learn to Row (LTR) Coach Virtual workshop (Part A)  Sunday\, June 23\, 2024\, from 2:30-6:30pm. This is the first part of the RCA LTR Coach Virtual workshop. Part B is the following Sunday\, June 30\, 2024. Participants must complete a practical task in between the two workshops. \nCost for the LTR Coach Virtual Workshop (including Part A and Part B) is $175. \nRegistration:  To register with Rowing BC for the workshop please click HERE \nRegistrations close on June 17\, 2024. There are 12 spots available so make sure to register early. All coach workshop participants are required by RCA to have completed the Every Coach Certified modules. More information can be found HERE. \nIf you are unable to attend this workshop\, please reach out to Lisa Tschannen\, Rowing BC’s Manager of Education\, Innovation\, and Inclusion for information about other options.
URL:https://rowingbc.ca/event/workshop-rca-learn-to-row-coach-virtual-workshop-part-a/
CATEGORIES:RCA Learn To Row Instructor Workshop
END:VEVENT
END:VCALENDAR