BEGIN:VCALENDAR
VERSION:2.0
PRODID:-//Rowing British Columbia - ECPv6.15.12.2//NONSGML v1.0//EN
CALSCALE:GREGORIAN
METHOD:PUBLISH
X-ORIGINAL-URL:https://rowingbc.ca
X-WR-CALDESC:Events for Rowing British Columbia
REFRESH-INTERVAL;VALUE=DURATION:PT1H
X-Robots-Tag:noindex
X-PUBLISHED-TTL:PT1H
BEGIN:VTIMEZONE
TZID:America/Vancouver
BEGIN:DAYLIGHT
TZOFFSETFROM:-0800
TZOFFSETTO:-0700
TZNAME:PDT
DTSTART:20240310T100000
END:DAYLIGHT
BEGIN:STANDARD
TZOFFSETFROM:-0700
TZOFFSETTO:-0800
TZNAME:PST
DTSTART:20241103T090000
END:STANDARD
BEGIN:DAYLIGHT
TZOFFSETFROM:-0800
TZOFFSETTO:-0700
TZNAME:PDT
DTSTART:20250309T100000
END:DAYLIGHT
BEGIN:STANDARD
TZOFFSETFROM:-0700
TZOFFSETTO:-0800
TZNAME:PST
DTSTART:20251102T090000
END:STANDARD
BEGIN:DAYLIGHT
TZOFFSETFROM:-0800
TZOFFSETTO:-0700
TZNAME:PDT
DTSTART:20260308T100000
END:DAYLIGHT
BEGIN:STANDARD
TZOFFSETFROM:-0700
TZOFFSETTO:-0800
TZNAME:PST
DTSTART:20261101T090000
END:STANDARD
END:VTIMEZONE
BEGIN:VEVENT
DTSTART;TZID=America/Vancouver:20250211T180000
DTEND;TZID=America/Vancouver:20250211T210000
DTSTAMP:20260420T084150
CREATED:20241023T204645Z
LAST-MODIFIED:20250129T204441Z
UID:10000563-1739296800-1739307600@rowingbc.ca
SUMMARY:RCA Coastal Coach Workshop - Virtual Component
DESCRIPTION:Location: Virtual on Zoom. \nDescription:  This workshop is the Virtual Component of RCA Coastal Coach Pathway. If you are coaching Coastal Rowers\, the Coach Certification pathway includes the RCA Coach Weekend 1 Workshop\, as well as the Coastal Coach Workshop Virtual Component\, and the Coastal Coach Workshop In-Person Component.  The Coastal Coach Workshops include modules onSafety (including Float Plans and Dynamic Risk Assessments)\, Beach Entry\, Training and Race Skills\, Rigging\, and Rules of Racing. \nDetails:  RCA Coastal Coach Virtual Component consists of two virtual sessions February 11 & 13 evenings (6-9pm PT).  \nCost for the Workshop is $75 \nRegistration:  To register with Rowing BC for the workshop please click HERE \nRegistrations close on February 5\, 2025. There are 12 spots available so make sure to register early. All coach workshop participants are required by RCA to have completed the Every Coach Certified modules. More information can be found HERE. \nIf you are unable to attend this workshop\, please reach out to Lisa Tschannen\, Rowing BC’s Manager of Education\, Innovation\, and Inclusion\, for information about other options.
URL:https://rowingbc.ca/event/rca-coastal-coach-workshop-virtual-component-2/
CATEGORIES:Coastal CoachWorkshops
END:VEVENT
BEGIN:VEVENT
DTSTART;TZID=America/Vancouver:20250213T180000
DTEND;TZID=America/Vancouver:20250213T210000
DTSTAMP:20260420T084150
CREATED:20241023T202740Z
LAST-MODIFIED:20250129T204330Z
UID:10000564-1739469600-1739480400@rowingbc.ca
SUMMARY:RCA Coastal Coach Workshop - Virtual Component
DESCRIPTION:Location: Virtual on Zoom. \nDescription:  This workshop is the Virtual Component of RCA Coastal Coach Pathway. If you are coaching Coastal Rowers\, the Coach Certification pathway includes the RCA Coach Weekend 1 Workshop\, as well as the Coastal Coach Workshop Virtual Component\, and the Coastal Coach Workshop In-Person Component.  The Coastal Coach Workshops include modules onSafety (including Float Plans and Dynamic Risk Assessments)\, Beach Entry\, Training and Race Skills\, Rigging\, and Rules of Racing. \nDetails:  RCA Coastal Coach Virtual Component consists of two virtual sessions February 11 & 13 evenings (6-9pm PT).  \nCost for the Workshop is $75 \nRegistration:  To register with Rowing BC for the workshop please click HERE \nRegistrations close on February 5\, 2025. There are 12 spots available so make sure to register early. All coach workshop participants are required by RCA to have completed the Every Coach Certified modules. More information can be found HERE. \nIf you are unable to attend this workshop\, please reach out to Lisa Tschannen\, Rowing BC’s Manager of Education\, Innovation\, and Inclusion\, for information about other options.
URL:https://rowingbc.ca/event/rca-coastal-coach-workshop-virtual-component/2025-02-13/
CATEGORIES:Coastal CoachWorkshops
END:VEVENT
BEGIN:VEVENT
DTSTART;TZID=America/Vancouver:20250222T080000
DTEND;TZID=America/Vancouver:20250223T170000
DTSTAMP:20260420T084150
CREATED:20241023T213748Z
LAST-MODIFIED:20250211T175731Z
UID:10000575-1740211200-1740330000@rowingbc.ca
SUMMARY:RCA Learn to Row Coach Workshop
DESCRIPTION:Location: Elk Lake Boathouse \nDescription: If you are coaching new rowers: These athletes are probably in the Learn-to-Train level of the Long Term Athlete Development Plan. An RCA Learn to Row Coach Workshop is the best place for you to look for education. In this workshop you will learn about and discuss: Safety\, Long Term Athlete Development\, Lesson planning\, Skills analysis\, Teaching and Learning\, Rigging\, and Modifying LTR lessons to meet the needs of your club and the participants. \nDetails: RCA LTR Coach Workshop with two in-person days February 22-23\, 2025. \nCost for the RCA LTR Coach Workshop is $200 \nRegistration:  To register with Rowing BC for the workshop please click HERE \nRegistrations close on February 17\, 2025. There are 12 spots available so make sure to register early. All coach workshop participants are required by RCA to have completed the Every Coach Certified modules. More information can be found HERE. \nIf you are unable to attend this workshop\, please reach out to Lisa Tschannen\, Rowing BC’s Manager of Education\, Innovation\, and Inclusion\, for information about other options.
URL:https://rowingbc.ca/event/rca-learn-to-row-coach-workshop-14/
CATEGORIES:RCA Learn To Row Instructor Workshop
END:VEVENT
END:VCALENDAR