BEGIN:VCALENDAR
VERSION:2.0
PRODID:-//Rowing British Columbia - ECPv6.15.12.2//NONSGML v1.0//EN
CALSCALE:GREGORIAN
METHOD:PUBLISH
X-WR-CALNAME:Rowing British Columbia
X-ORIGINAL-URL:https://rowingbc.ca
X-WR-CALDESC:Events for Rowing British Columbia
REFRESH-INTERVAL;VALUE=DURATION:PT1H
X-Robots-Tag:noindex
X-PUBLISHED-TTL:PT1H
BEGIN:VTIMEZONE
TZID:America/Vancouver
BEGIN:DAYLIGHT
TZOFFSETFROM:-0800
TZOFFSETTO:-0700
TZNAME:PDT
DTSTART:20240310T100000
END:DAYLIGHT
BEGIN:STANDARD
TZOFFSETFROM:-0700
TZOFFSETTO:-0800
TZNAME:PST
DTSTART:20241103T090000
END:STANDARD
BEGIN:DAYLIGHT
TZOFFSETFROM:-0800
TZOFFSETTO:-0700
TZNAME:PDT
DTSTART:20250309T100000
END:DAYLIGHT
BEGIN:STANDARD
TZOFFSETFROM:-0700
TZOFFSETTO:-0800
TZNAME:PST
DTSTART:20251102T090000
END:STANDARD
BEGIN:DAYLIGHT
TZOFFSETFROM:-0800
TZOFFSETTO:-0700
TZNAME:PDT
DTSTART:20260308T100000
END:DAYLIGHT
BEGIN:STANDARD
TZOFFSETFROM:-0700
TZOFFSETTO:-0800
TZNAME:PST
DTSTART:20261101T090000
END:STANDARD
END:VTIMEZONE
BEGIN:VEVENT
DTSTART;TZID=America/Vancouver:20250309T140000
DTEND;TZID=America/Vancouver:20250309T180000
DTSTAMP:20260420T064813
CREATED:20241023T205247Z
LAST-MODIFIED:20250225T195831Z
UID:10000571-1741528800-1741543200@rowingbc.ca
SUMMARY:RCA Coach Weekend 1 Workshop
DESCRIPTION:Location: Virtual \nDescription: If you are coaching club athletes in the Train-to-Train and Learn-to-Compete levels of the Long Term Athlete Development Plan\, RCA Coach Workshops for training and certification are the best starting point for you. In this workshop you will learn about and discuss: Safety\, Long Term Athlete Development\, Training plans\, Movement screening\, Skills Analysis\, Practice planning\, Support competition experiences\, and Rigging. This is the first workshop in this pathway. \nDetails: RCA Coach Weekend #1 Workshop with three virtual sessions on March 9\, 16\, & 23\, 2025. \nCost for the RCA Coach Weekend #1 Workshop is $300.00 \nRegistration:  To register with Rowing BC for the workshop please click HERE \nRegistrations close on March 3\, 2025. There are 12 spots available so make sure to register early. All coach workshop participants are required by RCA to have completed the Every Coach Certified modules. More information can be found HERE. \nIf you are unable to attend this workshop\, please reach out to Lisa Tschannen\, Rowing BC’s Manager of Education\, Innovation\, and Inclusion\, for information about other options.
URL:https://rowingbc.ca/event/rca-coach-weekend-1-workshop-10/2025-03-09/
CATEGORIES:RCA Coach Workshops
END:VEVENT
BEGIN:VEVENT
DTSTART;TZID=America/Vancouver:20250315T080000
DTEND;TZID=America/Vancouver:20250315T170000
DTSTAMP:20260420T064813
CREATED:20241023T203356Z
LAST-MODIFIED:20250221T230404Z
UID:10000565-1742025600-1742058000@rowingbc.ca
SUMMARY:RCA Coastal Coach Workshop - In-Person Component
DESCRIPTION:Location: Cadboro Bay in Victoria\, BC \nDescription:  This workshop is the In-Person Component of RCA Coastal Coach Pathway. \nIf you are coaching Coastal Rowers\, the Coach Certification pathway includes the RCA Coach Weekend 1 Workshop\, as well as the Coastal Coach Workshop Virtual Component\, and the Coastal Coach Workshop In-Person Component.  The Coastal Coach Workshops include modules on Safety (including Float Plans and Dynamic Risk Assessments)\, Beach Entry\, Training and Race Skills\, Rigging\, and Rules of Racing. \nDetails:  RCA Coastal Coach In-Person Component consists of a full day workshop in-person  \nCost for the Workshop is $75 \nRegistration:  To register with Rowing BC for the workshop please click HERE \nRegistrations close on March 5\, 2025. There are 12 spots available so make sure to register early. All coach workshop participants are required by RCA to have completed the Every Coach Certified modules. More information can be found HERE. The Virtual Component workshop is required before doing the In-Person Component. \nIf you are unable to attend this workshop\, please reach out to Lisa Tschannen\, Rowing BC’s Manager of Education\, Innovation\, and Inclusion\, for information about other options.
URL:https://rowingbc.ca/event/rca-coastal-coach-workshop-in-person-component/
CATEGORIES:Coastal CoachWorkshops
END:VEVENT
BEGIN:VEVENT
DTSTART;TZID=America/Vancouver:20250316T140000
DTEND;TZID=America/Vancouver:20250316T180000
DTSTAMP:20260420T064813
CREATED:20241023T205247Z
LAST-MODIFIED:20250225T195831Z
UID:10000570-1742133600-1742148000@rowingbc.ca
SUMMARY:RCA Coach Weekend 1 Workshop
DESCRIPTION:Location: Virtual \nDescription: If you are coaching club athletes in the Train-to-Train and Learn-to-Compete levels of the Long Term Athlete Development Plan\, RCA Coach Workshops for training and certification are the best starting point for you. In this workshop you will learn about and discuss: Safety\, Long Term Athlete Development\, Training plans\, Movement screening\, Skills Analysis\, Practice planning\, Support competition experiences\, and Rigging. This is the first workshop in this pathway. \nDetails: RCA Coach Weekend #1 Workshop with three virtual sessions on March 9\, 16\, & 23\, 2025. \nCost for the RCA Coach Weekend #1 Workshop is $300.00 \nRegistration:  To register with Rowing BC for the workshop please click HERE \nRegistrations close on March 3\, 2025. There are 12 spots available so make sure to register early. All coach workshop participants are required by RCA to have completed the Every Coach Certified modules. More information can be found HERE. \nIf you are unable to attend this workshop\, please reach out to Lisa Tschannen\, Rowing BC’s Manager of Education\, Innovation\, and Inclusion\, for information about other options.
URL:https://rowingbc.ca/event/rca-coach-weekend-1-workshop-10/2025-03-16/
CATEGORIES:RCA Coach Workshops
END:VEVENT
BEGIN:VEVENT
DTSTART;TZID=America/Vancouver:20250323T140000
DTEND;TZID=America/Vancouver:20250323T180000
DTSTAMP:20260420T064813
CREATED:20241023T205247Z
LAST-MODIFIED:20250225T195831Z
UID:10000572-1742738400-1742752800@rowingbc.ca
SUMMARY:RCA Coach Weekend 1 Workshop
DESCRIPTION:Location: Virtual \nDescription: If you are coaching club athletes in the Train-to-Train and Learn-to-Compete levels of the Long Term Athlete Development Plan\, RCA Coach Workshops for training and certification are the best starting point for you. In this workshop you will learn about and discuss: Safety\, Long Term Athlete Development\, Training plans\, Movement screening\, Skills Analysis\, Practice planning\, Support competition experiences\, and Rigging. This is the first workshop in this pathway. \nDetails: RCA Coach Weekend #1 Workshop with three virtual sessions on March 9\, 16\, & 23\, 2025. \nCost for the RCA Coach Weekend #1 Workshop is $300.00 \nRegistration:  To register with Rowing BC for the workshop please click HERE \nRegistrations close on March 3\, 2025. There are 12 spots available so make sure to register early. All coach workshop participants are required by RCA to have completed the Every Coach Certified modules. More information can be found HERE. \nIf you are unable to attend this workshop\, please reach out to Lisa Tschannen\, Rowing BC’s Manager of Education\, Innovation\, and Inclusion\, for information about other options.
URL:https://rowingbc.ca/event/rca-coach-weekend-1-workshop-10/2025-03-23/
CATEGORIES:RCA Coach Workshops
END:VEVENT
END:VCALENDAR