BEGIN:VCALENDAR
VERSION:2.0
PRODID:-//Rowing British Columbia - ECPv6.15.12.2//NONSGML v1.0//EN
CALSCALE:GREGORIAN
METHOD:PUBLISH
X-WR-CALNAME:Rowing British Columbia
X-ORIGINAL-URL:https://rowingbc.ca
X-WR-CALDESC:Events for Rowing British Columbia
REFRESH-INTERVAL;VALUE=DURATION:PT1H
X-Robots-Tag:noindex
X-PUBLISHED-TTL:PT1H
BEGIN:VTIMEZONE
TZID:America/Vancouver
BEGIN:DAYLIGHT
TZOFFSETFROM:-0800
TZOFFSETTO:-0700
TZNAME:PDT
DTSTART:20250309T100000
END:DAYLIGHT
BEGIN:STANDARD
TZOFFSETFROM:-0700
TZOFFSETTO:-0800
TZNAME:PST
DTSTART:20251102T090000
END:STANDARD
BEGIN:DAYLIGHT
TZOFFSETFROM:-0800
TZOFFSETTO:-0700
TZNAME:PDT
DTSTART:20260308T100000
END:DAYLIGHT
BEGIN:STANDARD
TZOFFSETFROM:-0700
TZOFFSETTO:-0800
TZNAME:PST
DTSTART:20261101T090000
END:STANDARD
BEGIN:DAYLIGHT
TZOFFSETFROM:-0800
TZOFFSETTO:-0700
TZNAME:PDT
DTSTART:20270314T100000
END:DAYLIGHT
BEGIN:STANDARD
TZOFFSETFROM:-0700
TZOFFSETTO:-0800
TZNAME:PST
DTSTART:20271107T090000
END:STANDARD
END:VTIMEZONE
BEGIN:VEVENT
DTSTART;VALUE=DATE:20260614
DTEND;VALUE=DATE:20260615
DTSTAMP:20260419T085410
CREATED:20250923T190812Z
LAST-MODIFIED:20260302T230502Z
UID:10000617-1781395200-1781481599@rowingbc.ca
SUMMARY:WORKSHOP: RCA Learn to Row Coach Workshop
DESCRIPTION:Workshop Overview: \nThe RCA Learn to Row Coach Workshop is intended for coaches who will be working with beginner athletes (those in the Learn to Train stage of Long Term Athlete Development). \nIn this workshop you will learn about and discuss: safety\, analyzing the rowing stroke\, Long Term Athlete Development\, lesson planning\, skills analysis\, teaching and learning\, rigging\, para rowing\, and modifying Learn to Row lessons to meet the needs of your club and the participants. \nFollowing completion of this workshop you will be “RCA Learn to Row Coach Trained”. \nDetails:  \nThis workshop will be delivered in multiple formats on this same date: \n\nVictoria In-person Workshop 9 AM – 5 PM – Register HERE\nVancouver In-person Workshop 9 AM – 5 PM – Register HERE\nVernon In-person Workshop 9 AM – 5 PM – Register HERE\n\nRegistration:  Registration and payment ($225 workshop fee) is available through the EventBrite links above. \nRegistration will close on Friday\, May 29\, 2026. Each workshop offering requires a minimum of 6 participants in order to proceed. If there are fewer than 6 registrants for a given option at the time that registration closes\, every effort will be made to include those participants in an option that will be running. Contact memberservices@rowingbc.ca if you have missed the deadline and want to know more about other upcoming opportunities. \nPre-requisites:  \nBefore taking this workshop\, all coaches must have completed the following RCA Every Coach Certified Requirements: \n\nCriminal Record Check\nNCCP Coach Initiation In Sport (Online Module)\nRCA Rowing Essentials (Online Module)\nMaking Ethical Decisions Module (Multiple Delivery Options Available)\n\nInformation about how to complete each of these requirements is available HERE. \nIn addition\, coaches are expected to have a Pleasure Craft Operator’s Card. \n\nHave further questions? Reach out! \nAdditional information about the Coach Pathway is available HERE.
URL:https://rowingbc.ca/event/workshop-rca-learn-to-row-coach-workshop-2/
CATEGORIES:Coach Workshops
END:VEVENT
END:VCALENDAR