BEGIN:VCALENDAR
VERSION:2.0
PRODID:-//Rowing British Columbia - ECPv6.15.12.2//NONSGML v1.0//EN
CALSCALE:GREGORIAN
METHOD:PUBLISH
X-WR-CALNAME:Rowing British Columbia
X-ORIGINAL-URL:https://rowingbc.ca
X-WR-CALDESC:Events for Rowing British Columbia
REFRESH-INTERVAL;VALUE=DURATION:PT1H
X-Robots-Tag:noindex
X-PUBLISHED-TTL:PT1H
BEGIN:VTIMEZONE
TZID:America/Vancouver
BEGIN:DAYLIGHT
TZOFFSETFROM:-0800
TZOFFSETTO:-0700
TZNAME:PDT
DTSTART:20240310T100000
END:DAYLIGHT
BEGIN:STANDARD
TZOFFSETFROM:-0700
TZOFFSETTO:-0800
TZNAME:PST
DTSTART:20241103T090000
END:STANDARD
BEGIN:DAYLIGHT
TZOFFSETFROM:-0800
TZOFFSETTO:-0700
TZNAME:PDT
DTSTART:20250309T100000
END:DAYLIGHT
BEGIN:STANDARD
TZOFFSETFROM:-0700
TZOFFSETTO:-0800
TZNAME:PST
DTSTART:20251102T090000
END:STANDARD
BEGIN:DAYLIGHT
TZOFFSETFROM:-0800
TZOFFSETTO:-0700
TZNAME:PDT
DTSTART:20260308T100000
END:DAYLIGHT
BEGIN:STANDARD
TZOFFSETFROM:-0700
TZOFFSETTO:-0800
TZNAME:PST
DTSTART:20261101T090000
END:STANDARD
END:VTIMEZONE
BEGIN:VEVENT
DTSTART;VALUE=DATE:20251130
DTEND;VALUE=DATE:20251201
DTSTAMP:20260424T020348
CREATED:20251027T221139Z
LAST-MODIFIED:20251027T222156Z
UID:10000656-1764460800-1764547199@rowingbc.ca
SUMMARY:WORKSHOP: Intro to coaching para programs
DESCRIPTION:WHO:  \nThis workshop has been specifically created to support coaches involved in the Row-to-Grow program as well as any other coaches who are curious about offering para programs. \nWHAT:  \nYou’ll leave knowing more about: \n\nhow to structure initial experiences for this participant population\nhow to create meaningful alignment with other programs offered at your club\nhow to make individualized equipment adjustments\nand more!\n\nWHERE:  \nLower Mainland\, location TBA* \n*A travel subsidy is available for coaches from outside of the Lower Mainland who will need to take the ferry in order to attend. Contact memberservices@rowingbc.ca for more details \nWHEN:  \nSunday\, November 30th 10 AM – 2 PM \nSIGN UP:  \nThere is no cost to attend this workshop! Please sign up HERE so we can communicate details with you in advance of the workshop.
URL:https://rowingbc.ca/event/workshop-intro-to-coaching-para-programs/
CATEGORIES:RCA Learn To Row Instructor Para Module
END:VEVENT
END:VCALENDAR