BEGIN:VCALENDAR
VERSION:2.0
PRODID:-//Rowing British Columbia - ECPv6.15.12.2//NONSGML v1.0//EN
CALSCALE:GREGORIAN
METHOD:PUBLISH
X-ORIGINAL-URL:https://rowingbc.ca
X-WR-CALDESC:Events for Rowing British Columbia
REFRESH-INTERVAL;VALUE=DURATION:PT1H
X-Robots-Tag:noindex
X-PUBLISHED-TTL:PT1H
BEGIN:VTIMEZONE
TZID:America/Vancouver
BEGIN:DAYLIGHT
TZOFFSETFROM:-0800
TZOFFSETTO:-0700
TZNAME:PDT
DTSTART:20230312T100000
END:DAYLIGHT
BEGIN:STANDARD
TZOFFSETFROM:-0700
TZOFFSETTO:-0800
TZNAME:PST
DTSTART:20231105T090000
END:STANDARD
BEGIN:DAYLIGHT
TZOFFSETFROM:-0800
TZOFFSETTO:-0700
TZNAME:PDT
DTSTART:20240310T100000
END:DAYLIGHT
BEGIN:STANDARD
TZOFFSETFROM:-0700
TZOFFSETTO:-0800
TZNAME:PST
DTSTART:20241103T090000
END:STANDARD
BEGIN:DAYLIGHT
TZOFFSETFROM:-0800
TZOFFSETTO:-0700
TZNAME:PDT
DTSTART:20250309T100000
END:DAYLIGHT
BEGIN:STANDARD
TZOFFSETFROM:-0700
TZOFFSETTO:-0800
TZNAME:PST
DTSTART:20251102T090000
END:STANDARD
END:VTIMEZONE
BEGIN:VEVENT
DTSTART;VALUE=DATE:20240406
DTEND;VALUE=DATE:20240407
DTSTAMP:20260425T111346
CREATED:20231125T001809Z
LAST-MODIFIED:20240227T172136Z
UID:10000480-1712361600-1712447999@rowingbc.ca
SUMMARY:REGATTA: Brown Cup
DESCRIPTION:Brown Cup hosted by University of Victoria  \nLocation: Gorge Waterway\, Victoria \nDescription: This is an annual contest between UBC and UVIC\, started in 1991. The format of the race is a dual style head-to-head race where two crews start side by side and race the best line over the set distance on either the Gorge Waterway or the Fraser River. Watched live around the world\, the Brown Cup Races have become a fixture in the Canadian rowing calendar.  \nMore information available on Regatta Central.
URL:https://rowingbc.ca/event/regatta-brown-cup-2/
CATEGORIES:Regattas
END:VEVENT
BEGIN:VEVENT
DTSTART;VALUE=DATE:20240413
DTEND;VALUE=DATE:20240414
DTSTAMP:20260425T111346
CREATED:20231127T201238Z
LAST-MODIFIED:20231127T201238Z
UID:10000482-1712966400-1713052799@rowingbc.ca
SUMMARY:REGATTA: Head of the Fort
DESCRIPTION:Head of the Fort hosted by Fort Langley Community Rowing Club.  \nLocation: Bedford Channel\, Fort Langley \nDescription: This event is intended to provide a start-of-season racing opportunity on the Lower Mainland incorporating both 4000m head racing and 700m sprint racing. For development athletes\, this is a great chance to be exposed to multiple types of racing and learn more about competition. For experienced athletes\, coaches can choose to enter one or both race categories depending on what type of early-season opportunities the athletes need in order to be prepared for other upcoming events. \nRegistration: Registration and more information available on Regatta Central (search Head of the Fort under Canadian Regattas). \nQuestions can be directed to Local Organizing Committee Chair\, Lisa Samuel.
URL:https://rowingbc.ca/event/regatta-head-of-the-fort-2/
CATEGORIES:Regattas
END:VEVENT
BEGIN:VEVENT
DTSTART;VALUE=DATE:20240413
DTEND;VALUE=DATE:20240414
DTSTAMP:20260425T111346
CREATED:20240223T181913Z
LAST-MODIFIED:20240328T193843Z
UID:10000518-1712966400-1713052799@rowingbc.ca
SUMMARY:REGATTA: Sts/VC Boatrace
DESCRIPTION:Sts/VC Boatrace hosted by St. George’s School Rowing and Vancouver College Rowing.  \nLocation: Middle Arm of the Fraser River (Richmond) and False Creek (Vancouver) on alternating years \nDescription: This annual event provides an exciting competitive opportunity for the two Lower Mainland boy’s private schools to go head to head on the Fraser River in duel-style racing.  \nRegistration: This event is open only to the Sts and VC teams. \n 
URL:https://rowingbc.ca/event/regatta-sts-vc-boatrace-2/
CATEGORIES:Regattas
END:VEVENT
BEGIN:VEVENT
DTSTART;VALUE=DATE:20240413
DTEND;VALUE=DATE:20240415
DTSTAMP:20260425T111346
CREATED:20231127T201143Z
LAST-MODIFIED:20240227T172322Z
UID:10000481-1712966400-1713139199@rowingbc.ca
SUMMARY:REGATTA: Maple Bay Regatta
DESCRIPTION:Maple Bay Regatta hosted by Maple Bay Rowing Club.  \nLocation: Quamichan Lake\, Duncan \nDescription: This 1500m race is intended to provide racing experience to new athletes\, and to those with 2-3 years experience. It is primarily attended by athletes from Vancouver Island. Athletes attend for the race experience\, and for the relaxed atmosphere that allows a balance between focusing on racing and fun. This event usually feeds into the progression of regattas every two weeks on Vancouver Island between April and June\, with many of the same athletes attending the series.  \nRegistration: Registration and more information available on Regatta Central. \nQuestions can be directed to Local Organizing Committee Chair\, Dave Symonds.
URL:https://rowingbc.ca/event/regatta-maple-bay-regatta-2/
CATEGORIES:Regattas
END:VEVENT
BEGIN:VEVENT
DTSTART;VALUE=DATE:20240421
DTEND;VALUE=DATE:20240422
DTSTAMP:20260425T111346
CREATED:20231127T201347Z
LAST-MODIFIED:20240223T183804Z
UID:10000483-1713657600-1713743999@rowingbc.ca
SUMMARY:REGATTA: Cadborosaurus Coastal Endurance Regatta
DESCRIPTION:Cadborosaurus Coastal Endurance Regatta hosted by OARCA Coastal Rowing \nLocation: Cadboro Bay\, Saanich \nDescription: Intended to provide a first race of the season for coastal rowers from across the province on a World Rowing endurance-length course. \nRegistration: Registration and more information available on Regatta Central. \nQuestions can be directed to Local Organizing Committee Chair\, York Langerfeld.
URL:https://rowingbc.ca/event/regatta-cadborosaurus-coastal-regatta-2/
CATEGORIES:Regattas
END:VEVENT
BEGIN:VEVENT
DTSTART;VALUE=DATE:20240426
DTEND;VALUE=DATE:20240429
DTSTAMP:20260425T111346
CREATED:20231127T204729Z
LAST-MODIFIED:20240223T183517Z
UID:10000485-1714089600-1714348799@rowingbc.ca
SUMMARY:REGATTA: Brentwood Regatta
DESCRIPTION:Brentwood Regatta hosted by Brentwood College School Rowing.  \nLocation: Brentwood College School (2735 Mt Baker Rd\, Mill Bay\, BC) \nDescription: The 1500m Brentwood Regatta has been held annually since 1971. This international event is attended by Junior rowers from schools and clubs across BC and the Pacific Northwest of the US. For many\, this is the pinnacle event of the Spring season\, and it also functions as the qualification regatta for Canadian crews to qualify for Windermere Cup. Aside from the racing\, people attend for the experience of the regatta – teams sleep in the gym or classrooms at the school and spend their entire regatta weekend on the campus with on-land events planned throughout the days and evenings.  \nRegistration: Registration and more information available on Regatta Central. \nQuestions can be directed to Local Organizing Committee Chair\, David Calder.
URL:https://rowingbc.ca/event/regatta-brentwood-regatta-2/
CATEGORIES:Regattas
END:VEVENT
END:VCALENDAR