BEGIN:VCALENDAR
VERSION:2.0
PRODID:-//Rowing British Columbia - ECPv6.15.12.2//NONSGML v1.0//EN
CALSCALE:GREGORIAN
METHOD:PUBLISH
X-ORIGINAL-URL:https://rowingbc.ca
X-WR-CALDESC:Events for Rowing British Columbia
REFRESH-INTERVAL;VALUE=DURATION:PT1H
X-Robots-Tag:noindex
X-PUBLISHED-TTL:PT1H
BEGIN:VTIMEZONE
TZID:America/Vancouver
BEGIN:DAYLIGHT
TZOFFSETFROM:-0800
TZOFFSETTO:-0700
TZNAME:PDT
DTSTART:20230312T100000
END:DAYLIGHT
BEGIN:STANDARD
TZOFFSETFROM:-0700
TZOFFSETTO:-0800
TZNAME:PST
DTSTART:20231105T090000
END:STANDARD
BEGIN:DAYLIGHT
TZOFFSETFROM:-0800
TZOFFSETTO:-0700
TZNAME:PDT
DTSTART:20240310T100000
END:DAYLIGHT
BEGIN:STANDARD
TZOFFSETFROM:-0700
TZOFFSETTO:-0800
TZNAME:PST
DTSTART:20241103T090000
END:STANDARD
BEGIN:DAYLIGHT
TZOFFSETFROM:-0800
TZOFFSETTO:-0700
TZNAME:PDT
DTSTART:20250309T100000
END:DAYLIGHT
BEGIN:STANDARD
TZOFFSETFROM:-0700
TZOFFSETTO:-0800
TZNAME:PST
DTSTART:20251102T090000
END:STANDARD
END:VTIMEZONE
BEGIN:VEVENT
DTSTART;VALUE=DATE:20240510
DTEND;VALUE=DATE:20240513
DTSTAMP:20260425T123926
CREATED:20231127T205045Z
LAST-MODIFIED:20240429T222327Z
UID:10000486-1715299200-1715558399@rowingbc.ca
SUMMARY:REGATTA: Shawnigan Regatta
DESCRIPTION:Shawnigan Regatta hosted by Shawnigan Lake School Rowing.  \nLocation: Shawnigan Lake School (1975 Renfrew Rd\, Shawnigan Lake\, BC) \nDescription: This 2000m regatta is for highschool athletes racing for their clubs or schools. It is the last big local regatta on Vancouver Island in the Spring season\, and a final chance for a tune up before some teams head to the Canadian Secondary School Regatta. Athletes attending this regatta will often first attend the Maple Bay Regatta and Brentwood Regatta\, then attend the Shawnigan Lake Regatta\, possibly before attending the Canadian Secondary School Regatta. Participants come from across BC. Hosted in a park\, this regatta has a garden picnic atmosphere that is nice for spectators.  \nRegistration: Registration and more information available on Regatta Central \nQuestions can be directed to Local Organizing Committee Chair\, Jennifer Parfitt.
URL:https://rowingbc.ca/event/regatta-shawnigan-regatta-2/
CATEGORIES:Regattas
END:VEVENT
BEGIN:VEVENT
DTSTART;VALUE=DATE:20240525
DTEND;VALUE=DATE:20240526
DTSTAMP:20260425T123926
CREATED:20231127T205146Z
LAST-MODIFIED:20240326T180114Z
UID:10000487-1716595200-1716681599@rowingbc.ca
SUMMARY:REGATTA: Nanaimo Sprints
DESCRIPTION:Nanaimo Sprints hosted by Nanaimo Rowing Club.  \nLocation: Long Lake\, Nanaimo \nDescription: This 1000m event was created as an opportunity to end the Spring season specifically for JR athletes not planning to attend the Canadian Secondary School Rowing Association Regatta. While performance athletes are welcome\, the focus is on the development of novice and JV athletes. This regatta is being expanded to also include opportunities for SR and MA athletes looking for additional race opportunities at this point in the season. For JR athletes\, this event is a sister event to the Delta Deas Scholastic Regatta.  \nRegistration: Registration and more information available on Regatta Central. \nQuestions can be directed to Local Organizing Committee Chair\, Craig Rutherford.
URL:https://rowingbc.ca/event/regatta-nanaimo-sprints-2/
CATEGORIES:Regattas
END:VEVENT
BEGIN:VEVENT
DTSTART;VALUE=DATE:20240525
DTEND;VALUE=DATE:20240527
DTSTAMP:20260425T123926
CREATED:20231127T205250Z
LAST-MODIFIED:20240326T180357Z
UID:10000488-1716595200-1716767999@rowingbc.ca
SUMMARY:REGATTA: Delta Deas Scholastic Regatta
DESCRIPTION:Delta Deas Scholastic Regatta hosted by Delta Deas Rowing Club.  \nLocation: Deas Slough\, Delta \nDescription: This 1000m event is an opportunity to end the Spring season specifically for JR athletes not planning to attend the Canadian Secondary School Rowing Association Regatta. While performance athletes are welcome\, the focus is on the development of novice and JV athletes. This event is a sister event to the Nanaimo Sprints Regatta.  \nRegistration: Registration and more information available on Regatta Central \nQuestions can be directed to Local Organizing Committee Chair\, Helen Healey.
URL:https://rowingbc.ca/event/regatta-delta-deas-scholastic-regatta-2/
CATEGORIES:Regattas
END:VEVENT
END:VCALENDAR