BEGIN:VCALENDAR
VERSION:2.0
PRODID:-//Rowing British Columbia - ECPv6.15.12.2//NONSGML v1.0//EN
CALSCALE:GREGORIAN
METHOD:PUBLISH
X-WR-CALNAME:Rowing British Columbia
X-ORIGINAL-URL:https://rowingbc.ca
X-WR-CALDESC:Events for Rowing British Columbia
REFRESH-INTERVAL;VALUE=DURATION:PT1H
X-Robots-Tag:noindex
X-PUBLISHED-TTL:PT1H
BEGIN:VTIMEZONE
TZID:America/Vancouver
BEGIN:DAYLIGHT
TZOFFSETFROM:-0800
TZOFFSETTO:-0700
TZNAME:PDT
DTSTART:20230312T100000
END:DAYLIGHT
BEGIN:STANDARD
TZOFFSETFROM:-0700
TZOFFSETTO:-0800
TZNAME:PST
DTSTART:20231105T090000
END:STANDARD
BEGIN:DAYLIGHT
TZOFFSETFROM:-0800
TZOFFSETTO:-0700
TZNAME:PDT
DTSTART:20240310T100000
END:DAYLIGHT
BEGIN:STANDARD
TZOFFSETFROM:-0700
TZOFFSETTO:-0800
TZNAME:PST
DTSTART:20241103T090000
END:STANDARD
BEGIN:DAYLIGHT
TZOFFSETFROM:-0800
TZOFFSETTO:-0700
TZNAME:PDT
DTSTART:20250309T100000
END:DAYLIGHT
BEGIN:STANDARD
TZOFFSETFROM:-0700
TZOFFSETTO:-0800
TZNAME:PST
DTSTART:20251102T090000
END:STANDARD
END:VTIMEZONE
BEGIN:VEVENT
DTSTART;VALUE=DATE:20240615
DTEND;VALUE=DATE:20240616
DTSTAMP:20260425T144841
CREATED:20231128T231813Z
LAST-MODIFIED:20240429T222532Z
UID:10000491-1718409600-1718495999@rowingbc.ca
SUMMARY:REGATTA: Lap the Lake
DESCRIPTION:Lap the Lake hosted by Vernon Rowing and Dragon Boat Club.  \nLocation: Swan Lake\, Vernon \nDescription: This regatta follows a unique format with 3500m racing in the morning\, followed by a regatta BBQ\, and 500m racing after lunch. This event is primarily attended by teams from the Interior\, as an important chance to race and connect as a community. It is also attended by teams from the Lower Mainland looking for a friendly racing opportunity where each athlete will have more than one chance to race. This event is appropriate for beginners and those who like to row for fun. In addition to the regatta\, a special topic speaker or professional development session is usually planned in association with the regatta to make it a fun-filled racing and learning weekend.  \nRegistration: Registration and more information available on Regatta Central. \nQuestions can be directed to Local Organizing Committee Chair\, Algis Masys
URL:https://rowingbc.ca/event/regatta-lap-the-lake-2/
CATEGORIES:Regattas
END:VEVENT
BEGIN:VEVENT
DTSTART;VALUE=DATE:20240629
DTEND;VALUE=DATE:20240701
DTSTAMP:20260425T144841
CREATED:20231127T205512Z
LAST-MODIFIED:20240429T213200Z
UID:10000489-1719619200-1719791999@rowingbc.ca
SUMMARY:REGATTA: Western Canadian Beach Sprint Regatta
DESCRIPTION:Western Canadian Beach Sprint Championships hosted by OARCA.  \nLocation: Colwood Waterfront \nDescription: This event is part of the Rowing Canada Aviron Beach Sprint Tour. Beach sprint athletes who want to be considered for the National Team\, should participate in their regional event. \nRegistration: Registration and more information available on Regatta Central. \nQuestions can be directed to Local Organizing Committee Chair\, Michelle Boss.
URL:https://rowingbc.ca/event/regatta-western-canadian-beach-sprint-regatta-2/
CATEGORIES:Regattas
END:VEVENT
END:VCALENDAR