BEGIN:VCALENDAR
VERSION:2.0
PRODID:-//Rowing British Columbia - ECPv6.15.12.2//NONSGML v1.0//EN
CALSCALE:GREGORIAN
METHOD:PUBLISH
X-ORIGINAL-URL:https://rowingbc.ca
X-WR-CALDESC:Events for Rowing British Columbia
REFRESH-INTERVAL;VALUE=DURATION:PT1H
X-Robots-Tag:noindex
X-PUBLISHED-TTL:PT1H
BEGIN:VTIMEZONE
TZID:America/Vancouver
BEGIN:DAYLIGHT
TZOFFSETFROM:-0800
TZOFFSETTO:-0700
TZNAME:PDT
DTSTART:20230312T100000
END:DAYLIGHT
BEGIN:STANDARD
TZOFFSETFROM:-0700
TZOFFSETTO:-0800
TZNAME:PST
DTSTART:20231105T090000
END:STANDARD
BEGIN:DAYLIGHT
TZOFFSETFROM:-0800
TZOFFSETTO:-0700
TZNAME:PDT
DTSTART:20240310T100000
END:DAYLIGHT
BEGIN:STANDARD
TZOFFSETFROM:-0700
TZOFFSETTO:-0800
TZNAME:PST
DTSTART:20241103T090000
END:STANDARD
BEGIN:DAYLIGHT
TZOFFSETFROM:-0800
TZOFFSETTO:-0700
TZNAME:PDT
DTSTART:20250309T100000
END:DAYLIGHT
BEGIN:STANDARD
TZOFFSETFROM:-0700
TZOFFSETTO:-0800
TZNAME:PST
DTSTART:20251102T090000
END:STANDARD
END:VTIMEZONE
BEGIN:VEVENT
DTSTART;VALUE=DATE:20240914
DTEND;VALUE=DATE:20240916
DTSTAMP:20260425T193050
CREATED:20231128T233818Z
LAST-MODIFIED:20231128T233818Z
UID:10000497-1726272000-1726444799@rowingbc.ca
SUMMARY:REGATTA: Cascadia Coastal Beach Sprints and Endurance Regatta
DESCRIPTION:Cascadia Coastal Beach Sprints and Endurance Regatta hosted by Cascadia Regatta Association. \nLocation: Kitsilano Beach\, Vancouver \nDescription: Beach sprint events will take place over two days. An endurance race will run on Sunday morning. \nRegistration: Registration and more information available on Regatta Central (search Cascadia Coastal Beach Sprints and Endurance Regatta under Canadian Regattas). \nQuestions can be directed to Local Organizing Committee Chairs\, Shelley Fletcher and Bill Myra.
URL:https://rowingbc.ca/event/regatta-cascadia-coastal-beach-sprints-and-endurance-regatta-2/
CATEGORIES:Regattas
END:VEVENT
BEGIN:VEVENT
DTSTART;VALUE=DATE:20240921
DTEND;VALUE=DATE:20240922
DTSTAMP:20260425T193050
CREATED:20231128T234015Z
LAST-MODIFIED:20240724T215447Z
UID:10000499-1726876800-1726963199@rowingbc.ca
SUMMARY:REGATTA: Head of the Nicomekl
DESCRIPTION:Head of the Nicomekl hosted by Nicomekl Rowing Club.  \nLocation: Nicomekl Rowing Club (13723 Crescent Rd\, Surrey\, BC) \nDescription: This is a friendly regatta\, great for first time regatta experience\, and also for those preparing for the Head of the Charles Regatta wanting experience on a windy river course. The day consists of two 6000m races. One where participants race against rowers in their own boat class\, and the second where a handicap system is used to compare all boat classes against each other for an overall winner. Athletes can enter both races\, and many do. Participants attend because of the beautiful river and challenging course\, the ability to enter two races on the same day\, and the welcoming friendly regatta environment. \nRegistration: Registration and more information available on Regatta Central. \nQuestions can be directed to Local Organizing Committee Chair\, Helen Healey.
URL:https://rowingbc.ca/event/regatta-head-of-the-nicomekl-3/
CATEGORIES:Regattas
END:VEVENT
END:VCALENDAR