BEGIN:VCALENDAR
VERSION:2.0
PRODID:-//Rowing British Columbia - ECPv6.15.12.2//NONSGML v1.0//EN
CALSCALE:GREGORIAN
METHOD:PUBLISH
X-WR-CALNAME:Rowing British Columbia
X-ORIGINAL-URL:https://rowingbc.ca
X-WR-CALDESC:Events for Rowing British Columbia
REFRESH-INTERVAL;VALUE=DURATION:PT1H
X-Robots-Tag:noindex
X-PUBLISHED-TTL:PT1H
BEGIN:VTIMEZONE
TZID:America/Vancouver
BEGIN:DAYLIGHT
TZOFFSETFROM:-0800
TZOFFSETTO:-0700
TZNAME:PDT
DTSTART:20230312T100000
END:DAYLIGHT
BEGIN:STANDARD
TZOFFSETFROM:-0700
TZOFFSETTO:-0800
TZNAME:PST
DTSTART:20231105T090000
END:STANDARD
BEGIN:DAYLIGHT
TZOFFSETFROM:-0800
TZOFFSETTO:-0700
TZNAME:PDT
DTSTART:20240310T100000
END:DAYLIGHT
BEGIN:STANDARD
TZOFFSETFROM:-0700
TZOFFSETTO:-0800
TZNAME:PST
DTSTART:20241103T090000
END:STANDARD
BEGIN:DAYLIGHT
TZOFFSETFROM:-0800
TZOFFSETTO:-0700
TZNAME:PDT
DTSTART:20250309T100000
END:DAYLIGHT
BEGIN:STANDARD
TZOFFSETFROM:-0700
TZOFFSETTO:-0800
TZNAME:PST
DTSTART:20251102T090000
END:STANDARD
END:VTIMEZONE
BEGIN:VEVENT
DTSTART;VALUE=DATE:20241108
DTEND;VALUE=DATE:20241111
DTSTAMP:20260422T152602
CREATED:20241016T181302Z
LAST-MODIFIED:20241024T220422Z
UID:10000559-1731024000-1731283199@rowingbc.ca
SUMMARY:CAMP: Performance Camp (Victoria)
DESCRIPTION:The Rowing BC Junior Performance Camps provide performance oriented athletes\, in the Long Term Athlete Development (LTAD) Train to Compete Stage\, to join some of the top Junior Athletes in British Columbia. Included will be BC’s next wave of Junior Athletes with aspirations to row at the highest levels\, BC Champs\, Junior National Trials\, CanAmMex and Junior World Championships. \nRowing BC Performance Camps are designed to enhance the skills and competitive readiness of athletes through targeted training and development. Here are some key rationales behind these camps: \n\nSkill Development: The camps provide a structured environment for athletes to improve their rowing techniques\, strength\, and conditioning\, allowing them to refine their skills under expert coaching.\nIndividualized Coaching: Athletes receive personalized feedback and guidance\, helping them to identify strengths and areas for improvement\, which can accelerate their development.\nCompetition Preparation: The camps simulate competitive environments\, preparing athletes mentally and physically for upcoming regattas and challenges.\nTalent Identification: They serve as a platform for identifying and nurturing emerging talent\, ensuring that Rowing BC can support the next generation of elite rowers.\nCommunity Building: Performance camps strengthen the rowing community by connecting athletes and coaches\, fostering a shared commitment to excellence in the sport.\n\nOverall\, these camps aim to elevate performance standards\, ensuring that athletes are well-prepared to compete at higher levels while promoting the growth of rowing in the region. \n2024/2025 Camp Dates: \n\nNovember 8-10\, 2024     BCNGPC – Elk Lake\nDecember 7-8\, 2024       Vancouver\nJanuary 24-26\, 2025       BCNGPC – Elk Lake\nMarch 20-23\, 2025          BCNGPC Elk Lake\n\nInformation on the November camp\, including how to apply\, can be found HERE.
URL:https://rowingbc.ca/event/camp-performance-camp-victoria/
CATEGORIES:Rowing BC Events
END:VEVENT
END:VCALENDAR