BEGIN:VCALENDAR
VERSION:2.0
PRODID:-//Rowing British Columbia - ECPv6.15.12.2//NONSGML v1.0//EN
CALSCALE:GREGORIAN
METHOD:PUBLISH
X-ORIGINAL-URL:https://rowingbc.ca
X-WR-CALDESC:Events for Rowing British Columbia
REFRESH-INTERVAL;VALUE=DURATION:PT1H
X-Robots-Tag:noindex
X-PUBLISHED-TTL:PT1H
BEGIN:VTIMEZONE
TZID:America/Vancouver
BEGIN:DAYLIGHT
TZOFFSETFROM:-0800
TZOFFSETTO:-0700
TZNAME:PDT
DTSTART:20250309T100000
END:DAYLIGHT
BEGIN:STANDARD
TZOFFSETFROM:-0700
TZOFFSETTO:-0800
TZNAME:PST
DTSTART:20251102T090000
END:STANDARD
BEGIN:DAYLIGHT
TZOFFSETFROM:-0800
TZOFFSETTO:-0700
TZNAME:PDT
DTSTART:20260308T100000
END:DAYLIGHT
BEGIN:STANDARD
TZOFFSETFROM:-0700
TZOFFSETTO:-0800
TZNAME:PST
DTSTART:20261101T090000
END:STANDARD
BEGIN:DAYLIGHT
TZOFFSETFROM:-0800
TZOFFSETTO:-0700
TZNAME:PDT
DTSTART:20270314T100000
END:DAYLIGHT
BEGIN:STANDARD
TZOFFSETFROM:-0700
TZOFFSETTO:-0800
TZNAME:PST
DTSTART:20271107T090000
END:STANDARD
END:VTIMEZONE
BEGIN:VEVENT
DTSTART;VALUE=DATE:20261031
DTEND;VALUE=DATE:20261102
DTSTAMP:20260419T092922
CREATED:20250924T233041Z
LAST-MODIFIED:20260107T194521Z
UID:10000648-1793404800-1793577599@rowingbc.ca
SUMMARY:REGATTA: LVISSA City Championships Regatta (Victoria)
DESCRIPTION:LVISSAA City Championships hosted by Greater Victoria Youth Rowing Society (GVYRS).  \nLocation: Elk Lake\, Victoria \nDescription: This 1000m sprint event is part of the Fall racing season for athletes participating in the GVYRS season. This event is followed by the Island High School Championships. \nRegistration: Registration and more information available on Regatta Central (search LVISSAA City Championships under Canadian Regattas). \nQuestions can be directed to Local Organizing Committee Chair\, Greg Sedun.
URL:https://rowingbc.ca/event/regatta-lvissa-city-championships-regatta-victoria-2/
CATEGORIES:Regattas
END:VEVENT
BEGIN:VEVENT
DTSTART;VALUE=DATE:20261121
DTEND;VALUE=DATE:20261122
DTSTAMP:20260419T092922
CREATED:20250923T191405Z
LAST-MODIFIED:20250923T191405Z
UID:10000618-1795219200-1795305599@rowingbc.ca
SUMMARY:WORKSHOP: RCA Learn to Row Coach Workshop
DESCRIPTION:Workshop Overview: \nThe RCA Learn to Row Coach Workshop is intended for coaches who will be working with beginner athletes (those in the Learn to Train stage of Long Term Athlete Development). \nIn this workshop you will learn about and discuss: safety\, analyzing the rowing stroke\, Long Term Athlete Development\, lesson planning\, skills analysis\, teaching and learning\, rigging\, para rowing\, and modifying Learn to Row lessons to meet the needs of your club and the participants. \nFollowing completion of this workshop you will be “RCA Learn to Row Coach Trained”. \nDetails:  \nThis workshop will be delivered in multiple formats on this same date: \n\nVictoria In-person Workshop 9 AM – 5 PM – Register HERE\nVancouver In-person Workshop 9 AM – 5 PM – Register HERE\nVirtual Workshop (intended for participants from the Interior) 9 AM – 5 PM – Register HERE\n\nRegistration:  Registration and payment ($200 workshop fee) is available through the EventBrite links above. \nRegistration will close on Friday\, November 6\, 2026. Each workshop offering requires a minimum of 6 participants in order to proceed. If there are fewer than 6 registrants for a given option at the time that registration closes\, every effort will be made to include those participants in an option that will be running. Contact memberservices@rowingbc.ca if you have missed the deadline and want to know more about other upcoming opportunities. \nPre-requisites:  \nBefore taking this workshop\, all coaches must have completed the following RCA Every Coach Certified Requirements: \n\nCriminal Record Check\nNCCP Coach Initiation In Sport (Online Module)\nRCA Rowing Essentials (Online Module)\nMaking Ethical Decisions Module (Multiple Delivery Options Available)\n\nInformation about how to complete each of these requirements is available HERE. \nIn addition\, coaches are expected to have a Pleasure Craft Operator’s Card. \n\nHave further questions? Reach out! \nAdditional information about the Coach Pathway is available HERE.
URL:https://rowingbc.ca/event/workshop-rca-learn-to-row-coach-workshop-3/
CATEGORIES:Coach Workshops
END:VEVENT
BEGIN:VEVENT
DTSTART;VALUE=DATE:20261121
DTEND;VALUE=DATE:20261122
DTSTAMP:20260419T092922
CREATED:20251208T214247Z
LAST-MODIFIED:20251208T221543Z
UID:10000658-1795219200-1795305599@rowingbc.ca
SUMMARY:REGATTA: Winter Sprinter Ergatta (Victoria)
DESCRIPTION:Winter Sprinter Ergatta hosted by St. Michael’s University School Rowing.  \nLocation: St. Michael’s University School\, Victoria \nDescription: Winter Is Coming! As programs transition indoors after fall rowing\, set the benchmark for your erg training by competing at the SMUS Winter Sprinter Ergatta Nov 21\, 2026 in the main gym on our Richmond Rd. Campus (Victoria\, BC). With a focus on timed pieces this event is uniquely formatted to allow participants to cross the finish line together while challenging them to answer the question\, “How far can you go?”. In addition\, you can duel a rival head-to-head in a C2 triathlon (SkiErg\, BikeErg\, RowErg)\, log some kms for your team in the club marathon\, or pull a traditional 2k if you are a performance athlete needing to submit a score. \nRegistration: Registration and more information available on Regatta Central . \nQuestions can be directed to Local Organizing Committee Chair\, David Wakulich.
URL:https://rowingbc.ca/event/regatta-winter-sprinter-ergatta/
CATEGORIES:Regattas
END:VEVENT
BEGIN:VEVENT
DTSTART;VALUE=DATE:20261127
DTEND;VALUE=DATE:20261130
DTSTAMP:20260419T092922
CREATED:20250923T194532Z
LAST-MODIFIED:20250923T194532Z
UID:10000621-1795737600-1795996799@rowingbc.ca
SUMMARY:WORKSHOP: RCA Coach Weekend 1 Workshop
DESCRIPTION:Workshop Overview: \nThe RCA Coach Workshop is intended for coaches who will be working with athletes interested in regional and provincial competition (those in the Train to Train and Learn to Compete stage of Long Term Athlete Development). \nThis workshop is divided into two weekends of learning – RCA Coach Weekend 1 Workshop and RCA Coach Weekend 2 Workshop. Rowing BC offers Weekend 1 annually in November and Weekend 2 annually in January. Coaches are encouraged to take these as a set rather than waiting more than a year in between workshops. \nIn these workshops you will learn about and discuss: Long Term Athlete Development\, analyzing rowing technique\, analyzing rigging (including adaptations for para athletes)\, designing a sport program\, movement screens\, planning a practice\, supporting athletes in training\, testing and monitoring athlete performance\, and supporting competitive experiences. \nFollowing completion of this workshop your status will be “RCA Coach In-Training” and you will be ready to take the RCA Coach Weekend 2 Workshop. \nDetails:  \nThis workshop will be delivered in-person in Victoria\, BC: \n\nFriday\, November 27th 6 – 8 PM\nSaturday\, November 28th 9 AM – 5 PM\nSunday\, November 29th 9 AM – 5 PM\n\nFull engagement during all sessions is required to have completed the RCA Coach Weekend 1 workshop. \nRegistration:  Registration and payment ($275 workshop fee) is available through EventBrite HERE. \nRegistration will close at 8 AM on Friday\, November 13\, 2026. There must be a minimum of 6 registrants at that time for this workshop to proceed. Contact memberservices@rowingbc.ca if you have missed the deadline and want to know more about other upcoming opportunities. \nPre-requisites:  \nBefore taking this workshop\, all coaches must have completed the following RCA Every Coach Certified Requirements: \n\nCriminal Record Check\nNCCP Coach Initiation In Sport (Online Module)\nRCA Rowing Essentials (Online Module)\nMaking Ethical Decisions Module (Multiple Delivery Options Available)\n\nInformation about how to complete each of these requirements is available HERE. \nIn addition\, coaches are expected to have a Pleasure Craft Operator’s Card. \n\nHave further questions? Reach out! \nAdditional information about the Coach Pathway is available HERE.
URL:https://rowingbc.ca/event/workshop-rca-coach-weekend-1-workshop-4/
CATEGORIES:Coach Workshops
END:VEVENT
END:VCALENDAR