BEGIN:VCALENDAR
VERSION:2.0
PRODID:-//Rowing British Columbia - ECPv6.15.12.2//NONSGML v1.0//EN
CALSCALE:GREGORIAN
METHOD:PUBLISH
X-WR-CALNAME:Rowing British Columbia
X-ORIGINAL-URL:https://rowingbc.ca
X-WR-CALDESC:Events for Rowing British Columbia
REFRESH-INTERVAL;VALUE=DURATION:PT1H
X-Robots-Tag:noindex
X-PUBLISHED-TTL:PT1H
BEGIN:VTIMEZONE
TZID:America/Vancouver
BEGIN:DAYLIGHT
TZOFFSETFROM:-0800
TZOFFSETTO:-0700
TZNAME:PDT
DTSTART:20240310T100000
END:DAYLIGHT
BEGIN:STANDARD
TZOFFSETFROM:-0700
TZOFFSETTO:-0800
TZNAME:PST
DTSTART:20241103T090000
END:STANDARD
BEGIN:DAYLIGHT
TZOFFSETFROM:-0800
TZOFFSETTO:-0700
TZNAME:PDT
DTSTART:20250309T100000
END:DAYLIGHT
BEGIN:STANDARD
TZOFFSETFROM:-0700
TZOFFSETTO:-0800
TZNAME:PST
DTSTART:20251102T090000
END:STANDARD
BEGIN:DAYLIGHT
TZOFFSETFROM:-0800
TZOFFSETTO:-0700
TZNAME:PDT
DTSTART:20260308T100000
END:DAYLIGHT
BEGIN:STANDARD
TZOFFSETFROM:-0700
TZOFFSETTO:-0800
TZNAME:PST
DTSTART:20261101T090000
END:STANDARD
END:VTIMEZONE
BEGIN:VEVENT
DTSTART;VALUE=DATE:20250425
DTEND;VALUE=DATE:20250428
DTSTAMP:20260424T074031
CREATED:20241009T201258Z
LAST-MODIFIED:20241009T201258Z
UID:10000534-1745539200-1745798399@rowingbc.ca
SUMMARY:REGATTA: Brentwood Regatta (Mill Bay)
DESCRIPTION:Brentwood Regatta hosted by Brentwood College School Rowing.  \nLocation: Brentwood College School (2735 Mt Baker Rd\, Mill Bay\, BC) \nDescription: The 1500m Brentwood Regatta has been held annually since 1971. This international event is attended by Junior rowers from schools and clubs across BC and the Pacific Northwest of the US. For many\, this is the pinnacle event of the Spring season\, and it also functions as the qualification regatta for Canadian crews to qualify for Windermere Cup. Aside from the racing\, people attend for the experience of the regatta – teams sleep in the gym or classrooms at the school and spend their entire regatta weekend on the campus with on-land events planned throughout the days and evenings. \nRegistration: Registration and more information available on Regatta Central. \nQuestions can be directed to Local Organizing Committee Chair\, David Calder.
URL:https://rowingbc.ca/event/regatta-brentwood-regatta-mill-bay/
LOCATION:British Columbia
CATEGORIES:Regattas
END:VEVENT
BEGIN:VEVENT
DTSTART;VALUE=DATE:20250509
DTEND;VALUE=DATE:20250512
DTSTAMP:20260424T074031
CREATED:20241009T201444Z
LAST-MODIFIED:20241009T201444Z
UID:10000535-1746748800-1747007999@rowingbc.ca
SUMMARY:REGATTA: Shawnigan Lake Regatta (Shawnigan Lake)
DESCRIPTION:Shawnigan Lake Regatta hosted by Shawnigan Lake School Rowing.  \nLocation: Shawnigan Lake School (1975 Renfrew Rd\, Shawnigan Lake\, BC) \nDescription: This 2000m regatta is for highschool athletes racing for their clubs or schools. It is the last big local regatta on Vancouver Island in the Spring season\, and a final chance for a tune up before some teams head to the Canadian Secondary School Regatta. Athletes attending this regatta will often first attend the Maple Bay Regatta and Brentwood Regatta\, then attend the Shawnigan Lake Regatta\, possibly before attending the Canadian Secondary School Regatta. Participants come from across BC. Hosted in a park\, this regatta has a garden picnic atmosphere that is nice for spectators. \nRegistration: Registration and more information available on Regatta Central \nQuestions can be directed to Local Organizing Committee Chair\, Jennifer Parfitt.
URL:https://rowingbc.ca/event/regatta-shawnigan-lake-regatta-shawnigan-lake/
LOCATION:British Columbia
CATEGORIES:Regattas
END:VEVENT
BEGIN:VEVENT
DTSTART;VALUE=DATE:20250524
DTEND;VALUE=DATE:20250525
DTSTAMP:20260424T074031
CREATED:20241009T201618Z
LAST-MODIFIED:20241009T201618Z
UID:10000536-1748044800-1748131199@rowingbc.ca
SUMMARY:REGATTA: Nanaimo Sprints Regatta (Nanaimo)
DESCRIPTION:Nanaimo Sprints hosted by Nanaimo Rowing Club.  \nLocation: Long Lake\, Nanaimo \nDescription: This 1000m event was created as an opportunity to end the Spring season specifically for JR athletes not planning to attend the Canadian Secondary School Rowing Association Regatta. While performance athletes are welcome\, the focus is on the development of novice and JV athletes. This regatta is being expanded to also include opportunities for SR and MA athletes looking for additional race opportunities at this point in the season. For JR athletes\, this event is a sister event to the Delta Deas Scholastic Regatta. \nRegistration: Registration and more information available on Regatta Central. \nQuestions can be directed to Local Organizing Committee Chair\, Craig Rutherford.
URL:https://rowingbc.ca/event/regatta-nanaimo-sprints-regatta-nanaimo/
LOCATION:British Columbia
CATEGORIES:Regattas
END:VEVENT
BEGIN:VEVENT
DTSTART;VALUE=DATE:20250524
DTEND;VALUE=DATE:20250526
DTSTAMP:20260424T074031
CREATED:20241009T201822Z
LAST-MODIFIED:20241009T201822Z
UID:10000537-1748044800-1748217599@rowingbc.ca
SUMMARY:REGATTA: Delta Deas Scholastic Regatta (Delta)
DESCRIPTION:Delta Deas Scholastic Regatta hosted by Delta Deas Rowing Club.  \nLocation: Deas Slough\, Delta \nDescription: This 1000m event is an opportunity to end the Spring season specifically for JR athletes not planning to attend the Canadian Secondary School Rowing Association Regatta. While performance athletes are welcome\, the focus is on the development of novice and JV athletes. This event is a sister event to the Nanaimo Sprints Regatta. \nRegistration: Registration and more information available on Regatta Central \nQuestions can be directed to Local Organizing Committee Chair\, Teri Gambrel.
URL:https://rowingbc.ca/event/regatta-delta-deas-scholastic-regatta-delta/
LOCATION:British Columbia
CATEGORIES:Regattas
END:VEVENT
BEGIN:VEVENT
DTSTART;VALUE=DATE:20250607
DTEND;VALUE=DATE:20250608
DTSTAMP:20260424T074031
CREATED:20250523T182311Z
LAST-MODIFIED:20250523T191131Z
UID:10000601-1749254400-1749340799@rowingbc.ca
SUMMARY:WORKSHOP: Level 2 Umpire Clinic
DESCRIPTION:Level 2 Umpire Clinic\n\nAssistant (Level 1) Umpires – If you have been attending regattas this Spring and have had the chance to:\n\ndo at least one shift each in the positions of Control\, Finish\, Start\, and Judge at the Start; and\nobserve (ride along) with a Race Umpire\,\n\nthen you may be ready to take the Level 2 Umpire Clinic! \nThe Level 2 Umpire Clinic provides an opportunity to delve deeper into each of the four positions you have already tried\, and equips you to also be in the Race Umpire position. After completion of the Level 2 Clinic you will become an Associate Umpire\, ready to take on additional roles at your next regatta. \nThere is no cost to attend the Level 2 Umpire Clinic. \nNote: Each clinic requires 4 participants registered before the registration deadline to proceed. \nJune Hybrid Learning Option  \n\nTuesday\, June 3rd 7:30-9:00 PM (via Zoom)\nThursday\, June 5th 7:30-9:00 PM (via Zoom)\nSaturday\, June 7th 9:00 AM – 4:00 PM (In-person\, North Vancouver)\n\nREGISTER HERE for the June Hybrid Learning Option. \nRegistration deadline: Tuesday\, May 27th \nRowing BC’s Office and the Umpire Clinician facilitating this clinic will be in touch with you to provide final details in the week leading up to this clinic. \n\nOther opportunities to take the Level 2 Umpire Clinic include: \nJuly/August Hybrid Learning Option \n\nThursday\, July 24th 7:00-9:00 PM (via Zoom)\nThursday\, July 31st 7:00-9:00 PM (via Zoom)\nSaturday\, August 2nd 9:00 AM – 5:00 PM (In-person\, Victoria)\n\nAugust Hybrid Learning Option \n\nTwo sessions via Zoom (dates TBA)\nSaturday\, August 30th 9:00 AM – 4:00 PM (In-person\, North Vancouver)\n\nSeptember Hybrid Learning Option \n\nWednesday\, September 3rd 7:00-9:00 PM (via Zoom)\nThursday\, September 11th 7:00-9:00 PM (via Zoom)\nSaturday\, September 13th 9:00 AM – 5:00 PM (In-person\, Victoria)\n\nLook for these on the Rowing BC events calendar. \n\nHave questions? Contact the Rowing BC Umpire Committee.
URL:https://rowingbc.ca/event/workshop-level-2-umpire-clinic/
LOCATION:British Columbia
CATEGORIES:RBC Umpire Events
END:VEVENT
BEGIN:VEVENT
DTSTART;TZID=America/Vancouver:20250607T143000
DTEND;TZID=America/Vancouver:20250607T183000
DTSTAMP:20260424T074031
CREATED:20250509T222027Z
LAST-MODIFIED:20250527T213052Z
UID:10000596-1749306600-1749321000@rowingbc.ca
SUMMARY:WORKSHOP: RCA Learn to Row Coach Virtual Workshop (Day 1 of 2)
DESCRIPTION:Workshop Overview:  \nThe RCA Learn to Row Coach Workshop is intended for coaches who will be working with beginner athletes (those in the Learn to Train stage of Long Term Athlete Development). \nIn this workshop you will learn about and discuss: safety\, analyzing the rowing stroke\, Long Term Athlete Development\, lesson planning\, skills analysis\, teaching and learning\, rigging\, para rowing\, and modifying Learn to Row lessons to meet the needs of your club and the participants. \nFollowing completion of this workshop you will be “RCA Learn to Row Coach Trained”. \nDetails:  \nThis workshop will be delivered virtually (over Zoom)\, split across two dates: \n\nSaturday\, June 7th 2:30-6:30 PM\nSaturday\, June 21st 2:30-6:30 PM\n\nFull engagement during both sessions is required to have completed the RCA Learn to Row Coach workshop. \nRegistration:  Registration and payment ($200 workshop fee) is available through EventBrite HERE. \nRegistration will close on Sunday\, June 1\, 2025. There must be a minimum of 6 registrants at that time for this workshop to proceed. Contact memberservices@rowingbc.ca if you have missed the deadline and want to know more about other upcoming opportunities. \nPre-requisites:  \nBefore taking this workshop\, all coaches must have completed the following RCA Every Coach Certified Requirements: \n\nCriminal Record Check\nNCCP Coach Initiation In Sport (Online Module)\nRCA Rowing Essentials (Online Module)\nMaking Ethical Decisions Module (Multiple Delivery Options Available)\n\nInformation about how to complete each of these requirements is available HERE. \nIn addition\, coaches are expected to have a Pleasure Craft Operator’s Card. \n\nHave further questions? Reach out! \nAdditional information about the Coach Pathway is available HERE.
URL:https://rowingbc.ca/event/workshop-rca-learn-to-row-coach-virtual-workshop-part-1/
LOCATION:British Columbia
CATEGORIES:RCA Learn To Row Instructor Workshop
END:VEVENT
BEGIN:VEVENT
DTSTART;VALUE=DATE:20250614
DTEND;VALUE=DATE:20250615
DTSTAMP:20260424T074031
CREATED:20241009T201959Z
LAST-MODIFIED:20241009T201959Z
UID:10000538-1749859200-1749945599@rowingbc.ca
SUMMARY:REGATTA: Lap the Lake Regatta (Vernon)
DESCRIPTION:Lap the Lake hosted by Vernon Rowing and Dragon Boat Club.  \nLocation: Swan Lake\, Vernon \nDescription: This regatta follows a unique format with 3500m racing in the morning\, followed by a regatta BBQ\, and 500m racing after lunch. This event is primarily attended by teams from the Interior\, as an important chance to race and connect as a community. It is also attended by teams from the Lower Mainland looking for a friendly racing opportunity where each athlete will have more than one chance to race. This event is appropriate for beginners and those who like to row for fun. In addition to the regatta\, a special topic speaker or professional development session is usually planned in association with the regatta to make it a fun-filled racing and learning weekend. \nRegistration: Registration and more information available on Regatta Central. \nQuestions can be directed to Local Organizing Committee Chair\, Algis Masys
URL:https://rowingbc.ca/event/regatta-lap-the-lake-regatta-vernon/
LOCATION:British Columbia
CATEGORIES:Regattas
END:VEVENT
BEGIN:VEVENT
DTSTART;TZID=America/Vancouver:20250614T150000
DTEND;TZID=America/Vancouver:20250614T160000
DTSTAMP:20260424T074031
CREATED:20250606T211232Z
LAST-MODIFIED:20250606T211232Z
UID:10000606-1749913200-1749916800@rowingbc.ca
SUMMARY:WORKSHOP: Rigging
DESCRIPTION:Rowing BC Rigging Workshop \nWish you were more confident rigging your own boat\, or setting equipment up for the athletes you coach? Bring your questions and curiosity to this rigging workshop hosted by Rowing BC’s Director of Performance\, Terry Paul\, and Director of Membership and Community Development\, Sonja Lonne. In this hands-on session\, we’ll get out the tools and help you build rigging confidence and knowledge\, including appropriate adaptations for para equipment. \nNo sign-up required\, just join us! \n\nVernon Rowing and Dragon Boat Club\nSaturday\, June 14th 3-4 PM (following the Lap the Lake Regatta)\n\nCoaches at this session are eligible for pro-d points through the NCCP.
URL:https://rowingbc.ca/event/workshop-rigging/
LOCATION:British Columbia
CATEGORIES:Coach Workshops
END:VEVENT
BEGIN:VEVENT
DTSTART;VALUE=DATE:20250615
DTEND;VALUE=DATE:20250616
DTSTAMP:20260424T074031
CREATED:20250430T195050Z
LAST-MODIFIED:20250527T212311Z
UID:10000592-1749945600-1750031999@rowingbc.ca
SUMMARY:CAMP: U23 Development Camp (Vernon)
DESCRIPTION:U23 Development Camp (Vernon)\nPlan a full weekend in Vernon by attending the Lap the Lake Regatta on Saturday\, June 14th\, followed by attending this Rowing BC Masters Development Camp on Sunday\, June 15th at the same location! \nWho: \nThis camp is intended for Junior and U23 athletes from across BC who are looking for additional chances to be coached by experienced coaches from outside of their home training environment\, and to learn from other athletes while training alongside them. The camp is being run to support and enhance available training opportunities\, especially for athletes based in the Interior. In addition\, it creates an opportunity for local coaches to be mentored by experienced coaches who are regularly based outside of the region. \nThis camp will be coached by Rowing BC’s Director of Performance\, Terry Paul\, Rowing BC’s Director of Membership and Community Development\, Sonja Lonne\, and Vernon Rowing and Dragon Boat Club’s Head Coach\, Glen Stiven\, with additional support from coaches selected to be involved in Rowing BC’s Coach Mentorship Program during the camp. \nWant to be involved as a coach at this camp through Rowing BC’s Coach Mentorship Program? –> Apply HERE before May 28\, 2025. \nWhat: \nThis one-day camp is an opportunity to: \n\naccess coaching from mentor coaches outside of the region\ntrain together with athletes from a variety of other home training environments\, building community and learning from one another\naccess specialty sessions from service providers that may not regularly be available in your home training environment\n\nWhere: Vernon Rowing and Dragon Boat Club\, Swan Lake\, Vernon\, BC \nCamp Schedule:  \n\n7:30 – 9:30 AM First Row – technical session (small boats)\n10:00 AM – 12:00 PM Dryland Special Topic Session with guest TBA (Nutritionist or Strength & Mobility Specialist)\n12:00-1:00 PM Lunch – participants to bring own lunch or choose something nearby\n1:00-3:00 PM Second Row – rate capped pieces against Gold Medal Standards (big boats)\, combined with Masters camp participants\n3:30 PM Wrap Up and Debrief\n\nRegistration:  \nComplete your registration and payment ($95 per participant) through EventBrite HERE. \nNote: For this camp to run\, there must be a minimum of 30 participants registered (combined total between the U23 group and the Masters group).  \nSign up early to ensure you have a spot! \nParticipants are required to arrange their own transportation\, accommodation and meals. Participants are expected to utilize equipment that their team has already transported to Vernon for the purpose of the Lap the Lake regatta. If your team’s trailer will be unable to stay for the Sunday camp\, please reach out so that alternative equipment options for you can be found. \nFor more information about this camp\, contact Rowing BC’s Director of Membership and Community Development\, Sonja Lonne.
URL:https://rowingbc.ca/event/camp-u23-development-camp-vernon-2/
LOCATION:Swan Lake\, Lochdale Rd\, Vernon\, British Columbia\, V1B 3R8\, Canada
GEO:50.3255539;-119.244677
X-APPLE-STRUCTURED-LOCATION;VALUE=URI;X-ADDRESS=Swan Lake Lochdale Rd Vernon British Columbia V1B 3R8 Canada;X-APPLE-RADIUS=500;X-TITLE=Lochdale Rd:geo:-119.244677,50.3255539
END:VEVENT
BEGIN:VEVENT
DTSTART;VALUE=DATE:20250615
DTEND;VALUE=DATE:20250616
DTSTAMP:20260424T074031
CREATED:20250430T181413Z
LAST-MODIFIED:20250527T212235Z
UID:10000591-1749945600-1750031999@rowingbc.ca
SUMMARY:CAMP: Masters Development Camp (Vernon)
DESCRIPTION:Masters Development Camp (Vernon)\nPlan a full weekend in Vernon by attending the Lap the Lake Regatta on Saturday\, June 14th\, followed by attending this Rowing BC Masters Development Camp on Sunday\, June 15th at the same location! \nWho: \nThis camp is intended for Masters athletes from across BC who are looking for additional chances to be coached by experienced coaches from outside of their home training environment\, and to learn from other Masters while training alongside them. The camp is being run to support and enhance available training opportunities\, especially for athletes based in the Interior. In addition\, it creates an opportunity for local coaches to be mentored by experienced coaches who are regularly based outside of the region. \nThis camp will be coached by Rowing BC’s Director of Performance\, Terry Paul\, Rowing BC’s Director of Membership and Community Development\, Sonja Lonne\, and Vernon Rowing and Dragon Boat Club’s Head Coach\, Glen Stiven\, with additional support from coaches selected to be involved in Rowing BC’s Coach Mentorship Program during the camp. \nWant to be involved as a coach at this camp through Rowing BC’s Coach Mentorship Program? –> Apply HERE before May 28\, 2025. \nWhat: \nThis one-day camp is an opportunity to: \n\naccess coaching from mentor coaches outside of the region\ntrain together with athletes from a variety of other home training environments\, building community and learning from one another\naccess specialty sessions from service providers that may not regularly be available in your home training environment\n\nWhere: Vernon Rowing and Dragon Boat Club\, Swan Lake\, Vernon\, BC \nCamp Schedule:  \n\n7:30 – 9:30 AM Dryland Special Topic Session with guest TBA (Nutritionist or Strength & Mobility Specialist)\n10:00 AM – 12:00 PM First Row – technical session (small boats)\n12:00-1:00 PM Lunch – participants to bring own lunch or choose something nearby\n1:00-3:00 PM Second Row – rate capped pieces against Gold Medal Standards (big boats)\, combined with U23 camp participants\n3:30 PM Wrap Up and Debrief\n\nRegistration:  \nComplete your registration and payment ($95 per participant) through EventBrite HERE. \nNote: For this camp to run\, there must be a minimum of 30 participants registered (combined total between the U23 group and the Masters group).  \nSign up early to ensure you have a spot! \nParticipants are required to arrange their own transportation\, accommodation and meals. Participants are expected to utilize equipment that their team has already transported to Vernon for the purpose of the Lap the Lake regatta. If your team’s trailer will be unable to stay for the Sunday camp\, please reach out so that alternative equipment options for you can be found. \nFor more information about this camp\, contact Rowing BC’s Director of Membership and Community Development\, Sonja Lonne.
URL:https://rowingbc.ca/event/camp-masters-development-camp-vernon-2/
LOCATION:Swan Lake\, Lochdale Rd\, Vernon\, British Columbia\, V1B 3R8\, Canada
GEO:50.3255539;-119.244677
X-APPLE-STRUCTURED-LOCATION;VALUE=URI;X-ADDRESS=Swan Lake Lochdale Rd Vernon British Columbia V1B 3R8 Canada;X-APPLE-RADIUS=500;X-TITLE=Lochdale Rd:geo:-119.244677,50.3255539
END:VEVENT
BEGIN:VEVENT
DTSTART;VALUE=DATE:20250621
DTEND;VALUE=DATE:20250623
DTSTAMP:20260424T074031
CREATED:20241009T202143Z
LAST-MODIFIED:20250617T180747Z
UID:10000539-1750464000-1750636799@rowingbc.ca
SUMMARY:REGATTA: Western Canadian Beach Sprint Championships (Victoria)
DESCRIPTION:Western Canadian Beach Sprint Championships hosted by OARCA.  \nLocation: Cadboro Bay\, Victoria \nDescription: This event is part of the Rowing Canada Aviron Beach Sprint Tour. Beach sprint athletes who want to be considered for the National Team\, should participate in their regional event. \nRegistration: Registration and more information available on Regatta Central. \nQuestions can be directed to Local Organizing Committee Chair\, Michelle Boss.
URL:https://rowingbc.ca/event/regatta-western-canadian-beach-sprint-championships-victoria/
LOCATION:British Columbia
CATEGORIES:Regattas
END:VEVENT
BEGIN:VEVENT
DTSTART;TZID=America/Vancouver:20250621T143000
DTEND;TZID=America/Vancouver:20250621T183000
DTSTAMP:20260424T074031
CREATED:20250509T222105Z
LAST-MODIFIED:20250515T200303Z
UID:10000597-1750516200-1750530600@rowingbc.ca
SUMMARY:WORKSHOP: RCA Learn to Row Coach Virtual Workshop (Day 2 of 2)
DESCRIPTION:Workshop Overview:  \nThe RCA Learn to Row Coach Workshop is intended for coaches who will be working with beginner athletes (those in the Learn to Train stage of Long Term Athlete Development). \nIn this workshop you will learn about and discuss: safety\, analyzing the rowing stroke\, Long Term Athlete Development\, lesson planning\, skills analysis\, teaching and learning\, rigging\, para rowing\, and modifying Learn to Row lessons to meet the needs of your club and the participants. \nFollowing completion of this workshop you will be “RCA Learn to Row Coach Trained”. \nDetails:  \nThis workshop will be delivered virtually (over Zoom)\, split across two dates: \n\nSaturday\, June 7th 2:30-6:30 PM\nSaturday\, June 21st 2:30-6:30 PM\n\nFull engagement during both sessions is required to have completed the RCA Learn to Row Coach workshop. \nRegistration:  Registration and payment ($200 workshop fee) is available through EventBrite HERE. \nRegistration will close at 8 AM on Monday\, May 26th. There must be a minimum of 6 registrants at that time for this workshop to proceed. Contact memberservices@rowingbc.ca if you have missed the deadline and want to know more about other upcoming opportunities. \nPre-requisites:  \nBefore taking this workshop\, all coaches must have completed the following RCA Every Coach Certified Requirements: \n\nCriminal Record Check\nNCCP Coach Initiation In Sport (Online Module)\nRCA Rowing Essentials (Online Module)\nMaking Ethical Decisions Module (Multiple Delivery Options Available)\n\nInformation about how to complete each of these requirements is available HERE. \nIn addition\, coaches are expected to have a Pleasure Craft Operator’s Card. \n\nHave further questions? Reach out! \nAdditional information about the Coach Pathway is available HERE.
URL:https://rowingbc.ca/event/workshop-rca-learn-to-row-coach-virtual-workshop-part-2/
LOCATION:British Columbia
CATEGORIES:RCA Learn To Row Instructor Workshop
END:VEVENT
BEGIN:VEVENT
DTSTART;VALUE=DATE:20250704
DTEND;VALUE=DATE:20250707
DTSTAMP:20260424T074031
CREATED:20241009T202337Z
LAST-MODIFIED:20241009T202337Z
UID:10000540-1751587200-1751846399@rowingbc.ca
SUMMARY:REGATTA: Challenge West Regatta (Victoria)
DESCRIPTION:Challenge West Regatta hosted by Victoria City Rowing Club.  \nLocation: Elk Lake\, Victoria \nDescription: 1850m racing intended to help prepare athletes from across the province before heading to other events like the BC Summer Games\, Canada Summer Games\, Henley and BC Provincial Championships later in the Summer season. \nRegistration: Registration and more information available on Regatta Central  \nQuestions can be directed to Local Organizing Committee Chair\, Craig White.
URL:https://rowingbc.ca/event/regatta-challenge-west-regatta-victoria/
LOCATION:British Columbia
CATEGORIES:Regattas
END:VEVENT
BEGIN:VEVENT
DTSTART;VALUE=DATE:20250711
DTEND;VALUE=DATE:20250714
DTSTAMP:20260424T074031
CREATED:20241009T202540Z
LAST-MODIFIED:20241009T202540Z
UID:10000541-1752192000-1752451199@rowingbc.ca
SUMMARY:REGATTA: BC Provincial Championships (Burnaby)
DESCRIPTION:BC Provincial Championships hosted by Rowing BC.  \nLocation: Burnaby Lake\, Burnaby \nThe Rowing BC Provincial Championships Regatta exists to:  \n\nProvide a pinnacle event for Junior and Senior athletes in the Summer\nCreate an excellent competitive racing opportunity\nPrepare crews to attend the Royal Canadian Henley Regatta in August\nIdentify athletes for Team BC performance support\nEstablish pre-ranking Team BC list for 2025 National Rowing Championships\n\nThis regatta will include championship-level competition in the following event categories:  \n\nU17 Men’s and Women’s 1x\, 2x\, 4x\nU19 Men’s and Women’s 1x\, 2x\, 2-\, 4x\, 4+\nOpen (Senior) Men’s and Women’s 1x\, Lwt 1x\, 2x\, Lwt 2x\, 2-\, 4x\, 4-\, Lwt 4-\, 8+\nPara Men’s and Women’s PR1 1x\, PR2 1x\, PR3 1x\, PR3 2x\, PR3 2-\n\nRegistration: Registration and more information available on Regatta Central. \nQuestions can be directed to Local Organizing Committee Chair\, Terry Paul.
URL:https://rowingbc.ca/event/regatta-bc-provincial-championships-burnaby/
LOCATION:British Columbia
CATEGORIES:Regattas
END:VEVENT
BEGIN:VEVENT
DTSTART;VALUE=DATE:20250718
DTEND;VALUE=DATE:20250721
DTSTAMP:20260424T074031
CREATED:20241009T203642Z
LAST-MODIFIED:20241009T203642Z
UID:10000542-1752796800-1753055999@rowingbc.ca
SUMMARY:REGATTA: Cascadia Masters Championships (Burnaby)
DESCRIPTION:Cascadia Masters Championships hosted by Cascadia Regatta Association.  \nLocation: Burnaby Lake \nDescription: This 1000m regatta is intended for performance MA athletes\, and is specifically placed in the calendar to allow adequate recovery time in between the NorthWest Masters Regatta and the Cascadia Regatta. Athletes attend for the high quality racing provided\, and for the festival-like atmosphere that is created at the regatta site. This event is attended by athletes from across BC\, AB and the Pacific NorthWest.  \nRegistration: Registration and more information available on Regatta Central. \nQuestions can be directed to Local Organizing Committee Chair\, Shelley Fletcher.
URL:https://rowingbc.ca/event/regatta-cascadia-masters-championships-burnaby/
LOCATION:British Columbia
CATEGORIES:Regattas
END:VEVENT
END:VCALENDAR