BEGIN:VCALENDAR
VERSION:2.0
PRODID:-//Rowing British Columbia - ECPv6.15.12.2//NONSGML v1.0//EN
CALSCALE:GREGORIAN
METHOD:PUBLISH
X-WR-CALNAME:Rowing British Columbia
X-ORIGINAL-URL:https://rowingbc.ca
X-WR-CALDESC:Events for Rowing British Columbia
REFRESH-INTERVAL;VALUE=DURATION:PT1H
X-Robots-Tag:noindex
X-PUBLISHED-TTL:PT1H
BEGIN:VTIMEZONE
TZID:America/Vancouver
BEGIN:DAYLIGHT
TZOFFSETFROM:-0800
TZOFFSETTO:-0700
TZNAME:PDT
DTSTART:20240310T100000
END:DAYLIGHT
BEGIN:STANDARD
TZOFFSETFROM:-0700
TZOFFSETTO:-0800
TZNAME:PST
DTSTART:20241103T090000
END:STANDARD
BEGIN:DAYLIGHT
TZOFFSETFROM:-0800
TZOFFSETTO:-0700
TZNAME:PDT
DTSTART:20250309T100000
END:DAYLIGHT
BEGIN:STANDARD
TZOFFSETFROM:-0700
TZOFFSETTO:-0800
TZNAME:PST
DTSTART:20251102T090000
END:STANDARD
BEGIN:DAYLIGHT
TZOFFSETFROM:-0800
TZOFFSETTO:-0700
TZNAME:PDT
DTSTART:20260308T100000
END:DAYLIGHT
BEGIN:STANDARD
TZOFFSETFROM:-0700
TZOFFSETTO:-0800
TZNAME:PST
DTSTART:20261101T090000
END:STANDARD
END:VTIMEZONE
BEGIN:VEVENT
DTSTART;VALUE=DATE:20250802
DTEND;VALUE=DATE:20250803
DTSTAMP:20260420T023641
CREATED:20250523T183353Z
LAST-MODIFIED:20250523T184527Z
UID:10000602-1754092800-1754179199@rowingbc.ca
SUMMARY:WORKSHOP: Level 2 Umpire Clinic
DESCRIPTION:Level 2 Umpire Clinic\n\nAssistant (Level 1) Umpires – If you have been attending regattas this Spring and have had the chance to:\n\ndo at least one shift each in the positions of Control\, Finish\, Start\, and Judge at the Start; and\nobserve (ride along) with a Race Umpire\,\n\nthen you may be ready to take the Level 2 Umpire Clinic! \nThe Level 2 Umpire Clinic provides an opportunity to delve deeper into each of the four positions you have already tried\, and equips you to also be in the Race Umpire position. After completion of the Level 2 Clinic you will become an Associate Umpire\, ready to take on additional roles at your next regatta. \nThere is no cost to attend the Level 2 Umpire Clinic. \nNote: Each clinic requires 4 participants registered before the registration deadline to proceed. \nJuly/August Hybrid Learning Option \n\nThursday\, July 24th 7:00-9:00 PM (via Zoom)\nThursday\, July 31st 7:00-9:00 PM (via Zoom)\nSaturday\, August 2nd 9:00 AM – 5:00 PM (In-person\, Victoria – Rowing BC Office 100-4636 Elk Lake Drive)\n\nREGISTER HERE for the July/August Hybrid Learning Option. \nRegistration deadline: Thursday\, July 17th \nRowing BC’s Office and the Umpire Clinician facilitating this clinic will be in touch with you to provide final details in the week leading up to this clinic. \n\nOther opportunities to take the Level 2 Umpire Clinic include: \nAugust Hybrid Learning Option \n\nTwo sessions via Zoom (dates TBA)\nSaturday\, August 30th 9:00 AM – 4:00 PM (In-person\, North Vancouver)\n\nSeptember Hybrid Learning Option \n\nWednesday\, September 3rd 7:00-9:00 PM (via Zoom)\nThursday\, September 11th 7:00-9:00 PM (via Zoom)\nSaturday\, September 13th 9:00 AM – 5:00 PM (In-person\, Victoria)\n\nLook for these on the Rowing BC events calendar. \n\nHave questions? Contact the Rowing BC Umpire Committee.
URL:https://rowingbc.ca/event/workshop-level-2-umpire-clinic-2/
CATEGORIES:RBC Umpire Events
END:VEVENT
BEGIN:VEVENT
DTSTART;VALUE=DATE:20250809
DTEND;VALUE=DATE:20250810
DTSTAMP:20260420T023641
CREATED:20241009T203858Z
LAST-MODIFIED:20241009T203858Z
UID:10000543-1754697600-1754783999@rowingbc.ca
SUMMARY:REGATTA: Cadborosaurus Coastal Regatta (Victoria)
DESCRIPTION:Cadborosaurus Coastal Endurance Regatta hosted by OARCA Coastal Rowing \nLocation: Cadboro Bay\, Saanich \nDescription: Intended to provide a World Rowing endurance-length course for coastal rowers. \nRegistration: Registration and more information available on Regatta Central. \nQuestions can be directed to Local Organizing Committee Chair\, York Langerfeld.
URL:https://rowingbc.ca/event/regatta-cadborosaurus-coastal-regatta-victoria/
CATEGORIES:Regattas
END:VEVENT
BEGIN:VEVENT
DTSTART;VALUE=DATE:20250811
DTEND;VALUE=DATE:20250818
DTSTAMP:20260420T023641
CREATED:20250225T203830Z
LAST-MODIFIED:20250225T231754Z
UID:10000587-1754870400-1755475199@rowingbc.ca
SUMMARY:REGATTA: Canada Cup (London\, ON)
DESCRIPTION:2025 Canada Cup Regatta hosted by Western University Boat Club.  \nLocation: London\, ON \nThe 2025 Canada Cup will be hosted by Western University Boat Club from August 11-17. This U21 regatta aims to showcase Canadian rowing in a sprint format that creates an exciting race program. The regatta features singles\, doubles\, pairs\, quads and eights competing over distances of 500m to 2000m. \nImportant Information:  \n\nCanada Cup Technical Package\nCanada Cup Bulletin #1\n\nRepresenting Rowing BC at the Canada Cup Regatta:  \n\n2025 Canada Cup Rowing BC Athlete Selection Criteria and Information\n\nExpression of Interest due May 1\, 2025\n\n\n2025 Canada Cup Rowing BC Canada Cup Coach Call for Applications\n\nApplications due to terry.paul@rowingbc.ca by April 15\, 2025\n\n\n\nFor more information about this opportunity\, contact Rowing BC’s Director of Performance\, Terry Paul.
URL:https://rowingbc.ca/event/regatta-canada-cup-london-on/
CATEGORIES:Regattas,Team BC Events
END:VEVENT
BEGIN:VEVENT
DTSTART;VALUE=DATE:20250816
DTEND;VALUE=DATE:20250817
DTSTAMP:20260420T023641
CREATED:20241009T204031Z
LAST-MODIFIED:20241009T204031Z
UID:10000544-1755302400-1755388799@rowingbc.ca
SUMMARY:REGATTA: Nelson Sprints (Nelson)
DESCRIPTION:Nelson Sprints Regatta hosted by Nelson Rowing Club.  \nLocation: Nelson Rowing Club (1801 Lakeside Drive\, Nelson\, BC) \nDescription: This event offers 1000m race opportunities for novices\, and those looking for a friendly regatta experience. It is primarily attended by athletes from the Interior of BC\, but also by those from C’ouer d’Alene (ID)\, and Spokane (WA). The event offers a social\, festival feel and is often used as a way to combine a little racing with a little vacation. This is an important event for bringing together and connecting teams from across the Interior of BC. \nRegistration: Registration and more information available on Regatta Central. \nQuestions can be directed to Local Organizing Committee Chair\, Elizabeth Lund.
URL:https://rowingbc.ca/event/regatta-nelson-sprints-nelson/
CATEGORIES:Regattas
END:VEVENT
BEGIN:VEVENT
DTSTART;VALUE=DATE:20250817
DTEND;VALUE=DATE:20250818
DTSTAMP:20260420T023641
CREATED:20250528T195644Z
LAST-MODIFIED:20250528T232408Z
UID:10000605-1755388800-1755475199@rowingbc.ca
SUMMARY:WORKSHOP: RCA Learn to Row Coach Workshop (In-Person)
DESCRIPTION:Workshop Overview: \nThe RCA Learn to Row Coach Workshop is intended for coaches who will be working with beginner athletes (those in the Learn to Train stage of Long Term Athlete Development). \nIn this workshop you will learn about and discuss: safety\, analyzing the rowing stroke\, Long Term Athlete Development\, lesson planning\, skills analysis\, teaching and learning\, rigging\, para rowing\, and modifying Learn to Row lessons to meet the needs of your club and the participants. \nFollowing completion of this workshop you will be “RCA Learn to Row Coach Trained”. \nDetails:  \nThis workshop will be delivered in-person\, at Elk Lake in Victoria: \n\nSunday\, August 17th 9:00 AM – 5:00 PM\n\nFull engagement for the duration of the session is required to have completed the RCA Learn to Row Coach workshop. \nRegistration:  Registration and payment ($200 workshop fee) is available through EventBrite HERE. \nRegistration will close on August 4\, 2025. There must be a minimum of 6 registrants at that time for this workshop to proceed. Contact memberservices@rowingbc.ca if you have missed the deadline and want to know more about other upcoming opportunities. \nPre-requisites:  \nBefore taking this workshop\, all coaches must have completed the following RCA Every Coach Certified Requirements: \n\nCriminal Record Check\nNCCP Coach Initiation In Sport (Online Module)\nRCA Rowing Essentials (Online Module)\nMaking Ethical Decisions Module (Multiple Delivery Options Available)\n\nInformation about how to complete each of these requirements is available HERE. \nIn addition\, coaches are expected to have a Pleasure Craft Operator’s Card. \n\nHave further questions? Reach out! \nAdditional information about the Coach Pathway is available HERE.
URL:https://rowingbc.ca/event/workshop-rca-learn-to-row-coach-workshop-in-person/
CATEGORIES:Coach Workshops
END:VEVENT
BEGIN:VEVENT
DTSTART;VALUE=DATE:20250823
DTEND;VALUE=DATE:20250824
DTSTAMP:20260420T023641
CREATED:20250523T183926Z
LAST-MODIFIED:20250605T165844Z
UID:10000603-1755907200-1755993599@rowingbc.ca
SUMMARY:WORKSHOP: Level 2 Umpire Clinic
DESCRIPTION:Level 2 Umpire Clinic\n\nAssistant (Level 1) Umpires – If you have been attending regattas this Spring and have had the chance to:\n\ndo at least one shift each in the positions of Control\, Finish\, Start\, and Judge at the Start; and\nobserve (ride along) with a Race Umpire\,\n\nthen you may be ready to take the Level 2 Umpire Clinic! \nThe Level 2 Umpire Clinic provides an opportunity to delve deeper into each of the four positions you have already tried\, and equips you to also be in the Race Umpire position. After completion of the Level 2 Clinic you will become an Associate Umpire\, ready to take on additional roles at your next regatta. \nThere is no cost to attend the Level 2 Umpire Clinic. \nNote: Each clinic requires 4 participants registered before the registration deadline to proceed. \nAugust Hybrid Learning Option \n\nTuesday\, August 19th 7:00-9:00 PM (via Zoom)\nThursday\, August 21st 7:00-9:00 PM (via Zoom)\nSaturday\, August 23rd 9:00 AM – 4:00 PM (In-person\, North Vancouver)\n\nREGISTER HERE for the August Hybrid Learning Option. \nRegistration deadline: Thursday\, August 7th \nRowing BC’s Office and the Umpire Clinician facilitating this clinic will be in touch with you to provide final details in the week leading up to this clinic. \n\nOther opportunities to take the Level 2 Umpire Clinic include: \nSeptember Hybrid Learning Option \n\nWednesday\, September 3rd 7:00-9:00 PM (via Zoom)\nThursday\, September 11th 7:00-9:00 PM (via Zoom)\nSaturday\, September 13th 9:00 AM – 5:00 PM (In-person\, Victoria)\n\nLook for these on the Rowing BC events calendar. \n\nHave questions? Contact the Rowing BC Umpire Committee.
URL:https://rowingbc.ca/event/workshop-level-2-umpire-clinic-3/
CATEGORIES:RBC Umpire Events
END:VEVENT
BEGIN:VEVENT
DTSTART;VALUE=DATE:20250824
DTEND;VALUE=DATE:20250825
DTSTAMP:20260420T023641
CREATED:20250620T203834Z
LAST-MODIFIED:20250626T195549Z
UID:10000608-1755993600-1756079999@rowingbc.ca
SUMMARY:WORKSHOP: RCA Learn to Row Coach Workshop (In-Person)
DESCRIPTION:Workshop Overview: \nThe RCA Learn to Row Coach Workshop is intended for coaches who will be working with beginner athletes (those in the Learn to Train stage of Long Term Athlete Development). \nIn this workshop you will learn about and discuss: safety\, analyzing the rowing stroke\, Long Term Athlete Development\, lesson planning\, skills analysis\, teaching and learning\, rigging\, para rowing\, and modifying Learn to Row lessons to meet the needs of your club and the participants. \nFollowing completion of this workshop you will be “RCA Learn to Row Coach Trained”. \nDetails:  \nThis workshop will be delivered in-person\, in Vancouver (location TBA closer to the workshop date): \n\nSunday\, August 24th 9:00 AM – 5:00 PM\n\nFull engagement for the duration of the session is required to have completed the RCA Learn to Row Coach workshop. \nRegistration:  Registration and payment ($200 workshop fee) is available through EventBrite HERE. \nRegistration will close on August 11\, 2025. There must be a minimum of 6 registrants at that time for this workshop to proceed. Contact memberservices@rowingbc.ca if you have missed the deadline and want to know more about other upcoming opportunities. \nPre-requisites:  \nBefore taking this workshop\, all coaches must have completed the following RCA Every Coach Certified Requirements: \n\nCriminal Record Check\nNCCP Coach Initiation In Sport (Online Module)\nRCA Rowing Essentials (Online Module)\nMaking Ethical Decisions Module (Multiple Delivery Options Available)\n\nInformation about how to complete each of these requirements is available HERE. \nIn addition\, coaches are expected to have a Pleasure Craft Operator’s Card. \n\nHave further questions? Reach out! \nAdditional information about the Coach Pathway is available HERE.
URL:https://rowingbc.ca/event/workshop-rca-learn-to-row-coach-workshop-in-person-2/
CATEGORIES:Coach Workshops,RCA Learn To Row Instructor Workshop
END:VEVENT
BEGIN:VEVENT
DTSTART;TZID=America/Vancouver:20250825T174500
DTEND;TZID=America/Vancouver:20250825T210000
DTSTAMP:20260420T023641
CREATED:20250515T195456Z
LAST-MODIFIED:20250515T200446Z
UID:10000598-1756143900-1756155600@rowingbc.ca
SUMMARY:WORKSHOP: RCA Coach Weekend 1 Hybrid Workshop (Day 1 of 3)
DESCRIPTION:Workshop Overview: \nThe RCA Coach Workshop is intended for coaches who will be working with athletes interested in regional and provincial competition (those in the Train to Train and Learn to Compete stage of Long Term Athlete Development). \nThis workshop is divided into two weekends of learning – RCA Coach Weekend 1 Workshop and RCA Coach Weekend 2 Workshop. In general\, it is encouraged that coaches leave a gap between taking these workshops in order to develop their portfolio and use the knowledge gained from the first workshop before returning for the second one. \nIn these workshops you will learn about and discuss: Long Term Athlete Development\, analyzing rowing technique\, analyzing rigging (including adaptations for para athletes)\, designing a sport program\, movement screens\, planning a practice\, supporting athletes in training\, testing and monitoring athlete performance\, and supporting competitive experiences. \nFollowing completion of this workshop your status will be “RCA Coach In-Training” and you will be ready to take the RCA Coach Weekend 2 Workshop within a few months (keep an eye out for options in the Fall!). \nDetails:  \nThis workshop will be delivered in a hybrid format\, split across three dates: \n\nMonday\, August 25th 5:45-9:00 PM (via Zoom)\nThursday\, August 28th 5:45-9:00 PM (via Zoom)\nSunday\, August 31st 9:30 AM-4:00 PM (in-person – Vernon\, BC)\n\nFull engagement during all three sessions is required to have completed the RCA Coach Weekend 1 workshop. \nRegistration:  Registration and payment ($275 workshop fee) is available through EventBrite HERE. \nRegistration will close at 8 AM on Monday\, August 11th. There must be a minimum of 6 registrants at that time for this workshop to proceed. Contact memberservices@rowingbc.ca if you have missed the deadline and want to know more about other upcoming opportunities. \nPre-requisites:  \nBefore taking this workshop\, all coaches must have completed the following RCA Every Coach Certified Requirements: \n\nCriminal Record Check\nNCCP Coach Initiation In Sport (Online Module)\nRCA Rowing Essentials (Online Module)\nMaking Ethical Decisions Module (Multiple Delivery Options Available)\n\nInformation about how to complete each of these requirements is available HERE. \nIn addition\, coaches are expected to have a Pleasure Craft Operator’s Card. \n\nHave further questions? Reach out! \nAdditional information about the Coach Pathway is available HERE.
URL:https://rowingbc.ca/event/workshop-rca-coach-weekend-1-hybrid-workshop-day-1-of-3/
CATEGORIES:RCA Coach Workshops
END:VEVENT
BEGIN:VEVENT
DTSTART;TZID=America/Vancouver:20250828T174500
DTEND;TZID=America/Vancouver:20250828T210000
DTSTAMP:20260420T023641
CREATED:20250515T195610Z
LAST-MODIFIED:20250515T200518Z
UID:10000599-1756403100-1756414800@rowingbc.ca
SUMMARY:WORKSHOP: RCA Coach Weekend 1 Workshop (Day 2 of 3)
DESCRIPTION:Workshop Overview: \nThe RCA Coach Workshop is intended for coaches who will be working with athletes interested in regional and provincial competition (those in the Train to Train and Learn to Compete stage of Long Term Athlete Development). \nThis workshop is divided into two weekends of learning – RCA Coach Weekend 1 Workshop and RCA Coach Weekend 2 Workshop. In general\, it is encouraged that coaches leave a gap between taking these workshops in order to develop their portfolio and use the knowledge gained from the first workshop before returning for the second one. \nIn these workshops you will learn about and discuss: Long Term Athlete Development\, analyzing rowing technique\, analyzing rigging (including adaptations for para athletes)\, designing a sport program\, movement screens\, planning a practice\, supporting athletes in training\, testing and monitoring athlete performance\, and supporting competitive experiences. \nFollowing completion of this workshop your status will be “RCA Coach In-Training” and you will be ready to take the RCA Coach Weekend 2 Workshop within a few months (keep an eye out for options in the Fall!). \nDetails:  \nThis workshop will be delivered in a hybrid format\, split across three dates: \n\nMonday\, August 25th 5:45-9:00 PM (via Zoom)\nThursday\, August 28th 5:45-9:00 PM (via Zoom)\nSunday\, August 31st 9:30 AM-4:00 PM (in-person – Vernon\, BC)\n\nFull engagement during all three sessions is required to have completed the RCA Coach Weekend 1 workshop. \nRegistration:  Registration and payment ($275 workshop fee) is available through EventBrite HERE. \nRegistration will close at 8 AM on Monday\, August 11th. There must be a minimum of 6 registrants at that time for this workshop to proceed. Contact memberservices@rowingbc.ca if you have missed the deadline and want to know more about other upcoming opportunities. \nPre-requisites:  \nBefore taking this workshop\, all coaches must have completed the following RCA Every Coach Certified Requirements: \n\nCriminal Record Check\nNCCP Coach Initiation In Sport (Online Module)\nRCA Rowing Essentials (Online Module)\nMaking Ethical Decisions Module (Multiple Delivery Options Available)\n\nInformation about how to complete each of these requirements is available HERE. \nIn addition\, coaches are expected to have a Pleasure Craft Operator’s Card. \n\nHave further questions? Reach out! \nAdditional information about the Coach Pathway is available HERE.
URL:https://rowingbc.ca/event/workshop-rca-coach-weekend-1-workshop-day-2-of-3/
CATEGORIES:RCA Coach Workshops
END:VEVENT
BEGIN:VEVENT
DTSTART;VALUE=DATE:20250830
DTEND;VALUE=DATE:20250901
DTSTAMP:20260420T023641
CREATED:20241009T204419Z
LAST-MODIFIED:20241009T204419Z
UID:10000546-1756512000-1756684799@rowingbc.ca
SUMMARY:REGATTA: Cascadia Coastal Endurance and Beach Sprints Regatta (Vancouver)
DESCRIPTION:Cascadia Coastal Beach Sprints and Endurance Regatta hosted by Cascadia Regatta Association. \nLocation: Kitsilano Beach\, Vancouver \nDescription: Beach sprint events will take place over two days. An endurance race will run on Sunday morning. \nRegistration: Registration and more information available on Regatta Central (search Cascadia Coastal Beach Sprints and Endurance Regatta under Canadian Regattas). \nQuestions can be directed to Local Organizing Committee Chairs\, Shelley Fletcher and Bill Myra.
URL:https://rowingbc.ca/event/regatta-cascadia-coastal-endurance-and-beach-sprints-regatta-vancouver/
CATEGORIES:Regattas
END:VEVENT
BEGIN:VEVENT
DTSTART;TZID=America/Vancouver:20250831T093000
DTEND;TZID=America/Vancouver:20250831T160000
DTSTAMP:20260420T023641
CREATED:20250515T195653Z
LAST-MODIFIED:20250515T200551Z
UID:10000600-1756632600-1756656000@rowingbc.ca
SUMMARY:WORKSHOP: RCA Coach Weekend 1 Workshop (Day 3 of 3)
DESCRIPTION:Workshop Overview: \nThe RCA Coach Workshop is intended for coaches who will be working with athletes interested in regional and provincial competition (those in the Train to Train and Learn to Compete stage of Long Term Athlete Development). \nThis workshop is divided into two weekends of learning – RCA Coach Weekend 1 Workshop and RCA Coach Weekend 2 Workshop. In general\, it is encouraged that coaches leave a gap between taking these workshops in order to develop their portfolio and use the knowledge gained from the first workshop before returning for the second one. \nIn these workshops you will learn about and discuss: Long Term Athlete Development\, analyzing rowing technique\, analyzing rigging (including adaptations for para athletes)\, designing a sport program\, movement screens\, planning a practice\, supporting athletes in training\, testing and monitoring athlete performance\, and supporting competitive experiences. \nFollowing completion of this workshop your status will be “RCA Coach In-Training” and you will be ready to take the RCA Coach Weekend 2 Workshop within a few months (keep an eye out for options in the Fall!). \nDetails:  \nThis workshop will be delivered in a hybrid format\, split across three dates: \n\nMonday\, August 25th 5:45-9:00 PM (via Zoom)\nThursday\, August 28th 5:45-9:00 PM (via Zoom)\nSunday\, August 31st 9:30 AM-4:00 PM (in-person – Vernon\, BC)\n\nFull engagement during all three sessions is required to have completed the RCA Coach Weekend 1 workshop. \nRegistration:  Registration and payment ($275 workshop fee) is available through EventBrite HERE. \nRegistration will close at 8 AM on Monday\, August 11th. There must be a minimum of 6 registrants at that time for this workshop to proceed. Contact memberservices@rowingbc.ca if you have missed the deadline and want to know more about other upcoming opportunities. \nPre-requisites:  \nBefore taking this workshop\, all coaches must have completed the following RCA Every Coach Certified Requirements: \n\nCriminal Record Check\nNCCP Coach Initiation In Sport (Online Module)\nRCA Rowing Essentials (Online Module)\nMaking Ethical Decisions Module (Multiple Delivery Options Available)\n\nInformation about how to complete each of these requirements is available HERE. \nIn addition\, coaches are expected to have a Pleasure Craft Operator’s Card. \n\nHave further questions? Reach out! \nAdditional information about the Coach Pathway is available HERE.
URL:https://rowingbc.ca/event/workshop-rca-coach-weekend-1-workshop-day-3-of-3/
CATEGORIES:RCA Coach Workshops
END:VEVENT
END:VCALENDAR