BEGIN:VCALENDAR
VERSION:2.0
PRODID:-//Rowing British Columbia - ECPv6.15.12.2//NONSGML v1.0//EN
CALSCALE:GREGORIAN
METHOD:PUBLISH
X-WR-CALNAME:Rowing British Columbia
X-ORIGINAL-URL:https://rowingbc.ca
X-WR-CALDESC:Events for Rowing British Columbia
REFRESH-INTERVAL;VALUE=DURATION:PT1H
X-Robots-Tag:noindex
X-PUBLISHED-TTL:PT1H
BEGIN:VTIMEZONE
TZID:America/Vancouver
BEGIN:DAYLIGHT
TZOFFSETFROM:-0800
TZOFFSETTO:-0700
TZNAME:PDT
DTSTART:20250309T100000
END:DAYLIGHT
BEGIN:STANDARD
TZOFFSETFROM:-0700
TZOFFSETTO:-0800
TZNAME:PST
DTSTART:20251102T090000
END:STANDARD
BEGIN:DAYLIGHT
TZOFFSETFROM:-0800
TZOFFSETTO:-0700
TZNAME:PDT
DTSTART:20260308T100000
END:DAYLIGHT
BEGIN:STANDARD
TZOFFSETFROM:-0700
TZOFFSETTO:-0800
TZNAME:PST
DTSTART:20261101T090000
END:STANDARD
BEGIN:DAYLIGHT
TZOFFSETFROM:-0800
TZOFFSETTO:-0700
TZNAME:PDT
DTSTART:20270314T100000
END:DAYLIGHT
BEGIN:STANDARD
TZOFFSETFROM:-0700
TZOFFSETTO:-0800
TZNAME:PST
DTSTART:20271107T090000
END:STANDARD
END:VTIMEZONE
BEGIN:VEVENT
DTSTART;VALUE=DATE:20260116
DTEND;VALUE=DATE:20260119
DTSTAMP:20260420T101149
CREATED:20250923T193854Z
LAST-MODIFIED:20251219T215113Z
UID:10000620-1768521600-1768780799@rowingbc.ca
SUMMARY:RCA Coach Weekend 2 Workshop
DESCRIPTION:Workshop Overview: \nThe RCA Coach Workshop is intended for coaches who will be working with athletes interested in regional and provincial competition (those in the Train to Train and Learn to Compete stage of Long Term Athlete Development). \nThis workshop is divided into two weekends of learning – RCA Coach Weekend 1 Workshop and RCA Coach Weekend 2 Workshop. Rowing BC offers Weekend 1 annually in November and Weekend 2 annually in January. Coaches are encouraged to take these as a set rather than waiting more than a year in between workshops. \nIn these workshops you will learn about and discuss: Long Term Athlete Development\, analyzing rowing technique\, analyzing rigging (including adaptations for para athletes)\, designing a sport program\, movement screens\, planning a practice\, supporting athletes in training\, testing and monitoring athlete performance\, and supporting competitive experiences. \nFollowing completion of this workshop your status will be “RCA Coach Trained” and you will be ready to complete your RCA Coach evaluation shortly afterwards. \nDetails:  \nThis workshop will be delivered in-person in Vancouver\, BC hosted at the Vancouver Rowing Club (450 Stanley Park Drive): \n\nFriday\, January 16th 6 – 8 PM\nSaturday\, January 17th 9 AM – 5 PM\nSunday\, January 18th 9 AM – 5 PM\n\nFull engagement during all sessions is required to have completed the RCA Coach Weekend 2 workshop. \nRegistration:  Registration and payment ($275 workshop fee) is available through EventBrite HERE. \nRegistration will close at 8 AM on Friday\, January 2\, 2026. There must be a minimum of 6 registrants at that time for this workshop to proceed. Contact memberservices@rowingbc.ca if you have missed the deadline and want to know more about other upcoming opportunities. \nPre-requisites:  \nBefore taking this workshop\, all coaches must have completed the following RCA Every Coach Certified Requirements: \n\nCriminal Record Check\nNCCP Coach Initiation In Sport (Online Module)\nRCA Rowing Essentials (Online Module)\nMaking Ethical Decisions Module (Multiple Delivery Options Available)\n\nInformation about how to complete each of these requirements is available HERE. \nCoaches must have completed the RCA Coach Weekend 1 Workshop before attending the RCA Coach Weekend 2 Workshop. \nIn addition\, coaches are expected to have a Pleasure Craft Operator’s Card. \n\nHave further questions? Reach out! \nAdditional information about the Coach Pathway is available HERE.
URL:https://rowingbc.ca/event/workshop-rca-coach-weekend-2-workshop-2/
CATEGORIES:Coach Workshops
END:VEVENT
BEGIN:VEVENT
DTSTART;VALUE=DATE:20260124
DTEND;VALUE=DATE:20260126
DTSTAMP:20260420T101149
CREATED:20250820T203610Z
LAST-MODIFIED:20251218T230228Z
UID:10000611-1769212800-1769385599@rowingbc.ca
SUMMARY:Junior Performance Camp (Victoria)
DESCRIPTION:Come join BC’s top identified Junior athletes at the Rowing BC Junior Development Camp held in Victoria on January 24-25\, 2026. \nInterested athletes are invited to APPLY HERE  \nGet involved at this camp through Rowing BC’s Coach Mentorship Program! Two coaches will be selected to be involved\, and will be thanked with an honorarium for their time. \nInterested coaches are invited toAPPLY HERE  \nApplications close January 7\, 2026.  \nFor questions\, contact Rowing BC’s Director of Performance\, Terry Paul. \nMore information about all of Rowing BC’s Development Camps and performance opportunities can be found HERE.
URL:https://rowingbc.ca/event/camp-performance-camp-victoria-4/
END:VEVENT
BEGIN:VEVENT
DTSTART;VALUE=DATE:20260131
DTEND;VALUE=DATE:20260201
DTSTAMP:20260420T101149
CREATED:20250924T174906Z
LAST-MODIFIED:20260107T184830Z
UID:10000623-1769817600-1769903999@rowingbc.ca
SUMMARY:REGATTA: Beat the Beast (Vancouver)
DESCRIPTION:Beat the Beast hosted by St. George’s School Rowing.  \nLocation: St. George’s School (4175 W 29th Ave\, Vancouver\, BC) \nDescription: This indoor rowing regatta includes all athlete streams\, and is intended as a regional end-of-winter indoor regatta. \nRegistration: Registration and more information will be available on Regatta Central. \nQuestions can be directed to St. George’s School Rowing.
URL:https://rowingbc.ca/event/regatta-beat-the-beast-3/
CATEGORIES:Regattas
END:VEVENT
END:VCALENDAR