BEGIN:VCALENDAR
VERSION:2.0
PRODID:-//Rowing British Columbia - ECPv6.15.12.2//NONSGML v1.0//EN
CALSCALE:GREGORIAN
METHOD:PUBLISH
X-WR-CALNAME:Rowing British Columbia
X-ORIGINAL-URL:https://rowingbc.ca
X-WR-CALDESC:Events for Rowing British Columbia
REFRESH-INTERVAL;VALUE=DURATION:PT1H
X-Robots-Tag:noindex
X-PUBLISHED-TTL:PT1H
BEGIN:VTIMEZONE
TZID:America/Vancouver
BEGIN:DAYLIGHT
TZOFFSETFROM:-0800
TZOFFSETTO:-0700
TZNAME:PDT
DTSTART:20160313T100000
END:DAYLIGHT
BEGIN:STANDARD
TZOFFSETFROM:-0700
TZOFFSETTO:-0800
TZNAME:PST
DTSTART:20161106T090000
END:STANDARD
BEGIN:DAYLIGHT
TZOFFSETFROM:-0800
TZOFFSETTO:-0700
TZNAME:PDT
DTSTART:20170312T100000
END:DAYLIGHT
BEGIN:STANDARD
TZOFFSETFROM:-0700
TZOFFSETTO:-0800
TZNAME:PST
DTSTART:20171105T090000
END:STANDARD
BEGIN:DAYLIGHT
TZOFFSETFROM:-0800
TZOFFSETTO:-0700
TZNAME:PDT
DTSTART:20180311T100000
END:DAYLIGHT
BEGIN:STANDARD
TZOFFSETFROM:-0700
TZOFFSETTO:-0800
TZNAME:PST
DTSTART:20181104T090000
END:STANDARD
BEGIN:DAYLIGHT
TZOFFSETFROM:-0800
TZOFFSETTO:-0700
TZNAME:PDT
DTSTART:20190310T100000
END:DAYLIGHT
BEGIN:STANDARD
TZOFFSETFROM:-0700
TZOFFSETTO:-0800
TZNAME:PST
DTSTART:20191103T090000
END:STANDARD
BEGIN:DAYLIGHT
TZOFFSETFROM:-0800
TZOFFSETTO:-0700
TZNAME:PDT
DTSTART:20200308T100000
END:DAYLIGHT
BEGIN:STANDARD
TZOFFSETFROM:-0700
TZOFFSETTO:-0800
TZNAME:PST
DTSTART:20201101T090000
END:STANDARD
BEGIN:DAYLIGHT
TZOFFSETFROM:-0800
TZOFFSETTO:-0700
TZNAME:PDT
DTSTART:20210314T100000
END:DAYLIGHT
BEGIN:STANDARD
TZOFFSETFROM:-0700
TZOFFSETTO:-0800
TZNAME:PST
DTSTART:20211107T090000
END:STANDARD
BEGIN:DAYLIGHT
TZOFFSETFROM:-0800
TZOFFSETTO:-0700
TZNAME:PDT
DTSTART:20220313T100000
END:DAYLIGHT
BEGIN:STANDARD
TZOFFSETFROM:-0700
TZOFFSETTO:-0800
TZNAME:PST
DTSTART:20221106T090000
END:STANDARD
BEGIN:DAYLIGHT
TZOFFSETFROM:-0800
TZOFFSETTO:-0700
TZNAME:PDT
DTSTART:20230312T100000
END:DAYLIGHT
BEGIN:STANDARD
TZOFFSETFROM:-0700
TZOFFSETTO:-0800
TZNAME:PST
DTSTART:20231105T090000
END:STANDARD
END:VTIMEZONE
BEGIN:VEVENT
DTSTART;VALUE=DATE:20221001
DTEND;VALUE=DATE:20221003
DTSTAMP:20260422T030520
CREATED:20211202T223958Z
LAST-MODIFIED:20211220T223806Z
UID:10000255-1664582400-1664755199@rowingbc.ca
SUMMARY:REGATTA: Burnaby Lake Small Boat Invitational
DESCRIPTION:Burnaby Lake Small Boat Invitational hosted by Burnaby Lake Rowing Club.  \nLocation: Burnaby Lake \nDescription: This 4000m time trial race is attended by a wide variety of athletes from the Lower Mainland\, often including those looking for preparing for the Head and Tail of the Gorge regattas. This regatta has a relaxed atmosphere ensuring everyone from novice to performance feels welcome.  \nRegistration: Registration and more information available HERE closer to the regatta date.
URL:https://rowingbc.ca/event/regatta-burnaby-lake-small-boat-invitational/
LOCATION:Burnaby Lake\, 6871 Roberts St\, Burnaby\, British Columbia\, V5B 3C1\, Canada
CATEGORIES:Regattas
ORGANIZER;CN="Burnaby Lake Rowing Club":MAILTO:bruce.ford@aecom.com
GEO:49.2453883;-122.9588996
X-APPLE-STRUCTURED-LOCATION;VALUE=URI;X-ADDRESS=Burnaby Lake 6871 Roberts St Burnaby British Columbia V5B 3C1 Canada;X-APPLE-RADIUS=500;X-TITLE=6871 Roberts St:geo:-122.9588996,49.2453883
END:VEVENT
BEGIN:VEVENT
DTSTART;VALUE=DATE:20211003
DTEND;VALUE=DATE:20211004
DTSTAMP:20260422T030520
CREATED:20201104T202622Z
LAST-MODIFIED:20210901T170824Z
UID:10000320-1633219200-1633305599@rowingbc.ca
SUMMARY:Burnaby Lake Small Boat Invitational
DESCRIPTION:Burnaby Lake Small Boat Invitational hosted by Burnaby Lake Rowing Club. \nThis 4000m time trial race is attended by a wide variety of athletes from the Lower Mainland\, often including those looking for preparing for the Head and Tail of the Gorge regattas. This regatta has a relaxed atmosphere ensuring everyone from novice to performance feels welcome. \nLearn more about the Burnaby Lake Rowing Club here \nComplete Event Information and Registration will be available through Regatta Central here closer to the event date. \n 
URL:https://rowingbc.ca/event/burnaby-lake-small-boat-invitational-4/
LOCATION:Burnaby Lake\, 6871 Roberts St\, Burnaby\, British Columbia\, V5B 3C1\, Canada
CATEGORIES:Regattas
ORGANIZER;CN="Burnaby Lake Rowing Club":MAILTO:bruce.ford@aecom.com
GEO:49.2453883;-122.9588996
X-APPLE-STRUCTURED-LOCATION;VALUE=URI;X-ADDRESS=Burnaby Lake 6871 Roberts St Burnaby British Columbia V5B 3C1 Canada;X-APPLE-RADIUS=500;X-TITLE=6871 Roberts St:geo:-122.9588996,49.2453883
END:VEVENT
BEGIN:VEVENT
DTSTART;VALUE=DATE:20201003
DTEND;VALUE=DATE:20201004
DTSTAMP:20260422T030520
CREATED:20200123T024147Z
LAST-MODIFIED:20200123T024147Z
UID:10000277-1601683200-1601769599@rowingbc.ca
SUMMARY:Burnaby Lake Small Boat Invitational
DESCRIPTION:General information available here \nRegistration information available here
URL:https://rowingbc.ca/event/burnaby-lake-small-boat-invitational-3/
LOCATION:Burnaby Lake\, 6871 Roberts St\, Burnaby\, British Columbia\, V5B 3C1\, Canada
CATEGORIES:Regattas
ORGANIZER;CN="Burnaby Lake Rowing Club":MAILTO:bruce.ford@aecom.com
GEO:49.2453883;-122.9588996
X-APPLE-STRUCTURED-LOCATION;VALUE=URI;X-ADDRESS=Burnaby Lake 6871 Roberts St Burnaby British Columbia V5B 3C1 Canada;X-APPLE-RADIUS=500;X-TITLE=6871 Roberts St:geo:-122.9588996,49.2453883
END:VEVENT
BEGIN:VEVENT
DTSTART;VALUE=DATE:20200612
DTEND;VALUE=DATE:20200615
DTSTAMP:20260422T030520
CREATED:20200123T015941Z
LAST-MODIFIED:20200428T011533Z
UID:10000262-1591920000-1592179199@rowingbc.ca
SUMMARY:Coaches Regatta at Burnaby Lake..cancelled
DESCRIPTION:General information available here \nRegistration information available here
URL:https://rowingbc.ca/event/coaches-regatta-at-burnaby-lake/
LOCATION:Burnaby Lake\, 6871 Roberts St\, Burnaby\, British Columbia\, V5B 3C1\, Canada
CATEGORIES:Regattas
ORGANIZER;CN="Burnaby Lake Rowing Club":MAILTO:bruce.ford@aecom.com
GEO:49.2453883;-122.9588996
X-APPLE-STRUCTURED-LOCATION;VALUE=URI;X-ADDRESS=Burnaby Lake 6871 Roberts St Burnaby British Columbia V5B 3C1 Canada;X-APPLE-RADIUS=500;X-TITLE=6871 Roberts St:geo:-122.9588996,49.2453883
END:VEVENT
BEGIN:VEVENT
DTSTART;VALUE=DATE:20181006
DTEND;VALUE=DATE:20181007
DTSTAMP:20260422T030520
CREATED:20171205T193921Z
LAST-MODIFIED:20171205T193921Z
UID:10000131-1538784000-1538870399@rowingbc.ca
SUMMARY:Burnaby Lake Small Boat Invitational
DESCRIPTION:Full event information: https://sites.google.com/site/blrc4ktt/
URL:https://rowingbc.ca/event/burnaby-lake-small-boat-invitational/
LOCATION:Burnaby Lake\, 6871 Roberts St\, Burnaby\, British Columbia\, V5B 3C1\, Canada
CATEGORIES:Regattas
ORGANIZER;CN="Burnaby Lake Rowing Club":MAILTO:bruce.ford@aecom.com
GEO:49.2453883;-122.9588996
X-APPLE-STRUCTURED-LOCATION;VALUE=URI;X-ADDRESS=Burnaby Lake 6871 Roberts St Burnaby British Columbia V5B 3C1 Canada;X-APPLE-RADIUS=500;X-TITLE=6871 Roberts St:geo:-122.9588996,49.2453883
END:VEVENT
BEGIN:VEVENT
DTSTART;VALUE=DATE:20171007
DTEND;VALUE=DATE:20171008
DTSTAMP:20260422T030520
CREATED:20170919T185926Z
LAST-MODIFIED:20170919T185926Z
UID:10000017-1507334400-1507420799@rowingbc.ca
SUMMARY:2017 Burnaby Lake Small Boat Regatta
DESCRIPTION:
URL:https://rowingbc.ca/event/2017-burnaby-lake-small-boat-regatta/
LOCATION:Burnaby Lake\, 6871 Roberts St\, Burnaby\, British Columbia\, V5B 3C1\, Canada
CATEGORIES:Regattas
ORGANIZER;CN="Burnaby Lake Rowing Club":MAILTO:bruce.ford@aecom.com
GEO:49.2453883;-122.9588996
X-APPLE-STRUCTURED-LOCATION;VALUE=URI;X-ADDRESS=Burnaby Lake 6871 Roberts St Burnaby British Columbia V5B 3C1 Canada;X-APPLE-RADIUS=500;X-TITLE=6871 Roberts St:geo:-122.9588996,49.2453883
END:VEVENT
BEGIN:VEVENT
DTSTART;VALUE=DATE:20170624
DTEND;VALUE=DATE:20170625
DTSTAMP:20260422T030520
CREATED:20161202T222446Z
LAST-MODIFIED:20161202T222446Z
UID:10000087-1498262400-1498348799@rowingbc.ca
SUMMARY:2017 Burnaby Lake Mid-Summer Madness Regatta
DESCRIPTION:
URL:https://rowingbc.ca/event/2017-burnaby-lake-mid-summer-madness-regatta/
LOCATION:Burnaby Lake\, 6871 Roberts St\, Burnaby\, British Columbia\, V5B 3C1\, Canada
CATEGORIES:Regattas
ORGANIZER;CN="Burnaby Lake Rowing Club":MAILTO:bruce.ford@aecom.com
GEO:49.2453883;-122.9588996
X-APPLE-STRUCTURED-LOCATION;VALUE=URI;X-ADDRESS=Burnaby Lake 6871 Roberts St Burnaby British Columbia V5B 3C1 Canada;X-APPLE-RADIUS=500;X-TITLE=6871 Roberts St:geo:-122.9588996,49.2453883
END:VEVENT
END:VCALENDAR