BEGIN:VCALENDAR
VERSION:2.0
PRODID:-//Rowing British Columbia - ECPv6.15.12.2//NONSGML v1.0//EN
CALSCALE:GREGORIAN
METHOD:PUBLISH
X-ORIGINAL-URL:https://rowingbc.ca
X-WR-CALDESC:Events for Rowing British Columbia
REFRESH-INTERVAL;VALUE=DURATION:PT1H
X-Robots-Tag:noindex
X-PUBLISHED-TTL:PT1H
BEGIN:VTIMEZONE
TZID:America/Vancouver
BEGIN:DAYLIGHT
TZOFFSETFROM:-0800
TZOFFSETTO:-0700
TZNAME:PDT
DTSTART:20160313T100000
END:DAYLIGHT
BEGIN:STANDARD
TZOFFSETFROM:-0700
TZOFFSETTO:-0800
TZNAME:PST
DTSTART:20161106T090000
END:STANDARD
BEGIN:DAYLIGHT
TZOFFSETFROM:-0800
TZOFFSETTO:-0700
TZNAME:PDT
DTSTART:20170312T100000
END:DAYLIGHT
BEGIN:STANDARD
TZOFFSETFROM:-0700
TZOFFSETTO:-0800
TZNAME:PST
DTSTART:20171105T090000
END:STANDARD
BEGIN:DAYLIGHT
TZOFFSETFROM:-0800
TZOFFSETTO:-0700
TZNAME:PDT
DTSTART:20180311T100000
END:DAYLIGHT
BEGIN:STANDARD
TZOFFSETFROM:-0700
TZOFFSETTO:-0800
TZNAME:PST
DTSTART:20181104T090000
END:STANDARD
BEGIN:DAYLIGHT
TZOFFSETFROM:-0800
TZOFFSETTO:-0700
TZNAME:PDT
DTSTART:20190310T100000
END:DAYLIGHT
BEGIN:STANDARD
TZOFFSETFROM:-0700
TZOFFSETTO:-0800
TZNAME:PST
DTSTART:20191103T090000
END:STANDARD
BEGIN:DAYLIGHT
TZOFFSETFROM:-0800
TZOFFSETTO:-0700
TZNAME:PDT
DTSTART:20200308T100000
END:DAYLIGHT
BEGIN:STANDARD
TZOFFSETFROM:-0700
TZOFFSETTO:-0800
TZNAME:PST
DTSTART:20201101T090000
END:STANDARD
BEGIN:DAYLIGHT
TZOFFSETFROM:-0800
TZOFFSETTO:-0700
TZNAME:PDT
DTSTART:20210314T100000
END:DAYLIGHT
BEGIN:STANDARD
TZOFFSETFROM:-0700
TZOFFSETTO:-0800
TZNAME:PST
DTSTART:20211107T090000
END:STANDARD
BEGIN:DAYLIGHT
TZOFFSETFROM:-0800
TZOFFSETTO:-0700
TZNAME:PDT
DTSTART:20220313T100000
END:DAYLIGHT
BEGIN:STANDARD
TZOFFSETFROM:-0700
TZOFFSETTO:-0800
TZNAME:PST
DTSTART:20221106T090000
END:STANDARD
BEGIN:DAYLIGHT
TZOFFSETFROM:-0800
TZOFFSETTO:-0700
TZNAME:PDT
DTSTART:20230312T100000
END:DAYLIGHT
BEGIN:STANDARD
TZOFFSETFROM:-0700
TZOFFSETTO:-0800
TZNAME:PST
DTSTART:20231105T090000
END:STANDARD
END:VTIMEZONE
BEGIN:VEVENT
DTSTART;VALUE=DATE:20221105
DTEND;VALUE=DATE:20221107
DTSTAMP:20260421T203016
CREATED:20211202T225215Z
LAST-MODIFIED:20211220T225409Z
UID:10000265-1667606400-1667779199@rowingbc.ca
SUMMARY:REGATTA: LVISSA City Championships
DESCRIPTION:LVISSA City Championships hosted by Greater Victoria Youth Rowing Society.  \nLocation: Elk Lake \nDescription: This 1000m sprint event is the culmination of the Fall season for novice and experienced high school athletes from the Greater Victoria area who competed in October Sprints earlier in the season.  \nRegistration: Registration and more information available HERE closer to the regatta date.
URL:https://rowingbc.ca/event/regatta-lvissa-city-championships/
LOCATION:Elk Lake\, 5100 Patricia Bay Hwy\, Victoria\, British Columbia\, V8Y 2T6\, Canada
CATEGORIES:Regattas
ORGANIZER;CN="Greater Victoria Youth Rowing Society":MAILTO:president@gvyrs.ca
GEO:48.5234816;-123.3866952
X-APPLE-STRUCTURED-LOCATION;VALUE=URI;X-ADDRESS=Elk Lake 5100 Patricia Bay Hwy Victoria British Columbia V8Y 2T6 Canada;X-APPLE-RADIUS=500;X-TITLE=5100 Patricia Bay Hwy:geo:-123.3866952,48.5234816
END:VEVENT
BEGIN:VEVENT
DTSTART;VALUE=DATE:20221015
DTEND;VALUE=DATE:20221017
DTSTAMP:20260421T203016
CREATED:20211202T224402Z
LAST-MODIFIED:20220112T003928Z
UID:10000259-1665792000-1665964799@rowingbc.ca
SUMMARY:REGATTA: October Sprints
DESCRIPTION:October Sprints hosted by Greater Victoria Youth Rowing Society.  \nLocation: Elk Lake \nDescription: This 1000m sprint event is intended for novice and experienced high school athletes from the Greater Victoria area who are involved in the GVYRS Fall Season. \nRegistration: Registration and more information available HERE closer to the regatta date.
URL:https://rowingbc.ca/event/regatta-october-sprints/
LOCATION:Elk Lake\, 5100 Patricia Bay Hwy\, Victoria\, British Columbia\, V8Y 2T6\, Canada
CATEGORIES:Regattas
ORGANIZER;CN="Greater Victoria Youth Rowing Society":MAILTO:president@gvyrs.ca
GEO:48.5234816;-123.3866952
X-APPLE-STRUCTURED-LOCATION;VALUE=URI;X-ADDRESS=Elk Lake 5100 Patricia Bay Hwy Victoria British Columbia V8Y 2T6 Canada;X-APPLE-RADIUS=500;X-TITLE=5100 Patricia Bay Hwy:geo:-123.3866952,48.5234816
END:VEVENT
BEGIN:VEVENT
DTSTART;VALUE=DATE:20211106
DTEND;VALUE=DATE:20211108
DTSTAMP:20260421T203016
CREATED:20201104T204215Z
LAST-MODIFIED:20210820T211311Z
UID:10000324-1636156800-1636329599@rowingbc.ca
SUMMARY:LVISSA City Championships
DESCRIPTION:LVISSA City Championships hosted by Greater Victoria Youth Rowing Society. \nThis 1000m sprint event is the culmination of the Fall season for novice and experienced high school athletes from the Greater Victoria area who competed in the Crabfest/Head of the Hamster Regattas\, and October Sprints earlier in the season. \nLearn more about the Greater Victoria Youth Rowing Society here \nComplete Event Information and Registration will be available through Regatta Central here closer to the event date.
URL:https://rowingbc.ca/event/lvissa-city-championships-3/
LOCATION:Elk Lake\, 5100 Patricia Bay Hwy\, Victoria\, British Columbia\, V8Y 2T6\, Canada
CATEGORIES:Regattas
ORGANIZER;CN="Greater Victoria Youth Rowing Society":MAILTO:president@gvyrs.ca
GEO:48.5234816;-123.3866952
X-APPLE-STRUCTURED-LOCATION;VALUE=URI;X-ADDRESS=Elk Lake 5100 Patricia Bay Hwy Victoria British Columbia V8Y 2T6 Canada;X-APPLE-RADIUS=500;X-TITLE=5100 Patricia Bay Hwy:geo:-123.3866952,48.5234816
END:VEVENT
BEGIN:VEVENT
DTSTART;VALUE=DATE:20211023
DTEND;VALUE=DATE:20211025
DTSTAMP:20260421T203016
CREATED:20201104T203112Z
LAST-MODIFIED:20210820T211327Z
UID:10000322-1634947200-1635119999@rowingbc.ca
SUMMARY:October Sprints
DESCRIPTION:October Sprints hosted by Greater Victoria Youth Rowing Society. \nThis 1000m sprint event is intended for the same novice and experienced high school athletes from the Greater Victoria area who attended the Crabfest/Head of the Hamster Regattas earlier in October. This event is the middle of their ISL HS Sprint three-event progression during the Fall season which will finish with the LVISSA City Championships. \nLearn more about the Greater Victoria Rowing Society here \nComplete Event Information and Registration will be available through Regatta Central here closer to the event date.
URL:https://rowingbc.ca/event/october-sprints-2/
LOCATION:Elk Lake\, 5100 Patricia Bay Hwy\, Victoria\, British Columbia\, V8Y 2T6\, Canada
CATEGORIES:Regattas
ORGANIZER;CN="Greater Victoria Youth Rowing Society":MAILTO:president@gvyrs.ca
GEO:48.5234816;-123.3866952
X-APPLE-STRUCTURED-LOCATION;VALUE=URI;X-ADDRESS=Elk Lake 5100 Patricia Bay Hwy Victoria British Columbia V8Y 2T6 Canada;X-APPLE-RADIUS=500;X-TITLE=5100 Patricia Bay Hwy:geo:-123.3866952,48.5234816
END:VEVENT
BEGIN:VEVENT
DTSTART;VALUE=DATE:20211003
DTEND;VALUE=DATE:20211004
DTSTAMP:20260421T203016
CREATED:20201104T202103Z
LAST-MODIFIED:20210820T211348Z
UID:10000319-1633219200-1633305599@rowingbc.ca
SUMMARY:Head of the Hamster
DESCRIPTION:Head of the Hamster hosted by Greater Victoria Youth Rowing Society. \nThis 3000m event is for experienced high school rowers from the Greater Victoria area. These same athletes will have likely been involved in the Crabfest Regatta the day before\, and then will return for a head race to complete the weekend. \nLearn more about the Greater Victoria Rowing Society here \nComplete Event Information and Registration will be available through Regatta Central here closer to the event date.
URL:https://rowingbc.ca/event/head-of-the-hamster/
LOCATION:Elk Lake\, 5100 Patricia Bay Hwy\, Victoria\, British Columbia\, V8Y 2T6\, Canada
CATEGORIES:Regattas
ORGANIZER;CN="Greater Victoria Youth Rowing Society":MAILTO:president@gvyrs.ca
GEO:48.5234816;-123.3866952
X-APPLE-STRUCTURED-LOCATION;VALUE=URI;X-ADDRESS=Elk Lake 5100 Patricia Bay Hwy Victoria British Columbia V8Y 2T6 Canada;X-APPLE-RADIUS=500;X-TITLE=5100 Patricia Bay Hwy:geo:-123.3866952,48.5234816
END:VEVENT
BEGIN:VEVENT
DTSTART;VALUE=DATE:20211003
DTEND;VALUE=DATE:20211004
DTSTAMP:20260421T203016
CREATED:20201104T201904Z
LAST-MODIFIED:20210927T153242Z
UID:10000318-1633219200-1633305599@rowingbc.ca
SUMMARY:Crabfest Regatta
DESCRIPTION:Crabfest Regatta hosted by Greater Victoria Youth Rowing Society. \nThis regatta includes a skills event component and a 500m duel sprint component for high school rowers from the Greater Victoria area\, both novice and experienced. It is the first part of a regatta progression these same athletes attend – starting with the Crabfest Regatta\, followed by the October Sprints\, and finishing with the LVISSA City Championships Regatta. Its primary intention is to provide a first taste of competition for novices. \nLearn more about the Greater Victoria Rowing Society here \nComplete Event Information and Registration will be available through Regatta Central here closer to the event date. \n 
URL:https://rowingbc.ca/event/crabfest-regatta/
LOCATION:Elk Lake\, 5100 Patricia Bay Hwy\, Victoria\, British Columbia\, V8Y 2T6\, Canada
CATEGORIES:Regattas
ORGANIZER;CN="Greater Victoria Youth Rowing Society":MAILTO:president@gvyrs.ca
GEO:48.5234816;-123.3866952
X-APPLE-STRUCTURED-LOCATION;VALUE=URI;X-ADDRESS=Elk Lake 5100 Patricia Bay Hwy Victoria British Columbia V8Y 2T6 Canada;X-APPLE-RADIUS=500;X-TITLE=5100 Patricia Bay Hwy:geo:-123.3866952,48.5234816
END:VEVENT
BEGIN:VEVENT
DTSTART;VALUE=DATE:20201106
DTEND;VALUE=DATE:20201109
DTSTAMP:20260421T203016
CREATED:20200123T030409Z
LAST-MODIFIED:20200910T212654Z
UID:10000281-1604620800-1604879999@rowingbc.ca
SUMMARY:City Championships (cancelled)
DESCRIPTION:General information is available here \nRegistration information is available here
URL:https://rowingbc.ca/event/city-championships/
LOCATION:Elk Lake\, 5100 Patricia Bay Hwy\, Victoria\, British Columbia\, V8Y 2T6\, Canada
CATEGORIES:Regattas
ORGANIZER;CN="Greater Victoria Youth Rowing Society":MAILTO:president@gvyrs.ca
GEO:48.5234816;-123.3866952
X-APPLE-STRUCTURED-LOCATION;VALUE=URI;X-ADDRESS=Elk Lake 5100 Patricia Bay Hwy Victoria British Columbia V8Y 2T6 Canada;X-APPLE-RADIUS=500;X-TITLE=5100 Patricia Bay Hwy:geo:-123.3866952,48.5234816
END:VEVENT
BEGIN:VEVENT
DTSTART;VALUE=DATE:20201023
DTEND;VALUE=DATE:20201026
DTSTAMP:20260421T203016
CREATED:20200123T030231Z
LAST-MODIFIED:20200910T212624Z
UID:10000280-1603411200-1603670399@rowingbc.ca
SUMMARY:October Sprints (cancelled)
DESCRIPTION:General information is available here \nRegistration information is available here
URL:https://rowingbc.ca/event/october-sprints/
LOCATION:Elk Lake\, 5100 Patricia Bay Hwy\, Victoria\, British Columbia\, V8Y 2T6\, Canada
CATEGORIES:Regattas
ORGANIZER;CN="Greater Victoria Youth Rowing Society":MAILTO:president@gvyrs.ca
GEO:48.5234816;-123.3866952
X-APPLE-STRUCTURED-LOCATION;VALUE=URI;X-ADDRESS=Elk Lake 5100 Patricia Bay Hwy Victoria British Columbia V8Y 2T6 Canada;X-APPLE-RADIUS=500;X-TITLE=5100 Patricia Bay Hwy:geo:-123.3866952,48.5234816
END:VEVENT
BEGIN:VEVENT
DTSTART;VALUE=DATE:20201003
DTEND;VALUE=DATE:20201005
DTSTAMP:20260421T203016
CREATED:20200123T023844Z
LAST-MODIFIED:20200910T212513Z
UID:10000276-1601683200-1601855999@rowingbc.ca
SUMMARY:Crabfest and Head of the Hamster (cancelled)
DESCRIPTION:General information available here \nRegistration information available here
URL:https://rowingbc.ca/event/crabfest-and-head-of-the-hamster/
LOCATION:Elk Lake\, 5100 Patricia Bay Hwy\, Victoria\, British Columbia\, V8Y 2T6\, Canada
CATEGORIES:Regattas
ORGANIZER;CN="Greater Victoria Youth Rowing Society":MAILTO:president@gvyrs.ca
GEO:48.5234816;-123.3866952
X-APPLE-STRUCTURED-LOCATION;VALUE=URI;X-ADDRESS=Elk Lake 5100 Patricia Bay Hwy Victoria British Columbia V8Y 2T6 Canada;X-APPLE-RADIUS=500;X-TITLE=5100 Patricia Bay Hwy:geo:-123.3866952,48.5234816
END:VEVENT
BEGIN:VEVENT
DTSTART;VALUE=DATE:20181111
DTEND;VALUE=DATE:20181112
DTSTAMP:20260421T203016
CREATED:20171205T195012Z
LAST-MODIFIED:20171205T195012Z
UID:10000137-1541894400-1541980799@rowingbc.ca
SUMMARY:LVISSA Island Highschool Championships
DESCRIPTION:
URL:https://rowingbc.ca/event/lvissa-island-highschool-championships/
LOCATION:Elk Lake\, 5100 Patricia Bay Hwy\, Victoria\, British Columbia\, V8Y 2T6\, Canada
CATEGORIES:Regattas
ORGANIZER;CN="Greater Victoria Youth Rowing Society":MAILTO:president@gvyrs.ca
GEO:48.5234816;-123.3866952
X-APPLE-STRUCTURED-LOCATION;VALUE=URI;X-ADDRESS=Elk Lake 5100 Patricia Bay Hwy Victoria British Columbia V8Y 2T6 Canada;X-APPLE-RADIUS=500;X-TITLE=5100 Patricia Bay Hwy:geo:-123.3866952,48.5234816
END:VEVENT
BEGIN:VEVENT
DTSTART;VALUE=DATE:20181103
DTEND;VALUE=DATE:20181105
DTSTAMP:20260421T203016
CREATED:20171205T194718Z
LAST-MODIFIED:20171205T194718Z
UID:10000135-1541203200-1541375999@rowingbc.ca
SUMMARY:LVISSA City Championships
DESCRIPTION:
URL:https://rowingbc.ca/event/lvissa-city-championships/
LOCATION:Elk Lake\, 5100 Patricia Bay Hwy\, Victoria\, British Columbia\, V8Y 2T6\, Canada
CATEGORIES:Regattas
ORGANIZER;CN="Greater Victoria Youth Rowing Society":MAILTO:president@gvyrs.ca
GEO:48.5234816;-123.3866952
X-APPLE-STRUCTURED-LOCATION;VALUE=URI;X-ADDRESS=Elk Lake 5100 Patricia Bay Hwy Victoria British Columbia V8Y 2T6 Canada;X-APPLE-RADIUS=500;X-TITLE=5100 Patricia Bay Hwy:geo:-123.3866952,48.5234816
END:VEVENT
BEGIN:VEVENT
DTSTART;VALUE=DATE:20181013
DTEND;VALUE=DATE:20181016
DTSTAMP:20260421T203016
CREATED:20171205T194045Z
LAST-MODIFIED:20180919T155945Z
UID:10000132-1539388800-1539647999@rowingbc.ca
SUMMARY:Annual 2nd Regatta
DESCRIPTION:
URL:https://rowingbc.ca/event/annual-2nd-regatta/
LOCATION:Elk Lake\, 5100 Patricia Bay Hwy\, Victoria\, British Columbia\, V8Y 2T6\, Canada
CATEGORIES:Regattas
ORGANIZER;CN="Greater Victoria Youth Rowing Society":MAILTO:president@gvyrs.ca
GEO:48.5234816;-123.3866952
X-APPLE-STRUCTURED-LOCATION;VALUE=URI;X-ADDRESS=Elk Lake 5100 Patricia Bay Hwy Victoria British Columbia V8Y 2T6 Canada;X-APPLE-RADIUS=500;X-TITLE=5100 Patricia Bay Hwy:geo:-123.3866952,48.5234816
END:VEVENT
BEGIN:VEVENT
DTSTART;VALUE=DATE:20180930
DTEND;VALUE=DATE:20181001
DTSTAMP:20260421T203016
CREATED:20171205T193733Z
LAST-MODIFIED:20171205T193733Z
UID:10000030-1538265600-1538351999@rowingbc.ca
SUMMARY:Crabfest Skills Regatta and Head of the Hamster
DESCRIPTION:
URL:https://rowingbc.ca/event/crabfest-skills-regatta-and-head-of-the-hamster/
LOCATION:Elk Lake\, 5100 Patricia Bay Hwy\, Victoria\, British Columbia\, V8Y 2T6\, Canada
CATEGORIES:Regattas
ORGANIZER;CN="Greater Victoria Youth Rowing Society":MAILTO:president@gvyrs.ca
GEO:48.5234816;-123.3866952
X-APPLE-STRUCTURED-LOCATION;VALUE=URI;X-ADDRESS=Elk Lake 5100 Patricia Bay Hwy Victoria British Columbia V8Y 2T6 Canada;X-APPLE-RADIUS=500;X-TITLE=5100 Patricia Bay Hwy:geo:-123.3866952,48.5234816
END:VEVENT
BEGIN:VEVENT
DTSTART;VALUE=DATE:20171104
DTEND;VALUE=DATE:20171106
DTSTAMP:20260421T203016
CREATED:20161202T230228Z
LAST-MODIFIED:20161202T230228Z
UID:10000071-1509753600-1509926399@rowingbc.ca
SUMMARY:2017 LVISSA City Championships Regatta
DESCRIPTION:
URL:https://rowingbc.ca/event/2017-lvissa-city-championships-regatta/
LOCATION:Elk Lake\, 5100 Patricia Bay Hwy\, Victoria\, British Columbia\, V8Y 2T6\, Canada
CATEGORIES:Regattas
ORGANIZER;CN="Greater Victoria Youth Rowing Society":MAILTO:president@gvyrs.ca
GEO:48.5234816;-123.3866952
X-APPLE-STRUCTURED-LOCATION;VALUE=URI;X-ADDRESS=Elk Lake 5100 Patricia Bay Hwy Victoria British Columbia V8Y 2T6 Canada;X-APPLE-RADIUS=500;X-TITLE=5100 Patricia Bay Hwy:geo:-123.3866952,48.5234816
END:VEVENT
BEGIN:VEVENT
DTSTART;VALUE=DATE:20171014
DTEND;VALUE=DATE:20171016
DTSTAMP:20260421T203016
CREATED:20161202T225158Z
LAST-MODIFIED:20161202T225951Z
UID:10000057-1507939200-1508111999@rowingbc.ca
SUMMARY:2017 Annual Second Regatta (October Sprints)
DESCRIPTION:
URL:https://rowingbc.ca/event/2017-annual-second-regatta-october-sprints/
LOCATION:Elk Lake\, 5100 Patricia Bay Hwy\, Victoria\, British Columbia\, V8Y 2T6\, Canada
CATEGORIES:Regattas
ORGANIZER;CN="Greater Victoria Youth Rowing Society":MAILTO:president@gvyrs.ca
GEO:48.5234816;-123.3866952
X-APPLE-STRUCTURED-LOCATION;VALUE=URI;X-ADDRESS=Elk Lake 5100 Patricia Bay Hwy Victoria British Columbia V8Y 2T6 Canada;X-APPLE-RADIUS=500;X-TITLE=5100 Patricia Bay Hwy:geo:-123.3866952,48.5234816
END:VEVENT
BEGIN:VEVENT
DTSTART;VALUE=DATE:20171001
DTEND;VALUE=DATE:20171002
DTSTAMP:20260421T203016
CREATED:20161202T225048Z
LAST-MODIFIED:20161202T225048Z
UID:10000085-1506816000-1506902399@rowingbc.ca
SUMMARY:2017 Crabfest Skills Regatta & Head of the Hamster Regatta
DESCRIPTION:
URL:https://rowingbc.ca/event/2017-crabfest-skills-regatta-head-of-the-hamster-regatta/
LOCATION:Elk Lake\, 5100 Patricia Bay Hwy\, Victoria\, British Columbia\, V8Y 2T6\, Canada
CATEGORIES:Regattas
ORGANIZER;CN="Greater Victoria Youth Rowing Society":MAILTO:president@gvyrs.ca
GEO:48.5234816;-123.3866952
X-APPLE-STRUCTURED-LOCATION;VALUE=URI;X-ADDRESS=Elk Lake 5100 Patricia Bay Hwy Victoria British Columbia V8Y 2T6 Canada;X-APPLE-RADIUS=500;X-TITLE=5100 Patricia Bay Hwy:geo:-123.3866952,48.5234816
END:VEVENT
END:VCALENDAR