BEGIN:VCALENDAR
VERSION:2.0
PRODID:-//Rowing British Columbia - ECPv6.15.12.2//NONSGML v1.0//EN
CALSCALE:GREGORIAN
METHOD:PUBLISH
X-ORIGINAL-URL:https://rowingbc.ca
X-WR-CALDESC:Events for Rowing British Columbia
REFRESH-INTERVAL;VALUE=DURATION:PT1H
X-Robots-Tag:noindex
X-PUBLISHED-TTL:PT1H
BEGIN:VTIMEZONE
TZID:America/Vancouver
BEGIN:DAYLIGHT
TZOFFSETFROM:-0800
TZOFFSETTO:-0700
TZNAME:PDT
DTSTART:20160313T100000
END:DAYLIGHT
BEGIN:STANDARD
TZOFFSETFROM:-0700
TZOFFSETTO:-0800
TZNAME:PST
DTSTART:20161106T090000
END:STANDARD
BEGIN:DAYLIGHT
TZOFFSETFROM:-0800
TZOFFSETTO:-0700
TZNAME:PDT
DTSTART:20170312T100000
END:DAYLIGHT
BEGIN:STANDARD
TZOFFSETFROM:-0700
TZOFFSETTO:-0800
TZNAME:PST
DTSTART:20171105T090000
END:STANDARD
BEGIN:DAYLIGHT
TZOFFSETFROM:-0800
TZOFFSETTO:-0700
TZNAME:PDT
DTSTART:20180311T100000
END:DAYLIGHT
BEGIN:STANDARD
TZOFFSETFROM:-0700
TZOFFSETTO:-0800
TZNAME:PST
DTSTART:20181104T090000
END:STANDARD
END:VTIMEZONE
BEGIN:VEVENT
DTSTART;TZID=America/Vancouver:20170226T100000
DTEND;TZID=America/Vancouver:20170226T140000
DTSTAMP:20260421T162059
CREATED:20170116T222511Z
LAST-MODIFIED:20170117T225534Z
UID:10000113-1488103200-1488117600@rowingbc.ca
SUMMARY:Row to Podium Testing Event + Come and Try Day
DESCRIPTION:In conjunction with the Inlet Rowing Club’s Come and Try Day Event\, Rowing BC is holding a one-day talent search event for athletes 14-24 years old from with the Tri-City area. Each athlete will go through a set of physiological tests to assess anthropometrics\, strength\, and endurance to find out how they measure up to Rowing Canada’s standards. Athlete testing will occur between 10am-2pm.  Testing is open to both able-bodied and para athletes.  \nThe Come and Try Event is open to all Junior athletes wanting to check out what is offered at the Inlet Rowing Club. \nThere is no cost to participation in this event. \nFor more information\, and to register visit http://www.inletrowingclub.com/row-to-podium.html \n  \n  \n  \n 
URL:https://rowingbc.ca/event/row-to-podium-testing-event-come-and-try-day/
LOCATION:Inlet Rowing Club\, 2715 Esplanade St\, Port Moody\, British Columbia\, V3H 3P4\, Canada
CATEGORIES:Rowing BC Events
ORGANIZER;CN="Rowing British Columbia":MAILTO:sonja.lonne@rowingbc.ca
GEO:49.2797571;-122.8505473
X-APPLE-STRUCTURED-LOCATION;VALUE=URI;X-ADDRESS=Inlet Rowing Club 2715 Esplanade St Port Moody British Columbia V3H 3P4 Canada;X-APPLE-RADIUS=500;X-TITLE=2715 Esplanade St:geo:-122.8505473,49.2797571
END:VEVENT
END:VCALENDAR