BEGIN:VCALENDAR
VERSION:2.0
PRODID:-//Rowing British Columbia - ECPv6.15.12.2//NONSGML v1.0//EN
CALSCALE:GREGORIAN
METHOD:PUBLISH
X-WR-CALNAME:Rowing British Columbia
X-ORIGINAL-URL:https://rowingbc.ca
X-WR-CALDESC:Events for Rowing British Columbia
REFRESH-INTERVAL;VALUE=DURATION:PT1H
X-Robots-Tag:noindex
X-PUBLISHED-TTL:PT1H
BEGIN:VTIMEZONE
TZID:America/Vancouver
BEGIN:DAYLIGHT
TZOFFSETFROM:-0800
TZOFFSETTO:-0700
TZNAME:PDT
DTSTART:20230312T100000
END:DAYLIGHT
BEGIN:STANDARD
TZOFFSETFROM:-0700
TZOFFSETTO:-0800
TZNAME:PST
DTSTART:20231105T090000
END:STANDARD
BEGIN:DAYLIGHT
TZOFFSETFROM:-0800
TZOFFSETTO:-0700
TZNAME:PDT
DTSTART:20240310T100000
END:DAYLIGHT
BEGIN:STANDARD
TZOFFSETFROM:-0700
TZOFFSETTO:-0800
TZNAME:PST
DTSTART:20241103T090000
END:STANDARD
BEGIN:DAYLIGHT
TZOFFSETFROM:-0800
TZOFFSETTO:-0700
TZNAME:PDT
DTSTART:20250309T100000
END:DAYLIGHT
BEGIN:STANDARD
TZOFFSETFROM:-0700
TZOFFSETTO:-0800
TZNAME:PST
DTSTART:20251102T090000
END:STANDARD
END:VTIMEZONE
BEGIN:VEVENT
DTSTART;TZID=America/Vancouver:20240219T100000
DTEND;TZID=America/Vancouver:20240219T160000
DTSTAMP:20260422T011015
CREATED:20240130T210136Z
LAST-MODIFIED:20240130T210136Z
UID:10000516-1708336800-1708358400@rowingbc.ca
SUMMARY:Unconquered Sports Day
DESCRIPTION:Celebrate One Year to Go to the Invictus Games Vancouver Whistler 2025 and try adaptive sports featured in the first Winter Invictus Games!\nThis free Family Day Event offers the chance to try some of the adaptive sports that will be featured in the Invictus Games Vancouver Whistler 2025: Wheelchair Basketball | Sitting Volleyball | Wheelchair Curling | Indoor Rowing \nOpen to all ages and abilities\, attendees will rotate through stations hosted by sport experts who will teach them how to play. Taking place on the Parade Square of the historic Seaforth Armoury\, this sports day is a special opportunity to visit the home of the Seaforth Highlanders. \nFor more information or to reserve a free spot\, click HERE.
URL:https://rowingbc.ca/event/unconquered-sports-day/
LOCATION:Seaforth Armory\, 1650 Burrard Street\, Vancouver\, BC\, V6J 3G4\, Canada
END:VEVENT
END:VCALENDAR