BEGIN:VCALENDAR
VERSION:2.0
PRODID:-//Rowing British Columbia - ECPv6.15.12.2//NONSGML v1.0//EN
CALSCALE:GREGORIAN
METHOD:PUBLISH
X-ORIGINAL-URL:https://rowingbc.ca
X-WR-CALDESC:Events for Rowing British Columbia
REFRESH-INTERVAL;VALUE=DURATION:PT1H
X-Robots-Tag:noindex
X-PUBLISHED-TTL:PT1H
BEGIN:VTIMEZONE
TZID:America/Vancouver
BEGIN:DAYLIGHT
TZOFFSETFROM:-0800
TZOFFSETTO:-0700
TZNAME:PDT
DTSTART:20190310T100000
END:DAYLIGHT
BEGIN:STANDARD
TZOFFSETFROM:-0700
TZOFFSETTO:-0800
TZNAME:PST
DTSTART:20191103T090000
END:STANDARD
BEGIN:DAYLIGHT
TZOFFSETFROM:-0800
TZOFFSETTO:-0700
TZNAME:PDT
DTSTART:20200308T100000
END:DAYLIGHT
BEGIN:STANDARD
TZOFFSETFROM:-0700
TZOFFSETTO:-0800
TZNAME:PST
DTSTART:20201101T090000
END:STANDARD
BEGIN:DAYLIGHT
TZOFFSETFROM:-0800
TZOFFSETTO:-0700
TZNAME:PDT
DTSTART:20210314T100000
END:DAYLIGHT
BEGIN:STANDARD
TZOFFSETFROM:-0700
TZOFFSETTO:-0800
TZNAME:PST
DTSTART:20211107T090000
END:STANDARD
BEGIN:DAYLIGHT
TZOFFSETFROM:-0800
TZOFFSETTO:-0700
TZNAME:PDT
DTSTART:20220313T100000
END:DAYLIGHT
BEGIN:STANDARD
TZOFFSETFROM:-0700
TZOFFSETTO:-0800
TZNAME:PST
DTSTART:20221106T090000
END:STANDARD
END:VTIMEZONE
BEGIN:VEVENT
DTSTART;VALUE=DATE:20210206
DTEND;VALUE=DATE:20210207
DTSTAMP:20260421T130422
CREATED:20201104T182611Z
LAST-MODIFIED:20201118T184234Z
UID:10000292-1612569600-1612655999@rowingbc.ca
SUMMARY:Ergopogo (tentative)
DESCRIPTION:Ergopogo hosted by Kelowna Rowing Club. \nThis regatta includes all athlete streams\, and will function as the regional qualifying regatta leading into the BC Provincial Indoor Rowing Championships. \nLearn more about Kelowna Rowing Club here \nComplete Event Information and Registration will be available through Regatta Central here closer to the event date.
URL:https://rowingbc.ca/event/ergopogo-2/
LOCATION:Kelowna Rowing Club\, Canada
CATEGORIES:Regattas
ORGANIZER;CN="Kelowna Rowing Club":MAILTO:info@kelownarowing
END:VEVENT
BEGIN:VEVENT
DTSTART;VALUE=DATE:20200307
DTEND;VALUE=DATE:20200308
DTSTAMP:20260421T130422
CREATED:20200123T003023Z
LAST-MODIFIED:20200123T003023Z
UID:10000243-1583539200-1583625599@rowingbc.ca
SUMMARY:Ergopogo
DESCRIPTION:General information is available here \nRegistration information is available here \n 
URL:https://rowingbc.ca/event/ergopogo/
LOCATION:Constable Neil Bruce Middle School\, Daimler Drive\, West Kelowns\, Daimler Drive\, West Kelowna\, BC\, Canada
CATEGORIES:Regattas
ORGANIZER;CN="Kelowna Rowing Club":MAILTO:info@kelownarowing
END:VEVENT
END:VCALENDAR