BEGIN:VCALENDAR
VERSION:2.0
PRODID:-//Rowing British Columbia - ECPv6.15.12.2//NONSGML v1.0//EN
CALSCALE:GREGORIAN
METHOD:PUBLISH
X-WR-CALNAME:Rowing British Columbia
X-ORIGINAL-URL:https://rowingbc.ca
X-WR-CALDESC:Events for Rowing British Columbia
REFRESH-INTERVAL;VALUE=DURATION:PT1H
X-Robots-Tag:noindex
X-PUBLISHED-TTL:PT1H
BEGIN:VTIMEZONE
TZID:America/Vancouver
BEGIN:DAYLIGHT
TZOFFSETFROM:-0800
TZOFFSETTO:-0700
TZNAME:PDT
DTSTART:20160313T100000
END:DAYLIGHT
BEGIN:STANDARD
TZOFFSETFROM:-0700
TZOFFSETTO:-0800
TZNAME:PST
DTSTART:20161106T090000
END:STANDARD
BEGIN:DAYLIGHT
TZOFFSETFROM:-0800
TZOFFSETTO:-0700
TZNAME:PDT
DTSTART:20170312T100000
END:DAYLIGHT
BEGIN:STANDARD
TZOFFSETFROM:-0700
TZOFFSETTO:-0800
TZNAME:PST
DTSTART:20171105T090000
END:STANDARD
BEGIN:DAYLIGHT
TZOFFSETFROM:-0800
TZOFFSETTO:-0700
TZNAME:PDT
DTSTART:20180311T100000
END:DAYLIGHT
BEGIN:STANDARD
TZOFFSETFROM:-0700
TZOFFSETTO:-0800
TZNAME:PST
DTSTART:20181104T090000
END:STANDARD
BEGIN:DAYLIGHT
TZOFFSETFROM:-0800
TZOFFSETTO:-0700
TZNAME:PDT
DTSTART:20190310T100000
END:DAYLIGHT
BEGIN:STANDARD
TZOFFSETFROM:-0700
TZOFFSETTO:-0800
TZNAME:PST
DTSTART:20191103T090000
END:STANDARD
BEGIN:DAYLIGHT
TZOFFSETFROM:-0800
TZOFFSETTO:-0700
TZNAME:PDT
DTSTART:20200308T100000
END:DAYLIGHT
BEGIN:STANDARD
TZOFFSETFROM:-0700
TZOFFSETTO:-0800
TZNAME:PST
DTSTART:20201101T090000
END:STANDARD
BEGIN:DAYLIGHT
TZOFFSETFROM:-0800
TZOFFSETTO:-0700
TZNAME:PDT
DTSTART:20210314T100000
END:DAYLIGHT
BEGIN:STANDARD
TZOFFSETFROM:-0700
TZOFFSETTO:-0800
TZNAME:PST
DTSTART:20211107T090000
END:STANDARD
BEGIN:DAYLIGHT
TZOFFSETFROM:-0800
TZOFFSETTO:-0700
TZNAME:PDT
DTSTART:20220313T100000
END:DAYLIGHT
BEGIN:STANDARD
TZOFFSETFROM:-0700
TZOFFSETTO:-0800
TZNAME:PST
DTSTART:20221106T090000
END:STANDARD
BEGIN:DAYLIGHT
TZOFFSETFROM:-0800
TZOFFSETTO:-0700
TZNAME:PDT
DTSTART:20230312T100000
END:DAYLIGHT
BEGIN:STANDARD
TZOFFSETFROM:-0700
TZOFFSETTO:-0800
TZNAME:PST
DTSTART:20231105T090000
END:STANDARD
END:VTIMEZONE
BEGIN:VEVENT
DTSTART;VALUE=DATE:20220409
DTEND;VALUE=DATE:20220410
DTSTAMP:20260422T150901
CREATED:20211202T214715Z
LAST-MODIFIED:20211220T214956Z
UID:10000372-1649462400-1649548799@rowingbc.ca
SUMMARY:REGATTA: Maple Bay Regatta
DESCRIPTION:Maple Bay Regatta hosted by Maple Bay Rowing Club.  \nLocation: Quamichan Lake \nDescription: This 1500m race is intended to provide racing experience to new athletes\, and to those with 2-3 years experience. It is primarily attended by athletes from Vancouver Island. Athletes attend for the race experience\, and for the relaxed atmosphere that allows a balance between focusing on racing and fun. This event usually feeds into the progression of regattas every two weeks on Vancouver Island between April and June\, with many of the same athletes attending the series.  \nRegistration: Registration and more information available HERE closer to the regatta date.
URL:https://rowingbc.ca/event/maple-bay-regatta-2/
LOCATION:Maple Bay\, 6735 Beaumont Ave\, Duncan\, British Columbia\, V9L 5X4\, Canada
CATEGORIES:Regattas
ORGANIZER;CN="Maple Bay Rowing Club":MAILTO:davesymonds@shaw.ca
GEO:48.815819;-123.609837
X-APPLE-STRUCTURED-LOCATION;VALUE=URI;X-ADDRESS=Maple Bay 6735 Beaumont Ave Duncan British Columbia V9L 5X4 Canada;X-APPLE-RADIUS=500;X-TITLE=6735 Beaumont Ave:geo:-123.609837,48.815819
END:VEVENT
BEGIN:VEVENT
DTSTART;VALUE=DATE:20210410
DTEND;VALUE=DATE:20210411
DTSTAMP:20260422T150901
CREATED:20201104T185956Z
LAST-MODIFIED:20210406T171811Z
UID:10000296-1618012800-1618099199@rowingbc.ca
SUMMARY:Maple Bay Regatta (Cancelled)
DESCRIPTION:Maple Bay Regatta hosted by Maple Bay Rowing Club. \nThis 1500m race is intended to provide racing experience to new athletes\, and to those with 2-3 years experience. It has historically been focused on JR\, but will be expanding to include the SR and MA categories\, still with the same regatta purpose. It is primarily attended by athletes from Vancouver Island. Athletes attend for the race experience\, and for the relaxed atmosphere that allows a balance between focusing on racing and fun. This event usually feeds into the progression of regattas every two weeks on Vancouver Island between April and June\, with many of the same athletes attending the series. \nLearn more about the Maple Bay Rowing Club here \nComplete Event Information and Registration will be available through Regatta Central here closer to the event date.
URL:https://rowingbc.ca/event/maple-bay-regatta/
LOCATION:Art Mann Park\, 5990 Indian Rd\, Duncan\, British Columbia\, V9L 5L9\, Canada
CATEGORIES:Regattas
ORGANIZER;CN="Maple Bay Rowing Club":MAILTO:davesymonds@shaw.ca
GEO:56.130366;-106.346771
X-APPLE-STRUCTURED-LOCATION;VALUE=URI;X-ADDRESS=Art Mann Park 5990 Indian Rd Duncan British Columbia V9L 5L9 Canada;X-APPLE-RADIUS=500;X-TITLE=5990 Indian Rd:geo:-106.346771,56.130366
END:VEVENT
BEGIN:VEVENT
DTSTART;VALUE=DATE:20200418
DTEND;VALUE=DATE:20200419
DTSTAMP:20260422T150901
CREATED:20200123T010840Z
LAST-MODIFIED:20200317T005828Z
UID:10000247-1587168000-1587254399@rowingbc.ca
SUMMARY:Maple Bay Rowing Club Annual Regatta..cancelled
DESCRIPTION:General information available here \nRegistration information available here
URL:https://rowingbc.ca/event/maple-bay-rowing-club-annual-regatta-2/
LOCATION:Quamichan Lake\, Duncan\, British Columbia\, Canada
CATEGORIES:Regattas
ORGANIZER;CN="Maple Bay Rowing Club":MAILTO:davesymonds@shaw.ca
GEO:48.7786908;-123.7079417
END:VEVENT
BEGIN:VEVENT
DTSTART;VALUE=DATE:20180414
DTEND;VALUE=DATE:20180415
DTSTAMP:20260422T150901
CREATED:20171205T173803Z
LAST-MODIFIED:20180319T181150Z
UID:10000128-1523664000-1523750399@rowingbc.ca
SUMMARY:Maple Bay Annual Regatta
DESCRIPTION:
URL:https://rowingbc.ca/event/maple-bay-annual-regatta/
LOCATION:Art Mann Park\, 5990 Indian Rd\, Duncan\, British Columbia\, V9L 5L9\, Canada
CATEGORIES:Regattas
ORGANIZER;CN="Maple Bay Rowing Club":MAILTO:davesymonds@shaw.ca
GEO:56.130366;-106.346771
X-APPLE-STRUCTURED-LOCATION;VALUE=URI;X-ADDRESS=Art Mann Park 5990 Indian Rd Duncan British Columbia V9L 5L9 Canada;X-APPLE-RADIUS=500;X-TITLE=5990 Indian Rd:geo:-106.346771,56.130366
END:VEVENT
BEGIN:VEVENT
DTSTART;VALUE=DATE:20170408
DTEND;VALUE=DATE:20170409
DTSTAMP:20260422T150901
CREATED:20161202T220352Z
LAST-MODIFIED:20161202T220352Z
UID:10000096-1491609600-1491695999@rowingbc.ca
SUMMARY:2017 Maple Bay Rowing Club Annual Regatta
DESCRIPTION:
URL:https://rowingbc.ca/event/2017-maple-bay-rowing-club-annual-regatta/
LOCATION:Maple Bay\, 6735 Beaumont Ave\, Duncan\, British Columbia\, V9L 5X4\, Canada
CATEGORIES:Regattas
ORGANIZER;CN="Maple Bay Rowing Club":MAILTO:davesymonds@shaw.ca
GEO:48.815819;-123.609837
X-APPLE-STRUCTURED-LOCATION;VALUE=URI;X-ADDRESS=Maple Bay 6735 Beaumont Ave Duncan British Columbia V9L 5X4 Canada;X-APPLE-RADIUS=500;X-TITLE=6735 Beaumont Ave:geo:-123.609837,48.815819
END:VEVENT
END:VCALENDAR