BEGIN:VCALENDAR
VERSION:2.0
PRODID:-//Rowing British Columbia - ECPv6.15.12.2//NONSGML v1.0//EN
CALSCALE:GREGORIAN
METHOD:PUBLISH
X-ORIGINAL-URL:https://rowingbc.ca
X-WR-CALDESC:Events for Rowing British Columbia
REFRESH-INTERVAL;VALUE=DURATION:PT1H
X-Robots-Tag:noindex
X-PUBLISHED-TTL:PT1H
BEGIN:VTIMEZONE
TZID:America/Vancouver
BEGIN:DAYLIGHT
TZOFFSETFROM:-0800
TZOFFSETTO:-0700
TZNAME:PDT
DTSTART:20160313T100000
END:DAYLIGHT
BEGIN:STANDARD
TZOFFSETFROM:-0700
TZOFFSETTO:-0800
TZNAME:PST
DTSTART:20161106T090000
END:STANDARD
BEGIN:DAYLIGHT
TZOFFSETFROM:-0800
TZOFFSETTO:-0700
TZNAME:PDT
DTSTART:20170312T100000
END:DAYLIGHT
BEGIN:STANDARD
TZOFFSETFROM:-0700
TZOFFSETTO:-0800
TZNAME:PST
DTSTART:20171105T090000
END:STANDARD
BEGIN:DAYLIGHT
TZOFFSETFROM:-0800
TZOFFSETTO:-0700
TZNAME:PDT
DTSTART:20180311T100000
END:DAYLIGHT
BEGIN:STANDARD
TZOFFSETFROM:-0700
TZOFFSETTO:-0800
TZNAME:PST
DTSTART:20181104T090000
END:STANDARD
BEGIN:DAYLIGHT
TZOFFSETFROM:-0800
TZOFFSETTO:-0700
TZNAME:PDT
DTSTART:20190310T100000
END:DAYLIGHT
BEGIN:STANDARD
TZOFFSETFROM:-0700
TZOFFSETTO:-0800
TZNAME:PST
DTSTART:20191103T090000
END:STANDARD
BEGIN:DAYLIGHT
TZOFFSETFROM:-0800
TZOFFSETTO:-0700
TZNAME:PDT
DTSTART:20200308T100000
END:DAYLIGHT
BEGIN:STANDARD
TZOFFSETFROM:-0700
TZOFFSETTO:-0800
TZNAME:PST
DTSTART:20201101T090000
END:STANDARD
BEGIN:DAYLIGHT
TZOFFSETFROM:-0800
TZOFFSETTO:-0700
TZNAME:PDT
DTSTART:20210314T100000
END:DAYLIGHT
BEGIN:STANDARD
TZOFFSETFROM:-0700
TZOFFSETTO:-0800
TZNAME:PST
DTSTART:20211107T090000
END:STANDARD
BEGIN:DAYLIGHT
TZOFFSETFROM:-0800
TZOFFSETTO:-0700
TZNAME:PDT
DTSTART:20220313T100000
END:DAYLIGHT
BEGIN:STANDARD
TZOFFSETFROM:-0700
TZOFFSETTO:-0800
TZNAME:PST
DTSTART:20221106T090000
END:STANDARD
BEGIN:DAYLIGHT
TZOFFSETFROM:-0800
TZOFFSETTO:-0700
TZNAME:PDT
DTSTART:20230312T100000
END:DAYLIGHT
BEGIN:STANDARD
TZOFFSETFROM:-0700
TZOFFSETTO:-0800
TZNAME:PST
DTSTART:20231105T090000
END:STANDARD
END:VTIMEZONE
BEGIN:VEVENT
DTSTART;VALUE=DATE:20220528
DTEND;VALUE=DATE:20220529
DTSTAMP:20260422T100746
CREATED:20211202T220653Z
LAST-MODIFIED:20220214T202110Z
UID:10000377-1653696000-1653782399@rowingbc.ca
SUMMARY:REGATTA: Nanaimo Sprints Regatta
DESCRIPTION:Nanaimo Sprints Regatta hosted by Nanaimo Rowing Club.  \nLocation: Long Lake (Nanaimo) \nDescription: This 1000m event was created as an opportunity to end the Spring season specifically for JR athletes not planning to attend the Canadian Secondary School Rowing Association Regatta. While performance athletes are welcome\, the focus is on the development of novice and JV athletes. This regatta is being expanded to also include opportunities for SR and MA athletes looking for additional race opportunities at this point in the season. For JR athletes\, this event is a sister event to the Delta Deas Scholastic Regatta. They draw on athletes from different regions of the province.  \nRegistration: Registration and more information available HERE closer to the regatta date. \n 
URL:https://rowingbc.ca/event/nanaimo-sprints-regatta-5/
LOCATION:Long Lake\, 4295 Victoria Ave\, Nanaimo\, British Columbia\, V9T 2A9\, Canada
CATEGORIES:Regattas
ORGANIZER;CN="Nanaimo Rowing Club":MAILTO:rutherford.cr@gmail.com
GEO:49.209673;-124.019669
X-APPLE-STRUCTURED-LOCATION;VALUE=URI;X-ADDRESS=Long Lake 4295 Victoria Ave Nanaimo British Columbia V9T 2A9 Canada;X-APPLE-RADIUS=500;X-TITLE=4295 Victoria Ave:geo:-124.019669,49.209673
END:VEVENT
BEGIN:VEVENT
DTSTART;VALUE=DATE:20210529
DTEND;VALUE=DATE:20210530
DTSTAMP:20260422T100746
CREATED:20201104T192001Z
LAST-MODIFIED:20210406T172410Z
UID:10000306-1622246400-1622332799@rowingbc.ca
SUMMARY:Nanaimo Sprints Regatta (Cancelled)
DESCRIPTION:Nanaimo Sprints Regatta hosted by Nanaimo Rowing Club. \nThis 1000m event was created as an opportunity to end the Spring season specifically for JR athletes not planning to attend the Canadian Secondary School Rowing Association Regatta. While performance athletes are welcome\, the focus is on the development of novice and JV athletes. This regatta is being expanded to also include opportunities for SR and MA athletes looking for additional race opportunities at this point in the season. For JR athletes\, this event is a sister event to the Delta Deas Scholastic Regatta. The ISL *New Additions* JR\, SR\, MA Sprint back-to-back dates are not considered a conflict as they draw on athletes from different regions of the province. \nLearn more about Nanaimo Rowing Club here \nComplete Event Information and Registration will be available through Regatta Central here closer to the event date.
URL:https://rowingbc.ca/event/nanaimo-sprints-regatta-2/
LOCATION:Loudon Park\, 4347 Victoria Ave\, Nanaimo\, British Columbia\, V9T 2A8\, Canada
CATEGORIES:Regattas
ORGANIZER;CN="Nanaimo Rowing Club":MAILTO:rutherford.cr@gmail.com
END:VEVENT
BEGIN:VEVENT
DTSTART;VALUE=DATE:20200523
DTEND;VALUE=DATE:20200524
DTSTAMP:20260422T100746
CREATED:20200123T014636Z
LAST-MODIFIED:20200415T190421Z
UID:10000254-1590192000-1590278399@rowingbc.ca
SUMMARY:Nanaimo Sprints..cancelled
DESCRIPTION:General information available here \nRegistration information available here
URL:https://rowingbc.ca/event/nanaimo-sprints-2/
LOCATION:Long Lake\, 4295 Victoria Ave\, Nanaimo\, British Columbia\, V9T 2A9\, Canada
CATEGORIES:Regattas
ORGANIZER;CN="Nanaimo Rowing Club":MAILTO:rutherford.cr@gmail.com
GEO:49.209673;-124.019669
X-APPLE-STRUCTURED-LOCATION;VALUE=URI;X-ADDRESS=Long Lake 4295 Victoria Ave Nanaimo British Columbia V9T 2A9 Canada;X-APPLE-RADIUS=500;X-TITLE=4295 Victoria Ave:geo:-124.019669,49.209673
END:VEVENT
BEGIN:VEVENT
DTSTART;VALUE=DATE:20180526
DTEND;VALUE=DATE:20180527
DTSTAMP:20260422T100746
CREATED:20171205T174432Z
LAST-MODIFIED:20171205T174432Z
UID:10000021-1527292800-1527379199@rowingbc.ca
SUMMARY:Nanaimo Sprints
DESCRIPTION:
URL:https://rowingbc.ca/event/nanaimo-sprints/
LOCATION:Nanaimo\, Nanaimo\, British Columbia\, Canada
CATEGORIES:Regattas
ORGANIZER;CN="Nanaimo Rowing Club":MAILTO:rutherford.cr@gmail.com
GEO:49.1658836;-123.9400648
END:VEVENT
BEGIN:VEVENT
DTSTART;VALUE=DATE:20170527
DTEND;VALUE=DATE:20170528
DTSTAMP:20260422T100746
CREATED:20161202T221444Z
LAST-MODIFIED:20161202T221444Z
UID:10000092-1495843200-1495929599@rowingbc.ca
SUMMARY:2017 Nanaimo Sprints Regatta
DESCRIPTION:
URL:https://rowingbc.ca/event/2017-nanaimo-sprints-regatta/
LOCATION:Long Lake\, 4295 Victoria Ave\, Nanaimo\, British Columbia\, V9T 2A9\, Canada
CATEGORIES:Regattas
ORGANIZER;CN="Nanaimo Rowing Club":MAILTO:rutherford.cr@gmail.com
GEO:49.209673;-124.019669
X-APPLE-STRUCTURED-LOCATION;VALUE=URI;X-ADDRESS=Long Lake 4295 Victoria Ave Nanaimo British Columbia V9T 2A9 Canada;X-APPLE-RADIUS=500;X-TITLE=4295 Victoria Ave:geo:-124.019669,49.209673
END:VEVENT
END:VCALENDAR