BEGIN:VCALENDAR
VERSION:2.0
PRODID:-//Rowing British Columbia - ECPv6.15.12.2//NONSGML v1.0//EN
CALSCALE:GREGORIAN
METHOD:PUBLISH
X-ORIGINAL-URL:https://rowingbc.ca
X-WR-CALDESC:Events for Rowing British Columbia
REFRESH-INTERVAL;VALUE=DURATION:PT1H
X-Robots-Tag:noindex
X-PUBLISHED-TTL:PT1H
BEGIN:VTIMEZONE
TZID:America/Vancouver
BEGIN:DAYLIGHT
TZOFFSETFROM:-0800
TZOFFSETTO:-0700
TZNAME:PDT
DTSTART:20170312T100000
END:DAYLIGHT
BEGIN:STANDARD
TZOFFSETFROM:-0700
TZOFFSETTO:-0800
TZNAME:PST
DTSTART:20171105T090000
END:STANDARD
BEGIN:DAYLIGHT
TZOFFSETFROM:-0800
TZOFFSETTO:-0700
TZNAME:PDT
DTSTART:20180311T100000
END:DAYLIGHT
BEGIN:STANDARD
TZOFFSETFROM:-0700
TZOFFSETTO:-0800
TZNAME:PST
DTSTART:20181104T090000
END:STANDARD
BEGIN:DAYLIGHT
TZOFFSETFROM:-0800
TZOFFSETTO:-0700
TZNAME:PDT
DTSTART:20190310T100000
END:DAYLIGHT
BEGIN:STANDARD
TZOFFSETFROM:-0700
TZOFFSETTO:-0800
TZNAME:PST
DTSTART:20191103T090000
END:STANDARD
BEGIN:DAYLIGHT
TZOFFSETFROM:-0800
TZOFFSETTO:-0700
TZNAME:PDT
DTSTART:20200308T100000
END:DAYLIGHT
BEGIN:STANDARD
TZOFFSETFROM:-0700
TZOFFSETTO:-0800
TZNAME:PST
DTSTART:20201101T090000
END:STANDARD
BEGIN:DAYLIGHT
TZOFFSETFROM:-0800
TZOFFSETTO:-0700
TZNAME:PDT
DTSTART:20210314T100000
END:DAYLIGHT
BEGIN:STANDARD
TZOFFSETFROM:-0700
TZOFFSETTO:-0800
TZNAME:PST
DTSTART:20211107T090000
END:STANDARD
END:VTIMEZONE
BEGIN:VEVENT
DTSTART;VALUE=DATE:20200808
DTEND;VALUE=DATE:20200809
DTSTAMP:20260422T000715
CREATED:20200123T022235Z
LAST-MODIFIED:20200503T160311Z
UID:10000271-1596844800-1596931199@rowingbc.ca
SUMMARY:Nelson Sprints..cancelled
DESCRIPTION:General information available here \nRegistration information available here
URL:https://rowingbc.ca/event/nelson-sprints-2/
LOCATION:Kootenay Lake\, 1923 Lakeside Drive\, Nelson\, British Columbia\, V1L 5Z3\, Canada
CATEGORIES:Regattas
ORGANIZER;CN="Nelson Rowing Club":MAILTO:thenelsonrowingclub@gmail.com
GEO:49.507381;-117.280436
X-APPLE-STRUCTURED-LOCATION;VALUE=URI;X-ADDRESS=Kootenay Lake 1923 Lakeside Drive Nelson British Columbia V1L 5Z3 Canada;X-APPLE-RADIUS=500;X-TITLE=1923 Lakeside Drive:geo:-117.280436,49.507381
END:VEVENT
BEGIN:VEVENT
DTSTART;VALUE=DATE:20180811
DTEND;VALUE=DATE:20180812
DTSTAMP:20260422T000715
CREATED:20171205T193056Z
LAST-MODIFIED:20180703T174206Z
UID:10000027-1533945600-1534031999@rowingbc.ca
SUMMARY:Nelson Sprints
DESCRIPTION:Registration is available on Regatta Central
URL:https://rowingbc.ca/event/nelson-sprints/
LOCATION:Nelson\, Nelson\, British Columbia\, Canada
CATEGORIES:Regattas
ORGANIZER;CN="Nelson Rowing Club":MAILTO:thenelsonrowingclub@gmail.com
GEO:49.4928119;-117.2948343
END:VEVENT
END:VCALENDAR