BEGIN:VCALENDAR
VERSION:2.0
PRODID:-//Rowing British Columbia - ECPv6.15.12.2//NONSGML v1.0//EN
CALSCALE:GREGORIAN
METHOD:PUBLISH
X-WR-CALNAME:Rowing British Columbia
X-ORIGINAL-URL:https://rowingbc.ca
X-WR-CALDESC:Events for Rowing British Columbia
REFRESH-INTERVAL;VALUE=DURATION:PT1H
X-Robots-Tag:noindex
X-PUBLISHED-TTL:PT1H
BEGIN:VTIMEZONE
TZID:America/Vancouver
BEGIN:DAYLIGHT
TZOFFSETFROM:-0800
TZOFFSETTO:-0700
TZNAME:PDT
DTSTART:20160313T100000
END:DAYLIGHT
BEGIN:STANDARD
TZOFFSETFROM:-0700
TZOFFSETTO:-0800
TZNAME:PST
DTSTART:20161106T090000
END:STANDARD
BEGIN:DAYLIGHT
TZOFFSETFROM:-0800
TZOFFSETTO:-0700
TZNAME:PDT
DTSTART:20170312T100000
END:DAYLIGHT
BEGIN:STANDARD
TZOFFSETFROM:-0700
TZOFFSETTO:-0800
TZNAME:PST
DTSTART:20171105T090000
END:STANDARD
BEGIN:DAYLIGHT
TZOFFSETFROM:-0800
TZOFFSETTO:-0700
TZNAME:PDT
DTSTART:20180311T100000
END:DAYLIGHT
BEGIN:STANDARD
TZOFFSETFROM:-0700
TZOFFSETTO:-0800
TZNAME:PST
DTSTART:20181104T090000
END:STANDARD
BEGIN:DAYLIGHT
TZOFFSETFROM:-0800
TZOFFSETTO:-0700
TZNAME:PDT
DTSTART:20190310T100000
END:DAYLIGHT
BEGIN:STANDARD
TZOFFSETFROM:-0700
TZOFFSETTO:-0800
TZNAME:PST
DTSTART:20191103T090000
END:STANDARD
BEGIN:DAYLIGHT
TZOFFSETFROM:-0800
TZOFFSETTO:-0700
TZNAME:PDT
DTSTART:20200308T100000
END:DAYLIGHT
BEGIN:STANDARD
TZOFFSETFROM:-0700
TZOFFSETTO:-0800
TZNAME:PST
DTSTART:20201101T090000
END:STANDARD
BEGIN:DAYLIGHT
TZOFFSETFROM:-0800
TZOFFSETTO:-0700
TZNAME:PDT
DTSTART:20210314T100000
END:DAYLIGHT
BEGIN:STANDARD
TZOFFSETFROM:-0700
TZOFFSETTO:-0800
TZNAME:PST
DTSTART:20211107T090000
END:STANDARD
BEGIN:DAYLIGHT
TZOFFSETFROM:-0800
TZOFFSETTO:-0700
TZNAME:PDT
DTSTART:20220313T100000
END:DAYLIGHT
BEGIN:STANDARD
TZOFFSETFROM:-0700
TZOFFSETTO:-0800
TZNAME:PST
DTSTART:20221106T090000
END:STANDARD
BEGIN:DAYLIGHT
TZOFFSETFROM:-0800
TZOFFSETTO:-0700
TZNAME:PDT
DTSTART:20230312T100000
END:DAYLIGHT
BEGIN:STANDARD
TZOFFSETFROM:-0700
TZOFFSETTO:-0800
TZNAME:PST
DTSTART:20231105T090000
END:STANDARD
END:VTIMEZONE
BEGIN:VEVENT
DTSTART;VALUE=DATE:20220917
DTEND;VALUE=DATE:20220918
DTSTAMP:20260421T223732
CREATED:20211202T223826Z
LAST-MODIFIED:20220404T222052Z
UID:10000253-1663372800-1663459199@rowingbc.ca
SUMMARY:REGATTA: Head of the Nicomekl
DESCRIPTION:Head of the Nicomekl hosted by Nicomekl Rowing Club.  \nLocation: Blackie Spit Park (South Surrey) \nDescription:  This is a friendly regatta\, great for first time regatta experience\, and also for those preparing for the Head of the Charles Regatta wanting experience on a windy river course. The day consists of two 6000m races. One where participants race against rowers in their own boat class\, and the second where a handicap system is used to compare all boat classes against each other for an overall winner. Athletes can enter both races\, and many do. Participants attend because of the beautiful river and challenging course\, the ability to enter two races on the same day\, and the welcoming friendly regatta environment. \nRegistration: Registration and more information available HERE closer to the regatta date.
URL:https://rowingbc.ca/event/regatta-head-of-the-nicomekl/
LOCATION:Nicomekl River\, 13723 Crescent Rd\, Surrey\, British Columbia\, V4P 1J4\, Canada
CATEGORIES:Regattas
ORGANIZER;CN="Nicomekl Rowing Club":MAILTO:hhealey06@gmail.com
GEO:49.0656576;-122.8425729
X-APPLE-STRUCTURED-LOCATION;VALUE=URI;X-ADDRESS=Nicomekl River 13723 Crescent Rd Surrey British Columbia V4P 1J4 Canada;X-APPLE-RADIUS=500;X-TITLE=13723 Crescent Rd:geo:-122.8425729,49.0656576
END:VEVENT
BEGIN:VEVENT
DTSTART;VALUE=DATE:20210925
DTEND;VALUE=DATE:20210926
DTSTAMP:20260421T223732
CREATED:20210729T191349Z
LAST-MODIFIED:20210729T191349Z
UID:10000361-1632528000-1632614399@rowingbc.ca
SUMMARY:Head of the Nicomekl Regatta
DESCRIPTION:Regatta Title: Head of the Nicomekl\nHost Organization: Nicomekl Rowing Club \nThis is a friendly regatta\, great for first time regatta experience\, and also for those preparing for the Head of the Charles Regatta wanting experience on a windy river course. The day consists of two 6000m races. One where participants race against rowers in their own boat class\, and the second where a handicap system is used to compare all boat classes against each other for an overall winner. Athletes can enter both races\, and many do. Participants attend because of the beautiful river and challenging course\, the ability to enter two races on the same day\, and the welcoming\, friendly regatta environment. \nRegistration and additional details available on RegattaCentral HERE.
URL:https://rowingbc.ca/event/head-of-the-nicomekl-regatta/
LOCATION:Nicomekl River\, 13723 Crescent Rd\, Surrey\, British Columbia\, V4P 1J4\, Canada
CATEGORIES:Regattas
ORGANIZER;CN="Nicomekl Rowing Club":MAILTO:hhealey06@gmail.com
GEO:49.0656576;-122.8425729
X-APPLE-STRUCTURED-LOCATION;VALUE=URI;X-ADDRESS=Nicomekl River 13723 Crescent Rd Surrey British Columbia V4P 1J4 Canada;X-APPLE-RADIUS=500;X-TITLE=13723 Crescent Rd:geo:-122.8425729,49.0656576
END:VEVENT
BEGIN:VEVENT
DTSTART;VALUE=DATE:20200926
DTEND;VALUE=DATE:20200927
DTSTAMP:20260421T223732
CREATED:20200123T023249Z
LAST-MODIFIED:20200805T214320Z
UID:10000275-1601078400-1601164799@rowingbc.ca
SUMMARY:Head of the Nicomekl (cancelled)
DESCRIPTION:General information available here \nRegistration information available here
URL:https://rowingbc.ca/event/head-of-the-nicomekl-2/
LOCATION:Nicomekl River\, 13723 Crescent Rd\, Surrey\, British Columbia\, V4P 1J4\, Canada
CATEGORIES:Regattas
ORGANIZER;CN="Nicomekl Rowing Club":MAILTO:hhealey06@gmail.com
GEO:49.0656576;-122.8425729
X-APPLE-STRUCTURED-LOCATION;VALUE=URI;X-ADDRESS=Nicomekl River 13723 Crescent Rd Surrey British Columbia V4P 1J4 Canada;X-APPLE-RADIUS=500;X-TITLE=13723 Crescent Rd:geo:-122.8425729,49.0656576
END:VEVENT
BEGIN:VEVENT
DTSTART;VALUE=DATE:20180915
DTEND;VALUE=DATE:20180916
DTSTAMP:20260421T223732
CREATED:20171205T193411Z
LAST-MODIFIED:20180906T170932Z
UID:10000028-1536969600-1537055999@rowingbc.ca
SUMMARY:Head of the River
DESCRIPTION:
URL:https://rowingbc.ca/event/head-of-the-river/
LOCATION:Nicomekl River\, 13723 Crescent Rd\, Surrey\, British Columbia\, V4P 1J4\, Canada
CATEGORIES:Regattas
ORGANIZER;CN="Nicomekl Rowing Club":MAILTO:hhealey06@gmail.com
GEO:49.0656576;-122.8425729
X-APPLE-STRUCTURED-LOCATION;VALUE=URI;X-ADDRESS=Nicomekl River 13723 Crescent Rd Surrey British Columbia V4P 1J4 Canada;X-APPLE-RADIUS=500;X-TITLE=13723 Crescent Rd:geo:-122.8425729,49.0656576
END:VEVENT
BEGIN:VEVENT
DTSTART;VALUE=DATE:20170923
DTEND;VALUE=DATE:20170924
DTSTAMP:20260421T223732
CREATED:20161202T224614Z
LAST-MODIFIED:20161202T224614Z
UID:10000083-1506124800-1506211199@rowingbc.ca
SUMMARY:2017 Head of the River Regatta
DESCRIPTION:
URL:https://rowingbc.ca/event/2017-head-of-the-river-regatta/
LOCATION:Nicomekl River\, 13723 Crescent Rd\, Surrey\, British Columbia\, V4P 1J4\, Canada
CATEGORIES:Regattas
ORGANIZER;CN="Nicomekl Rowing Club":MAILTO:hhealey06@gmail.com
GEO:49.0656576;-122.8425729
X-APPLE-STRUCTURED-LOCATION;VALUE=URI;X-ADDRESS=Nicomekl River 13723 Crescent Rd Surrey British Columbia V4P 1J4 Canada;X-APPLE-RADIUS=500;X-TITLE=13723 Crescent Rd:geo:-122.8425729,49.0656576
END:VEVENT
END:VCALENDAR