BEGIN:VCALENDAR
VERSION:2.0
PRODID:-//Rowing British Columbia - ECPv6.15.12.2//NONSGML v1.0//EN
CALSCALE:GREGORIAN
METHOD:PUBLISH
X-ORIGINAL-URL:https://rowingbc.ca
X-WR-CALDESC:Events for Rowing British Columbia
REFRESH-INTERVAL;VALUE=DURATION:PT1H
X-Robots-Tag:noindex
X-PUBLISHED-TTL:PT1H
BEGIN:VTIMEZONE
TZID:America/Vancouver
BEGIN:DAYLIGHT
TZOFFSETFROM:-0800
TZOFFSETTO:-0700
TZNAME:PDT
DTSTART:20200308T100000
END:DAYLIGHT
BEGIN:STANDARD
TZOFFSETFROM:-0700
TZOFFSETTO:-0800
TZNAME:PST
DTSTART:20201101T090000
END:STANDARD
BEGIN:DAYLIGHT
TZOFFSETFROM:-0800
TZOFFSETTO:-0700
TZNAME:PDT
DTSTART:20210314T100000
END:DAYLIGHT
BEGIN:STANDARD
TZOFFSETFROM:-0700
TZOFFSETTO:-0800
TZNAME:PST
DTSTART:20211107T090000
END:STANDARD
BEGIN:DAYLIGHT
TZOFFSETFROM:-0800
TZOFFSETTO:-0700
TZNAME:PDT
DTSTART:20220313T100000
END:DAYLIGHT
BEGIN:STANDARD
TZOFFSETFROM:-0700
TZOFFSETTO:-0800
TZNAME:PST
DTSTART:20221106T090000
END:STANDARD
END:VTIMEZONE
BEGIN:VEVENT
DTSTART;TZID=America/Vancouver:20210602T183000
DTEND;TZID=America/Vancouver:20210602T203000
DTSTAMP:20260421T165755
CREATED:20210602T194936Z
LAST-MODIFIED:20210602T195041Z
UID:10000351-1622658600-1622665800@rowingbc.ca
SUMMARY:Canucks Autism Network Training
DESCRIPTION:Rowing BC has partnered with the Canucks Autism Network to provide training for coaches and leaders at rowing organizations across BC. This interactive workshop will introduce you to a range of practical tools for supporting individuals on the spectrum and other diverse abilities in sport\, as well as learn strategies for enhancing communication\, building motivation and increasing predictability. \nWednesday\, June 2\, 2021 6:30-8:30 PM \nThis session will be hosted on Zoom. \nRegister HERE. \nFollowing this session\, Rowing BC will be providing individualized support to rowing organizations interested in pursuing come and try or mini learn to row opportunities targeted specifically at including youth and adults associated with the Canucks Autism Network.
URL:https://rowingbc.ca/event/canucks-autism-network-training/
CATEGORIES:Coach Development Sessions,Coach Workshops
END:VEVENT
END:VCALENDAR