BEGIN:VCALENDAR
VERSION:2.0
PRODID:-//Rowing British Columbia - ECPv6.15.12.2//NONSGML v1.0//EN
CALSCALE:GREGORIAN
METHOD:PUBLISH
X-WR-CALNAME:Rowing British Columbia
X-ORIGINAL-URL:https://rowingbc.ca
X-WR-CALDESC:Events for Rowing British Columbia
REFRESH-INTERVAL;VALUE=DURATION:PT1H
X-Robots-Tag:noindex
X-PUBLISHED-TTL:PT1H
BEGIN:VTIMEZONE
TZID:America/Vancouver
BEGIN:DAYLIGHT
TZOFFSETFROM:-0800
TZOFFSETTO:-0700
TZNAME:PDT
DTSTART:20180311T100000
END:DAYLIGHT
BEGIN:STANDARD
TZOFFSETFROM:-0700
TZOFFSETTO:-0800
TZNAME:PST
DTSTART:20181104T090000
END:STANDARD
BEGIN:DAYLIGHT
TZOFFSETFROM:-0800
TZOFFSETTO:-0700
TZNAME:PDT
DTSTART:20190310T100000
END:DAYLIGHT
BEGIN:STANDARD
TZOFFSETFROM:-0700
TZOFFSETTO:-0800
TZNAME:PST
DTSTART:20191103T090000
END:STANDARD
BEGIN:DAYLIGHT
TZOFFSETFROM:-0800
TZOFFSETTO:-0700
TZNAME:PDT
DTSTART:20200308T100000
END:DAYLIGHT
BEGIN:STANDARD
TZOFFSETFROM:-0700
TZOFFSETTO:-0800
TZNAME:PST
DTSTART:20201101T090000
END:STANDARD
END:VTIMEZONE
BEGIN:VEVENT
DTSTART;VALUE=DATE:20190209
DTEND;VALUE=DATE:20190210
DTSTAMP:20260422T014203
CREATED:20190107T235552Z
LAST-MODIFIED:20190108T194112Z
UID:10000166-1549670400-1549756799@rowingbc.ca
SUMMARY:Trailer Driving 201 (Coach Professional Development)
DESCRIPTION:Rowing BC will be running a Coach Professional Development opportunity at the UBC Boathouse on February 9\, 2019 1-4 PM. This session will address Trailer Driving 201 led by UBC Men’s Head Coach\, Mike Pearce. \nBuilding off last year’s successful introduction to trailer driving\, this will be the hands-on version. \nFollowing a review of the basics\, you will be guided through maneuvers such as backing \, cornering and planning ahead in traffic. \nAn invaluable session for coaches to be able to support their clubs and ensure valuable club equipment is in safe hands! \nParticipants should dress warmly for this one. \nRegister here.
URL:https://rowingbc.ca/event/trailer-driving-201-coach-professional-development/
LOCATION:John M.S. Lecky UBC Boathouse\, 7277 River Road\, Richmond\, British Columbia\, V6X 1X5\, Canada
CATEGORIES:Coach Development Sessions,Coach Workshops
END:VEVENT
BEGIN:VEVENT
DTSTART;VALUE=DATE:20190208
DTEND;VALUE=DATE:20190211
DTSTAMP:20260422T014203
CREATED:20190108T193756Z
LAST-MODIFIED:20190108T194232Z
UID:10000167-1549584000-1549843199@rowingbc.ca
SUMMARY:RCA Coach Weekend 1 Workshop (Island)
DESCRIPTION:Rowing BC is hosting an RCA Coach Weekend 1 Workshop on February 8-10\, 2019 on Vancouver Island. The precise workshop location will be confirmed with workshop participants closer to the date. \nThe workshop fee is $300.00 per person. Workshop participants are responsible for their own travel and accommodation costs. Payment can be made either by cheque (in person at the workshop) or by e-transfer to admin@rowingbc.ca. \nWorkshop times are as follows: \n\nFriday\, February 8\, 2019: evening (time TBD)\nSaturday\, February 9\, 2019: all day (time TBD)\nSunday\, February 10\, 2019: all day (time TBD)\n\nParticipants should plan to bring their own snacks and lunches. \nTo register for this workshop\, please fill out the Online Workshop Registration Form. \nFor more information on this workshop\, visit our Coach Education Workshops page. \nThe registration deadline for this course is Monday\, February 4\, 2019. \nIf you would like to partake in an RCA Coach Weekend 1 Workshop but are unable to make the scheduled dates\, please contact Martin George\, Rowing BC Para Coach and Coaching Coordinator at paracoach@rowingbc.ca.
URL:https://rowingbc.ca/event/rca-coach-weekend-1-workshop-7/
CATEGORIES:Coach Workshops,RCA Coach Workshops
END:VEVENT
BEGIN:VEVENT
DTSTART;TZID=America/Vancouver:20190119T091500
DTEND;TZID=America/Vancouver:20190119T160000
DTSTAMP:20260422T014203
CREATED:20181218T175845Z
LAST-MODIFIED:20181218T175845Z
UID:10000159-1547889300-1547913600@rowingbc.ca
SUMMARY:Rowing BC Annual Umpire Recertification Seminar
DESCRIPTION:The Rowing BC Annual Umpire Recertification Seminar will take place at the Shoal Centre in Sidney\, BC on January 19\, 2019 9:15 AM-4:00 PM. \nThis Seminar is an opportunity for all umpires and associates to meet the newer umpires\, visit with old friends\, learn from each other and build the camaraderie that makes umpiring so rewarding. \nRegister to attend here. \nTransportation will be arranged for those travelling by ferry from the Mainland. Please be sure to indicate your need on the registration form so car pools can be planned accordingly once on the Island. \n2019 UMPIRE COMMITTEE CALL FOR NOMINATIONS \nRowing BC is seeking nominations for individuals to fill positions to be elected to the Rowing BC Umpire Committee during the Annual Umpire Recertification Seminar on January 19\, 2019 in Sidney\, BC. \nThe Umpire Committee is authorized by the Rowing BC By-Laws to conduct their business in accordance with the Umpire Committee Terms of Reference.  The Umpire Committee is responsible for developing and implementing plans and programs in support of the education and development of Umpires in British Columbia. The overall goal of the Umpire Committee is to ensure that Rowing BC and its member organizations have access to a pool of qualified and educated umpires of all levels\, and those individuals in British Columbia who want to become Umpires or to improve their skills as Umpires have access to the training and development opportunities they require.  The Umpire Committee shall report to the Executive Director via the Chairperson. \nThe Umpire Committee will be elected by those Licensed Umpires in British Columbia in attendance at the Annual Umpire Recertification Seminar. The Umpire Committee shall consist of between four (4) to seven (7) individuals as follows: \n\nUp to six (6) Licensed Umpire Representatives\nOne (1) President of Rowing BC\n\nTerm-lengths and number of elected Umpire Representatives each year will be established so as to allow for turnover of half of the Umpire Committee on an annual basis. Generally\, term-lengths will be 2 years. Following their term\, Umpire Representatives may stand for re-election.  The Umpire Committee can appoint a Licensed Umpire to fill a vacancy. \nPlease submit your intent to stand for election via email to Rowing BC Executive Director\, David Calder by Friday\, January 11\, 2019. Individuals are encouraged to submit an accompanying 250 word biography introducing themselves to the umpire community to help inform the election process. Names and biographies of individuals up for election will be emailed to all Umpires in advance of the Recertification Seminar. There will be no nominations from the floor.
URL:https://rowingbc.ca/event/rowing-bc-annual-umpire-recertification-seminar/
CATEGORIES:RBC Umpire Events
END:VEVENT
BEGIN:VEVENT
DTSTART;VALUE=DATE:20190119
DTEND;VALUE=DATE:20190121
DTSTAMP:20260422T014203
CREATED:20190107T232458Z
LAST-MODIFIED:20190108T194145Z
UID:10000160-1547856000-1548028799@rowingbc.ca
SUMMARY:RCA Coach Weekend 2 Workshop (Mainland)
DESCRIPTION:Rowing BC is hosting an RCA Coach Weekend 2 Workshop on January 19-20\, 2019 in the Lower Mainland. The precise workshop location will be confirmed with workshop participants closer to the date. \nThe workshop fee is $300.00 per person. Workshop participants are responsible for their own travel and accommodation costs. Payment can be made either by cheque (in person at the workshop) or by e-transfer to admin@rowingbc.ca. \nWorkshop times are as follows: \n\nSaturday\, January 19\, 2019: all day (time TBD)\nSunday\, January 20\, 2019: all day (time TBD)\n\nParticipants should plan to bring their own snacks and lunches. \nTo register for this workshop\, please fill out the Online Workshop Registration Form. \nFor more information on this workshop\, visit our Coach Education Workshops page. \nThe registration deadline for this course is Monday\, January 14\, 2019. \nIf you would like to partake in an RCA Coach Weekend 2 Workshop but are unable to make the scheduled dates\, please contact Martin George\, Rowing BC Para Coach and Coaching Coordinator at paracoach@rowingbc.ca.
URL:https://rowingbc.ca/event/rca-coach-weekend-2-workshop-5/
CATEGORIES:Coach Workshops,RCA Coach Workshops
END:VEVENT
END:VCALENDAR