BEGIN:VCALENDAR
VERSION:2.0
PRODID:-//Rowing British Columbia - ECPv6.15.12.2//NONSGML v1.0//EN
CALSCALE:GREGORIAN
METHOD:PUBLISH
X-ORIGINAL-URL:https://rowingbc.ca
X-WR-CALDESC:Events for Rowing British Columbia
REFRESH-INTERVAL;VALUE=DURATION:PT1H
X-Robots-Tag:noindex
X-PUBLISHED-TTL:PT1H
BEGIN:VTIMEZONE
TZID:America/Vancouver
BEGIN:DAYLIGHT
TZOFFSETFROM:-0800
TZOFFSETTO:-0700
TZNAME:PDT
DTSTART:20160313T100000
END:DAYLIGHT
BEGIN:STANDARD
TZOFFSETFROM:-0700
TZOFFSETTO:-0800
TZNAME:PST
DTSTART:20161106T090000
END:STANDARD
BEGIN:DAYLIGHT
TZOFFSETFROM:-0800
TZOFFSETTO:-0700
TZNAME:PDT
DTSTART:20170312T100000
END:DAYLIGHT
BEGIN:STANDARD
TZOFFSETFROM:-0700
TZOFFSETTO:-0800
TZNAME:PST
DTSTART:20171105T090000
END:STANDARD
BEGIN:DAYLIGHT
TZOFFSETFROM:-0800
TZOFFSETTO:-0700
TZNAME:PDT
DTSTART:20180311T100000
END:DAYLIGHT
BEGIN:STANDARD
TZOFFSETFROM:-0700
TZOFFSETTO:-0800
TZNAME:PST
DTSTART:20181104T090000
END:STANDARD
BEGIN:DAYLIGHT
TZOFFSETFROM:-0800
TZOFFSETTO:-0700
TZNAME:PDT
DTSTART:20190310T100000
END:DAYLIGHT
BEGIN:STANDARD
TZOFFSETFROM:-0700
TZOFFSETTO:-0800
TZNAME:PST
DTSTART:20191103T090000
END:STANDARD
BEGIN:DAYLIGHT
TZOFFSETFROM:-0800
TZOFFSETTO:-0700
TZNAME:PDT
DTSTART:20200308T100000
END:DAYLIGHT
BEGIN:STANDARD
TZOFFSETFROM:-0700
TZOFFSETTO:-0800
TZNAME:PST
DTSTART:20201101T090000
END:STANDARD
BEGIN:DAYLIGHT
TZOFFSETFROM:-0800
TZOFFSETTO:-0700
TZNAME:PDT
DTSTART:20210314T100000
END:DAYLIGHT
BEGIN:STANDARD
TZOFFSETFROM:-0700
TZOFFSETTO:-0800
TZNAME:PST
DTSTART:20211107T090000
END:STANDARD
BEGIN:DAYLIGHT
TZOFFSETFROM:-0800
TZOFFSETTO:-0700
TZNAME:PDT
DTSTART:20220313T100000
END:DAYLIGHT
BEGIN:STANDARD
TZOFFSETFROM:-0700
TZOFFSETTO:-0800
TZNAME:PST
DTSTART:20221106T090000
END:STANDARD
BEGIN:DAYLIGHT
TZOFFSETFROM:-0800
TZOFFSETTO:-0700
TZNAME:PDT
DTSTART:20230312T100000
END:DAYLIGHT
BEGIN:STANDARD
TZOFFSETFROM:-0700
TZOFFSETTO:-0800
TZNAME:PST
DTSTART:20231105T090000
END:STANDARD
BEGIN:DAYLIGHT
TZOFFSETFROM:-0800
TZOFFSETTO:-0700
TZNAME:PDT
DTSTART:20240310T100000
END:DAYLIGHT
BEGIN:STANDARD
TZOFFSETFROM:-0700
TZOFFSETTO:-0800
TZNAME:PST
DTSTART:20241103T090000
END:STANDARD
BEGIN:DAYLIGHT
TZOFFSETFROM:-0800
TZOFFSETTO:-0700
TZNAME:PDT
DTSTART:20250309T100000
END:DAYLIGHT
BEGIN:STANDARD
TZOFFSETFROM:-0700
TZOFFSETTO:-0800
TZNAME:PST
DTSTART:20251102T090000
END:STANDARD
END:VTIMEZONE
BEGIN:VEVENT
DTSTART;VALUE=DATE:20240203
DTEND;VALUE=DATE:20240204
DTSTAMP:20260421T144506
CREATED:20231124T235745Z
LAST-MODIFIED:20231215T185748Z
UID:10000476-1706918400-1707004799@rowingbc.ca
SUMMARY:REGATTA: Beat the Beast
DESCRIPTION:Beat the Beast hosted by St. George’s School Rowing.  \nLocation: St. George’s School (4175 W 29th Ave\, Vancouver\, BC) \nDescription: This regatta includes all athlete streams\, and is intended as a regional end-of-winter indoor regatta. \nRegistration: Registration and more information will be available on Regatta Central. \nQuestions can be directed to Head of Rowing\, Brent Duncan.
URL:https://rowingbc.ca/event/regatta-beat-the-beast-2/
LOCATION:St. George’s Senior School\, 4175 West 29th Ave\, Vancouver\, British Columbia\, Canada
CATEGORIES:Regattas
END:VEVENT
BEGIN:VEVENT
DTSTART;VALUE=DATE:20230204
DTEND;VALUE=DATE:20230205
DTSTAMP:20260421T144506
CREATED:20221214T170354Z
LAST-MODIFIED:20221214T170354Z
UID:10000307-1675468800-1675555199@rowingbc.ca
SUMMARY:REGATTA: Beat the Beast
DESCRIPTION:Beat the Beast hosted by St. George’s School Rowing.  \nLocation: St. George’s School (4175 W 29th Ave\, Vancouver\, BC) \nDescription: This regatta includes all athlete streams\, and is intended as a regional end-of-winter indoor regatta. \nRegistration: Registration and more information available on Regatta Central (search Beat the Beast under Canadian Regattas). \nQuestions can be directed to Head of Rowing\, Brent Duncan.
URL:https://rowingbc.ca/event/regatta-beat-the-beast/
LOCATION:St. George’s Senior School\, 4175 West 29th Ave\, Vancouver\, British Columbia\, Canada
CATEGORIES:Regattas
END:VEVENT
BEGIN:VEVENT
DTSTART;VALUE=DATE:20220205
DTEND;VALUE=DATE:20220206
DTSTAMP:20260421T144506
CREATED:20211202T212549Z
LAST-MODIFIED:20211220T213809Z
UID:10000366-1644019200-1644105599@rowingbc.ca
SUMMARY:REGATTA: Beat the Beast Indoor Rowing Championships (VIRTUAL)
DESCRIPTION:Beat the Beast Indoor Rowing Championships (VIRTUAL) hosted by St. George’s School Rowing.  \nLocation: Virtual \nDescription: This regatta includes all athlete streams\, and will function as the regional qualifying regatta leading into the BC Provincial Indoor Rowing Championships. In 2022 it will be hosted virtually.  \nRegistration: Registration and more information will be available soon. \nQuestions can be directed to Head of Rowing\, Brent Duncan.
URL:https://rowingbc.ca/event/beat-the-beast-indoor-rowing-virtual/
LOCATION:Virtual\, BC\, Canada
CATEGORIES:Regattas
END:VEVENT
BEGIN:VEVENT
DTSTART;VALUE=DATE:20210206
DTEND;VALUE=DATE:20210207
DTSTAMP:20260421T144506
CREATED:20201104T182540Z
LAST-MODIFIED:20210113T223915Z
UID:10000291-1612569600-1612655999@rowingbc.ca
SUMMARY:Beat the Beast (Virtual Event)
DESCRIPTION:Beat the Beast hosted by St. George’s School Rowing. \nThis regatta includes all athlete streams\, and in regular years will function as the regional qualifying regatta leading into the BC Provincial Indoor Rowing Championships (not applicable in 2021 as this virtual event is already open to the entire province!).\n \nLearn more about St. George’s School Rowing here. \nComplete Event Information and Registration is available here.
URL:https://rowingbc.ca/event/beat-the-beast-4/
LOCATION:St. George’s Senior School\, 4175 West 29th Ave\, Vancouver\, British Columbia\, Canada
CATEGORIES:Regattas
END:VEVENT
BEGIN:VEVENT
DTSTART;VALUE=DATE:20200202
DTEND;VALUE=DATE:20200203
DTSTAMP:20260421T144506
CREATED:20200122T232221Z
LAST-MODIFIED:20200122T232221Z
UID:10000240-1580601600-1580687999@rowingbc.ca
SUMMARY:Beat the Beast
DESCRIPTION:General information available here \nRegistration information available here
URL:https://rowingbc.ca/event/beat-the-beast-3/
LOCATION:St. George’s Senior School\, 4175 West 29th Ave\, Vancouver\, British Columbia\, Canada
CATEGORIES:Regattas
END:VEVENT
BEGIN:VEVENT
DTSTART;VALUE=DATE:20180203
DTEND;VALUE=DATE:20180204
DTSTAMP:20260421T144506
CREATED:20171205T171908Z
LAST-MODIFIED:20171205T171908Z
UID:10000121-1517616000-1517702399@rowingbc.ca
SUMMARY:Beat the Beast
DESCRIPTION:Full event information: https://www.stgeorges.bc.ca/page/beat-the-beast \nRegistration deadline:
URL:https://rowingbc.ca/event/beat-the-beast/
LOCATION:St. George’s Senior School\, 4175 West 29th Ave\, Vancouver\, British Columbia\, Canada
CATEGORIES:Regattas
END:VEVENT
BEGIN:VEVENT
DTSTART;VALUE=DATE:20170204
DTEND;VALUE=DATE:20170205
DTSTAMP:20260421T144506
CREATED:20170119T192657Z
LAST-MODIFIED:20170123T181059Z
UID:10000119-1486166400-1486252799@rowingbc.ca
SUMMARY:2017 Beat the Beast Indoor Rowing Championships
DESCRIPTION:
URL:https://rowingbc.ca/event/2017-beat-the-beast-indoor-rowing-championships/
LOCATION:St. George’s Senior School\, 4175 West 29th Ave\, Vancouver\, British Columbia\, Canada
CATEGORIES:Regattas
GEO:49.2475246;-123.1991544
X-APPLE-STRUCTURED-LOCATION;VALUE=URI;X-ADDRESS=St. George’s Senior School 4175 West 29th Ave Vancouver British Columbia Canada;X-APPLE-RADIUS=500;X-TITLE=4175 West 29th Ave:geo:-123.1991544,49.2475246
END:VEVENT
END:VCALENDAR