BEGIN:VCALENDAR
VERSION:2.0
PRODID:-//Rowing British Columbia - ECPv6.15.12.2//NONSGML v1.0//EN
CALSCALE:GREGORIAN
METHOD:PUBLISH
X-ORIGINAL-URL:https://rowingbc.ca
X-WR-CALDESC:Events for Rowing British Columbia
REFRESH-INTERVAL;VALUE=DURATION:PT1H
X-Robots-Tag:noindex
X-PUBLISHED-TTL:PT1H
BEGIN:VTIMEZONE
TZID:America/Vancouver
BEGIN:DAYLIGHT
TZOFFSETFROM:-0800
TZOFFSETTO:-0700
TZNAME:PDT
DTSTART:20190310T100000
END:DAYLIGHT
BEGIN:STANDARD
TZOFFSETFROM:-0700
TZOFFSETTO:-0800
TZNAME:PST
DTSTART:20191103T090000
END:STANDARD
BEGIN:DAYLIGHT
TZOFFSETFROM:-0800
TZOFFSETTO:-0700
TZNAME:PDT
DTSTART:20200308T100000
END:DAYLIGHT
BEGIN:STANDARD
TZOFFSETFROM:-0700
TZOFFSETTO:-0800
TZNAME:PST
DTSTART:20201101T090000
END:STANDARD
BEGIN:DAYLIGHT
TZOFFSETFROM:-0800
TZOFFSETTO:-0700
TZNAME:PDT
DTSTART:20210314T100000
END:DAYLIGHT
BEGIN:STANDARD
TZOFFSETFROM:-0700
TZOFFSETTO:-0800
TZNAME:PST
DTSTART:20211107T090000
END:STANDARD
BEGIN:DAYLIGHT
TZOFFSETFROM:-0800
TZOFFSETTO:-0700
TZNAME:PDT
DTSTART:20220313T100000
END:DAYLIGHT
BEGIN:STANDARD
TZOFFSETFROM:-0700
TZOFFSETTO:-0800
TZNAME:PST
DTSTART:20221106T090000
END:STANDARD
BEGIN:DAYLIGHT
TZOFFSETFROM:-0800
TZOFFSETTO:-0700
TZNAME:PDT
DTSTART:20230312T100000
END:DAYLIGHT
BEGIN:STANDARD
TZOFFSETFROM:-0700
TZOFFSETTO:-0800
TZNAME:PST
DTSTART:20231105T090000
END:STANDARD
END:VTIMEZONE
BEGIN:VEVENT
DTSTART;VALUE=DATE:20220416
DTEND;VALUE=DATE:20220417
DTSTAMP:20260421T144500
CREATED:20211202T215416Z
LAST-MODIFIED:20220307T205438Z
UID:10000373-1650067200-1650153599@rowingbc.ca
SUMMARY:REGATTA: MetroVancouver Regatta (CANCELLED due to construction)
DESCRIPTION:MetroVancouver Regatta hosted by Thunder Rowing.  \nNote: This event has been cancelled due to construction at the venue.  \nLocation: Burnaby Lake \nDescription: This 2000m event (1000m for MA) is aimed at two groups – novices looking to gain race experience in appropriate categories\, and experienced athletes wanting to test initial speed in combinations for later Spring regattas. It is positioned as a lead up event to the Brentwood and Shawnigan Regattas for JRs. Participants are mainly from the Lower Mainland\, but the intention is to eventually be able to also attract teams from the Pacific NorthWest. Athletes attend for race experience on a full 2000m buoyed course. \nRegistration: Registration and more information available HERE closer to the regatta date.
URL:https://rowingbc.ca/event/metrovancouver-regatta-2/
LOCATION:Burnaby Lake\, 6871 Roberts St\, Burnaby\, British Columbia\, V5B 3C1\, Canada
CATEGORIES:Regattas
GEO:49.2453883;-122.9588996
X-APPLE-STRUCTURED-LOCATION;VALUE=URI;X-ADDRESS=Burnaby Lake 6871 Roberts St Burnaby British Columbia V5B 3C1 Canada;X-APPLE-RADIUS=500;X-TITLE=6871 Roberts St:geo:-122.9588996,49.2453883
END:VEVENT
BEGIN:VEVENT
DTSTART;VALUE=DATE:20210417
DTEND;VALUE=DATE:20210419
DTSTAMP:20260421T144500
CREATED:20201104T190340Z
LAST-MODIFIED:20210406T171844Z
UID:10000298-1618617600-1618790399@rowingbc.ca
SUMMARY:MetroVancouver Regatta (Cancelled)
DESCRIPTION:MetroVancouver Regatta hosted by Thunder Rowing Crew. \nThis 2000m event (1000m for MA) is aimed at two groups – novices looking to gain race experience in appropriate categories\, and experienced athletes wanting to test initial speed in combinations for later Spring regattas. It is positioned as a lead up event to the Brentwood and Shawnigan Regattas for JRs. Participants are mainly from the Lower Mainland\, but the intention is to eventually be able to also attract teams from the Pacific NorthWest. Athletes attend for race experience on a full 2000m buoyed course. \nLearn more about Thunder Rowing Crew here \nComplete Event Information and Registration will be available through Regatta Central here closer to the event date.
URL:https://rowingbc.ca/event/metrovancouver-regatta/
LOCATION:Burnaby Lake\, 6871 Roberts St\, Burnaby\, British Columbia\, V5B 3C1\, Canada
CATEGORIES:Regattas
GEO:49.2453883;-122.9588996
X-APPLE-STRUCTURED-LOCATION;VALUE=URI;X-ADDRESS=Burnaby Lake 6871 Roberts St Burnaby British Columbia V5B 3C1 Canada;X-APPLE-RADIUS=500;X-TITLE=6871 Roberts St:geo:-122.9588996,49.2453883
END:VEVENT
BEGIN:VEVENT
DTSTART;VALUE=DATE:20200418
DTEND;VALUE=DATE:20200420
DTSTAMP:20260421T144500
CREATED:20200123T011658Z
LAST-MODIFIED:20200314T010611Z
UID:10000248-1587168000-1587340799@rowingbc.ca
SUMMARY:Metro Vancouver Invitational..cancelled
DESCRIPTION:General information available here \nRegistration information available here
URL:https://rowingbc.ca/event/metro-vancouver-invitational-2/
LOCATION:Burnaby Lake\, 6871 Roberts St\, Burnaby\, British Columbia\, V5B 3C1\, Canada
CATEGORIES:Regattas
GEO:49.2453883;-122.9588996
X-APPLE-STRUCTURED-LOCATION;VALUE=URI;X-ADDRESS=Burnaby Lake 6871 Roberts St Burnaby British Columbia V5B 3C1 Canada;X-APPLE-RADIUS=500;X-TITLE=6871 Roberts St:geo:-122.9588996,49.2453883
END:VEVENT
END:VCALENDAR