BEGIN:VCALENDAR
VERSION:2.0
PRODID:-//Rowing British Columbia - ECPv6.15.12.2//NONSGML v1.0//EN
CALSCALE:GREGORIAN
METHOD:PUBLISH
X-ORIGINAL-URL:https://rowingbc.ca
X-WR-CALDESC:Events for Rowing British Columbia
REFRESH-INTERVAL;VALUE=DURATION:PT1H
X-Robots-Tag:noindex
X-PUBLISHED-TTL:PT1H
BEGIN:VTIMEZONE
TZID:America/Vancouver
BEGIN:DAYLIGHT
TZOFFSETFROM:-0800
TZOFFSETTO:-0700
TZNAME:PDT
DTSTART:20160313T100000
END:DAYLIGHT
BEGIN:STANDARD
TZOFFSETFROM:-0700
TZOFFSETTO:-0800
TZNAME:PST
DTSTART:20161106T090000
END:STANDARD
BEGIN:DAYLIGHT
TZOFFSETFROM:-0800
TZOFFSETTO:-0700
TZNAME:PDT
DTSTART:20170312T100000
END:DAYLIGHT
BEGIN:STANDARD
TZOFFSETFROM:-0700
TZOFFSETTO:-0800
TZNAME:PST
DTSTART:20171105T090000
END:STANDARD
BEGIN:DAYLIGHT
TZOFFSETFROM:-0800
TZOFFSETTO:-0700
TZNAME:PDT
DTSTART:20180311T100000
END:DAYLIGHT
BEGIN:STANDARD
TZOFFSETFROM:-0700
TZOFFSETTO:-0800
TZNAME:PST
DTSTART:20181104T090000
END:STANDARD
BEGIN:DAYLIGHT
TZOFFSETFROM:-0800
TZOFFSETTO:-0700
TZNAME:PDT
DTSTART:20190310T100000
END:DAYLIGHT
BEGIN:STANDARD
TZOFFSETFROM:-0700
TZOFFSETTO:-0800
TZNAME:PST
DTSTART:20191103T090000
END:STANDARD
BEGIN:DAYLIGHT
TZOFFSETFROM:-0800
TZOFFSETTO:-0700
TZNAME:PDT
DTSTART:20200308T100000
END:DAYLIGHT
BEGIN:STANDARD
TZOFFSETFROM:-0700
TZOFFSETTO:-0800
TZNAME:PST
DTSTART:20201101T090000
END:STANDARD
BEGIN:DAYLIGHT
TZOFFSETFROM:-0800
TZOFFSETTO:-0700
TZNAME:PDT
DTSTART:20210314T100000
END:DAYLIGHT
BEGIN:STANDARD
TZOFFSETFROM:-0700
TZOFFSETTO:-0800
TZNAME:PST
DTSTART:20211107T090000
END:STANDARD
BEGIN:DAYLIGHT
TZOFFSETFROM:-0800
TZOFFSETTO:-0700
TZNAME:PDT
DTSTART:20220313T100000
END:DAYLIGHT
BEGIN:STANDARD
TZOFFSETFROM:-0700
TZOFFSETTO:-0800
TZNAME:PST
DTSTART:20221106T090000
END:STANDARD
BEGIN:DAYLIGHT
TZOFFSETFROM:-0800
TZOFFSETTO:-0700
TZNAME:PDT
DTSTART:20230312T100000
END:DAYLIGHT
BEGIN:STANDARD
TZOFFSETFROM:-0700
TZOFFSETTO:-0800
TZNAME:PST
DTSTART:20231105T090000
END:STANDARD
END:VTIMEZONE
BEGIN:VEVENT
DTSTART;VALUE=DATE:20220618
DTEND;VALUE=DATE:20220619
DTSTAMP:20260422T043226
CREATED:20211202T221043Z
LAST-MODIFIED:20220117T042111Z
UID:10000378-1655510400-1655596799@rowingbc.ca
SUMMARY:REGATTA: Lap the Lake
DESCRIPTION:Lap the Lake hosted by Vernon Rowing and Dragonboat Club.  \nLocation: Swan Lake (Vernon) \nDescription: This regatta follows a unique format with 3500m racing in the morning\, followed by a regatta BBQ\, and 500m racing after lunch. This event is primarily attended by teams from the Interior\, as an important chance to race and connect as a community. It is also attended by teams from the Lower Mainland looking for a friendly racing opportunity where each athlete will have more than one chance to race. This event is appropriate for beginners and those who like to row for fun. In addition to the regatta\, a special topic speaker or professional development session is usually planned in association with the regatta to make it a fun-filled racing and learning weekend.  \nRegistration: Registration and more information available HERE closer to the regatta date.
URL:https://rowingbc.ca/event/lap-the-lake-4/
LOCATION:Swan Lake\, Lochdale Rd\, Vernon\, British Columbia\, V1B 3R8\, Canada
CATEGORIES:Regattas
ORGANIZER;CN="Vernon Rowing & Dragon Boat Club":MAILTO:lisa@vrdbc.com
GEO:50.3255539;-119.244677
X-APPLE-STRUCTURED-LOCATION;VALUE=URI;X-ADDRESS=Swan Lake Lochdale Rd Vernon British Columbia V1B 3R8 Canada;X-APPLE-RADIUS=500;X-TITLE=Lochdale Rd:geo:-119.244677,50.3255539
END:VEVENT
BEGIN:VEVENT
DTSTART;VALUE=DATE:20210612
DTEND;VALUE=DATE:20210613
DTSTAMP:20260422T043226
CREATED:20201104T193250Z
LAST-MODIFIED:20210406T173252Z
UID:10000310-1623456000-1623542399@rowingbc.ca
SUMMARY:Lap the Lake (Cancelled)
DESCRIPTION:Lap the Lake hosted by Vernon Rowing & Dragon Boat Club. \nThis regatta follows a unique format with 3500m racing in the morning\, followed by a regatta BBQ\, and 500m racing after lunch. This event is primarily attended by teams from the Interior\, as an important chance to race and connect as a community. It is also attended by teams from the Lower Mainland looking for a friendly racing opportunity where each athlete will have more than one chance to race. This event is appropriate for beginners and those who like to row for fun. In addition to the regatta\, a special topic speaker or professional development session is usually planned in association with the regatta to make it a fun-filled racing and learning weekend. \nLearn more about Vernon Rowing & Dragon Boat Club here \nComplete Event Information and Registration will be available through Regatta Central here closer to the event date. \n 
URL:https://rowingbc.ca/event/lap-the-lake-3/
LOCATION:Swan Lake\, Lochdale Rd\, Vernon\, British Columbia\, V1B 3R8\, Canada
CATEGORIES:Regattas
ORGANIZER;CN="Vernon Rowing & Dragon Boat Club":MAILTO:lisa@vrdbc.com
GEO:50.3255539;-119.244677
X-APPLE-STRUCTURED-LOCATION;VALUE=URI;X-ADDRESS=Swan Lake Lochdale Rd Vernon British Columbia V1B 3R8 Canada;X-APPLE-RADIUS=500;X-TITLE=Lochdale Rd:geo:-119.244677,50.3255539
END:VEVENT
BEGIN:VEVENT
DTSTART;VALUE=DATE:20200606
DTEND;VALUE=DATE:20200607
DTSTAMP:20260422T043226
CREATED:20200123T015542Z
LAST-MODIFIED:20200430T165002Z
UID:10000260-1591401600-1591487999@rowingbc.ca
SUMMARY:Lap the Lake..cancelled
DESCRIPTION:General information available here \nRegistration information available here
URL:https://rowingbc.ca/event/lap-the-lake-2/
LOCATION:Swan Lake\, Lochdale Rd\, Vernon\, British Columbia\, V1B 3R8\, Canada
CATEGORIES:Regattas
ORGANIZER;CN="Vernon Rowing & Dragon Boat Club":MAILTO:lisa@vrdbc.com
GEO:50.3255539;-119.244677
X-APPLE-STRUCTURED-LOCATION;VALUE=URI;X-ADDRESS=Swan Lake Lochdale Rd Vernon British Columbia V1B 3R8 Canada;X-APPLE-RADIUS=500;X-TITLE=Lochdale Rd:geo:-119.244677,50.3255539
END:VEVENT
BEGIN:VEVENT
DTSTART;VALUE=DATE:20180609
DTEND;VALUE=DATE:20180610
DTSTAMP:20260422T043226
CREATED:20171205T175146Z
LAST-MODIFIED:20171205T175146Z
UID:10000023-1528502400-1528588799@rowingbc.ca
SUMMARY:Lap the Lake
DESCRIPTION:
URL:https://rowingbc.ca/event/lap-the-lake/
LOCATION:Swan Lake\, Lochdale Rd\, Vernon\, British Columbia\, V1B 3R8\, Canada
CATEGORIES:Regattas
ORGANIZER;CN="Vernon Rowing & Dragon Boat Club":MAILTO:lisa@vrdbc.com
GEO:50.3255539;-119.244677
X-APPLE-STRUCTURED-LOCATION;VALUE=URI;X-ADDRESS=Swan Lake Lochdale Rd Vernon British Columbia V1B 3R8 Canada;X-APPLE-RADIUS=500;X-TITLE=Lochdale Rd:geo:-119.244677,50.3255539
END:VEVENT
BEGIN:VEVENT
DTSTART;VALUE=DATE:20170610
DTEND;VALUE=DATE:20170611
DTSTAMP:20260422T043226
CREATED:20161202T222305Z
LAST-MODIFIED:20161202T222305Z
UID:10000059-1497052800-1497139199@rowingbc.ca
SUMMARY:2017 Lap the Lake Regatta
DESCRIPTION:
URL:https://rowingbc.ca/event/2017-lap-the-lake-regatta/
LOCATION:Swan Lake\, Lochdale Rd\, Vernon\, British Columbia\, V1B 3R8\, Canada
CATEGORIES:Regattas
ORGANIZER;CN="Vernon Rowing & Dragon Boat Club":MAILTO:lisa@vrdbc.com
GEO:50.3255539;-119.244677
X-APPLE-STRUCTURED-LOCATION;VALUE=URI;X-ADDRESS=Swan Lake Lochdale Rd Vernon British Columbia V1B 3R8 Canada;X-APPLE-RADIUS=500;X-TITLE=Lochdale Rd:geo:-119.244677,50.3255539
END:VEVENT
END:VCALENDAR