BEGIN:VCALENDAR
VERSION:2.0
PRODID:-//Rowing British Columbia - ECPv6.15.12.2//NONSGML v1.0//EN
CALSCALE:GREGORIAN
METHOD:PUBLISH
X-WR-CALNAME:Rowing British Columbia
X-ORIGINAL-URL:https://rowingbc.ca
X-WR-CALDESC:Events for Rowing British Columbia
REFRESH-INTERVAL;VALUE=DURATION:PT1H
X-Robots-Tag:noindex
X-PUBLISHED-TTL:PT1H
BEGIN:VTIMEZONE
TZID:America/Vancouver
BEGIN:DAYLIGHT
TZOFFSETFROM:-0800
TZOFFSETTO:-0700
TZNAME:PDT
DTSTART:20160313T100000
END:DAYLIGHT
BEGIN:STANDARD
TZOFFSETFROM:-0700
TZOFFSETTO:-0800
TZNAME:PST
DTSTART:20161106T090000
END:STANDARD
BEGIN:DAYLIGHT
TZOFFSETFROM:-0800
TZOFFSETTO:-0700
TZNAME:PDT
DTSTART:20170312T100000
END:DAYLIGHT
BEGIN:STANDARD
TZOFFSETFROM:-0700
TZOFFSETTO:-0800
TZNAME:PST
DTSTART:20171105T090000
END:STANDARD
BEGIN:DAYLIGHT
TZOFFSETFROM:-0800
TZOFFSETTO:-0700
TZNAME:PDT
DTSTART:20180311T100000
END:DAYLIGHT
BEGIN:STANDARD
TZOFFSETFROM:-0700
TZOFFSETTO:-0800
TZNAME:PST
DTSTART:20181104T090000
END:STANDARD
BEGIN:DAYLIGHT
TZOFFSETFROM:-0800
TZOFFSETTO:-0700
TZNAME:PDT
DTSTART:20190310T100000
END:DAYLIGHT
BEGIN:STANDARD
TZOFFSETFROM:-0700
TZOFFSETTO:-0800
TZNAME:PST
DTSTART:20191103T090000
END:STANDARD
BEGIN:DAYLIGHT
TZOFFSETFROM:-0800
TZOFFSETTO:-0700
TZNAME:PDT
DTSTART:20200308T100000
END:DAYLIGHT
BEGIN:STANDARD
TZOFFSETFROM:-0700
TZOFFSETTO:-0800
TZNAME:PST
DTSTART:20201101T090000
END:STANDARD
BEGIN:DAYLIGHT
TZOFFSETFROM:-0800
TZOFFSETTO:-0700
TZNAME:PDT
DTSTART:20210314T100000
END:DAYLIGHT
BEGIN:STANDARD
TZOFFSETFROM:-0700
TZOFFSETTO:-0800
TZNAME:PST
DTSTART:20211107T090000
END:STANDARD
BEGIN:DAYLIGHT
TZOFFSETFROM:-0800
TZOFFSETTO:-0700
TZNAME:PDT
DTSTART:20220313T100000
END:DAYLIGHT
BEGIN:STANDARD
TZOFFSETFROM:-0700
TZOFFSETTO:-0800
TZNAME:PST
DTSTART:20221106T090000
END:STANDARD
END:VTIMEZONE
BEGIN:VEVENT
DTSTART;VALUE=DATE:20211023
DTEND;VALUE=DATE:20211025
DTSTAMP:20260421T155312
CREATED:20201104T203112Z
LAST-MODIFIED:20210820T211327Z
UID:10000322-1634947200-1635119999@rowingbc.ca
SUMMARY:October Sprints
DESCRIPTION:October Sprints hosted by Greater Victoria Youth Rowing Society. \nThis 1000m sprint event is intended for the same novice and experienced high school athletes from the Greater Victoria area who attended the Crabfest/Head of the Hamster Regattas earlier in October. This event is the middle of their ISL HS Sprint three-event progression during the Fall season which will finish with the LVISSA City Championships. \nLearn more about the Greater Victoria Rowing Society here \nComplete Event Information and Registration will be available through Regatta Central here closer to the event date.
URL:https://rowingbc.ca/event/october-sprints-2/
LOCATION:Elk Lake\, 5100 Patricia Bay Hwy\, Victoria\, British Columbia\, V8Y 2T6\, Canada
CATEGORIES:Regattas
ORGANIZER;CN="Greater Victoria Youth Rowing Society":MAILTO:president@gvyrs.ca
GEO:48.5234816;-123.3866952
X-APPLE-STRUCTURED-LOCATION;VALUE=URI;X-ADDRESS=Elk Lake 5100 Patricia Bay Hwy Victoria British Columbia V8Y 2T6 Canada;X-APPLE-RADIUS=500;X-TITLE=5100 Patricia Bay Hwy:geo:-123.3866952,48.5234816
END:VEVENT
BEGIN:VEVENT
DTSTART;VALUE=DATE:20211003
DTEND;VALUE=DATE:20211004
DTSTAMP:20260421T155312
CREATED:20201104T202103Z
LAST-MODIFIED:20210820T211348Z
UID:10000319-1633219200-1633305599@rowingbc.ca
SUMMARY:Head of the Hamster
DESCRIPTION:Head of the Hamster hosted by Greater Victoria Youth Rowing Society. \nThis 3000m event is for experienced high school rowers from the Greater Victoria area. These same athletes will have likely been involved in the Crabfest Regatta the day before\, and then will return for a head race to complete the weekend. \nLearn more about the Greater Victoria Rowing Society here \nComplete Event Information and Registration will be available through Regatta Central here closer to the event date.
URL:https://rowingbc.ca/event/head-of-the-hamster/
LOCATION:Elk Lake\, 5100 Patricia Bay Hwy\, Victoria\, British Columbia\, V8Y 2T6\, Canada
CATEGORIES:Regattas
ORGANIZER;CN="Greater Victoria Youth Rowing Society":MAILTO:president@gvyrs.ca
GEO:48.5234816;-123.3866952
X-APPLE-STRUCTURED-LOCATION;VALUE=URI;X-ADDRESS=Elk Lake 5100 Patricia Bay Hwy Victoria British Columbia V8Y 2T6 Canada;X-APPLE-RADIUS=500;X-TITLE=5100 Patricia Bay Hwy:geo:-123.3866952,48.5234816
END:VEVENT
BEGIN:VEVENT
DTSTART;VALUE=DATE:20211003
DTEND;VALUE=DATE:20211004
DTSTAMP:20260421T155312
CREATED:20201104T201904Z
LAST-MODIFIED:20210927T153242Z
UID:10000318-1633219200-1633305599@rowingbc.ca
SUMMARY:Crabfest Regatta
DESCRIPTION:Crabfest Regatta hosted by Greater Victoria Youth Rowing Society. \nThis regatta includes a skills event component and a 500m duel sprint component for high school rowers from the Greater Victoria area\, both novice and experienced. It is the first part of a regatta progression these same athletes attend – starting with the Crabfest Regatta\, followed by the October Sprints\, and finishing with the LVISSA City Championships Regatta. Its primary intention is to provide a first taste of competition for novices. \nLearn more about the Greater Victoria Rowing Society here \nComplete Event Information and Registration will be available through Regatta Central here closer to the event date. \n 
URL:https://rowingbc.ca/event/crabfest-regatta/
LOCATION:Elk Lake\, 5100 Patricia Bay Hwy\, Victoria\, British Columbia\, V8Y 2T6\, Canada
CATEGORIES:Regattas
ORGANIZER;CN="Greater Victoria Youth Rowing Society":MAILTO:president@gvyrs.ca
GEO:48.5234816;-123.3866952
X-APPLE-STRUCTURED-LOCATION;VALUE=URI;X-ADDRESS=Elk Lake 5100 Patricia Bay Hwy Victoria British Columbia V8Y 2T6 Canada;X-APPLE-RADIUS=500;X-TITLE=5100 Patricia Bay Hwy:geo:-123.3866952,48.5234816
END:VEVENT
BEGIN:VEVENT
DTSTART;VALUE=DATE:20210313
DTEND;VALUE=DATE:20210315
DTSTAMP:20260421T155312
CREATED:20201104T184909Z
LAST-MODIFIED:20210406T171620Z
UID:10000294-1615593600-1615766399@rowingbc.ca
SUMMARY:Dueling Over a Grand (Cancelled)
DESCRIPTION:Dueling Over a Grand hosted by Victoria City Rowing Club. \nThis 1000m event is regularly attended by two distinct groups of athletes – high performance athletes (including the National Team) looking for race experience in a 1x\, and JR/MR interested in getting race experience and becoming more familiar with racing. It is primarily attended by athletes from Vancouver Island. It’s interesting\, fun format allows athletes to test different tactics\, and build race experience in the same crew\, and same event\, over a single weekend. \nLearn more about Victoria City Rowing Club here \nComplete Event Information and Registration will be available through Regatta Central here closer to the event date.
URL:https://rowingbc.ca/event/dueling-over-a-grand-3/
LOCATION:Elk Lake\, 5100 Patricia Bay Hwy\, Victoria\, British Columbia\, V8Y 2T6\, Canada
CATEGORIES:Regattas
ORGANIZER;CN="Victoria City Rowing Club":MAILTO:clubadmin@vcrc.bc.ca
GEO:48.5234816;-123.3866952
X-APPLE-STRUCTURED-LOCATION;VALUE=URI;X-ADDRESS=Elk Lake 5100 Patricia Bay Hwy Victoria British Columbia V8Y 2T6 Canada;X-APPLE-RADIUS=500;X-TITLE=5100 Patricia Bay Hwy:geo:-123.3866952,48.5234816
END:VEVENT
BEGIN:VEVENT
DTSTART;VALUE=DATE:20210306
DTEND;VALUE=DATE:20210308
DTSTAMP:20260421T155312
CREATED:20201104T184037Z
LAST-MODIFIED:20210406T171541Z
UID:10000293-1614988800-1615161599@rowingbc.ca
SUMMARY:Elk Lake Spring Regatta (Cancelled)
DESCRIPTION:Elk Lake Spring Regatta hosted by University of Victoria men’s and women’s rowing programs. \nThis 1850m sprint race is an opportunity to kick-start the Spring racing season\, both for performance athletes\, and for others just looking for an event early in the season. It is primarily attended by teams from Vancouver Island and the Lower Mainland\, with some additional reach into the Pacific NorthWest and/or Alberta. This is a common starting point to the Spring racing season\, however\, which event athletes attend next is very dependent on the athlete stream. This is a first chance to race after the winter\, see how winter training went\, and finally get back on the water. \nTo learn more about University of Victoria Rowing click here \nComplete Event Information and Registration will be available through Regatta Central here closer to the event date. \n 
URL:https://rowingbc.ca/event/elk-lake-spring-regatta-3/
LOCATION:Elk Lake\, 5100 Patricia Bay Hwy\, Victoria\, British Columbia\, V8Y 2T6\, Canada
CATEGORIES:Regattas
ORGANIZER;CN="University of Victoria Rowing Club":MAILTO:mensrow@uvic.ca
GEO:48.5234816;-123.3866952
X-APPLE-STRUCTURED-LOCATION;VALUE=URI;X-ADDRESS=Elk Lake 5100 Patricia Bay Hwy Victoria British Columbia V8Y 2T6 Canada;X-APPLE-RADIUS=500;X-TITLE=5100 Patricia Bay Hwy:geo:-123.3866952,48.5234816
END:VEVENT
BEGIN:VEVENT
DTSTART;VALUE=DATE:20201106
DTEND;VALUE=DATE:20201109
DTSTAMP:20260421T155312
CREATED:20200123T030409Z
LAST-MODIFIED:20200910T212654Z
UID:10000281-1604620800-1604879999@rowingbc.ca
SUMMARY:City Championships (cancelled)
DESCRIPTION:General information is available here \nRegistration information is available here
URL:https://rowingbc.ca/event/city-championships/
LOCATION:Elk Lake\, 5100 Patricia Bay Hwy\, Victoria\, British Columbia\, V8Y 2T6\, Canada
CATEGORIES:Regattas
ORGANIZER;CN="Greater Victoria Youth Rowing Society":MAILTO:president@gvyrs.ca
GEO:48.5234816;-123.3866952
X-APPLE-STRUCTURED-LOCATION;VALUE=URI;X-ADDRESS=Elk Lake 5100 Patricia Bay Hwy Victoria British Columbia V8Y 2T6 Canada;X-APPLE-RADIUS=500;X-TITLE=5100 Patricia Bay Hwy:geo:-123.3866952,48.5234816
END:VEVENT
BEGIN:VEVENT
DTSTART;VALUE=DATE:20201023
DTEND;VALUE=DATE:20201026
DTSTAMP:20260421T155312
CREATED:20200123T030231Z
LAST-MODIFIED:20200910T212624Z
UID:10000280-1603411200-1603670399@rowingbc.ca
SUMMARY:October Sprints (cancelled)
DESCRIPTION:General information is available here \nRegistration information is available here
URL:https://rowingbc.ca/event/october-sprints/
LOCATION:Elk Lake\, 5100 Patricia Bay Hwy\, Victoria\, British Columbia\, V8Y 2T6\, Canada
CATEGORIES:Regattas
ORGANIZER;CN="Greater Victoria Youth Rowing Society":MAILTO:president@gvyrs.ca
GEO:48.5234816;-123.3866952
X-APPLE-STRUCTURED-LOCATION;VALUE=URI;X-ADDRESS=Elk Lake 5100 Patricia Bay Hwy Victoria British Columbia V8Y 2T6 Canada;X-APPLE-RADIUS=500;X-TITLE=5100 Patricia Bay Hwy:geo:-123.3866952,48.5234816
END:VEVENT
BEGIN:VEVENT
DTSTART;VALUE=DATE:20201003
DTEND;VALUE=DATE:20201005
DTSTAMP:20260421T155312
CREATED:20200123T023844Z
LAST-MODIFIED:20200910T212513Z
UID:10000276-1601683200-1601855999@rowingbc.ca
SUMMARY:Crabfest and Head of the Hamster (cancelled)
DESCRIPTION:General information available here \nRegistration information available here
URL:https://rowingbc.ca/event/crabfest-and-head-of-the-hamster/
LOCATION:Elk Lake\, 5100 Patricia Bay Hwy\, Victoria\, British Columbia\, V8Y 2T6\, Canada
CATEGORIES:Regattas
ORGANIZER;CN="Greater Victoria Youth Rowing Society":MAILTO:president@gvyrs.ca
GEO:48.5234816;-123.3866952
X-APPLE-STRUCTURED-LOCATION;VALUE=URI;X-ADDRESS=Elk Lake 5100 Patricia Bay Hwy Victoria British Columbia V8Y 2T6 Canada;X-APPLE-RADIUS=500;X-TITLE=5100 Patricia Bay Hwy:geo:-123.3866952,48.5234816
END:VEVENT
BEGIN:VEVENT
DTSTART;TZID=America/Vancouver:20200710T080000
DTEND;TZID=America/Vancouver:20200712T170000
DTSTAMP:20260421T155312
CREATED:20200123T020151Z
LAST-MODIFIED:20200514T005555Z
UID:10000264-1594368000-1594573200@rowingbc.ca
SUMMARY:Challenge West..(cancelled)
DESCRIPTION:General information available here \nRegistration information available here
URL:https://rowingbc.ca/event/challenge-west/
LOCATION:Elk Lake\, 5100 Patricia Bay Hwy\, Victoria\, British Columbia\, V8Y 2T6\, Canada
CATEGORIES:Regattas
ORGANIZER;CN="Victoria City Rowing Club":MAILTO:clubadmin@vcrc.bc.ca
GEO:48.5234816;-123.3866952
X-APPLE-STRUCTURED-LOCATION;VALUE=URI;X-ADDRESS=Elk Lake 5100 Patricia Bay Hwy Victoria British Columbia V8Y 2T6 Canada;X-APPLE-RADIUS=500;X-TITLE=5100 Patricia Bay Hwy:geo:-123.3866952,48.5234816
END:VEVENT
BEGIN:VEVENT
DTSTART;VALUE=DATE:20200404
DTEND;VALUE=DATE:20200406
DTSTAMP:20260421T155312
CREATED:20200123T010547Z
LAST-MODIFIED:20200314T010340Z
UID:10000246-1585958400-1586131199@rowingbc.ca
SUMMARY:Duelling Over a Grand..cancelled
DESCRIPTION:General information available here \nRegistration information available here
URL:https://rowingbc.ca/event/duelling-over-a-grand/
LOCATION:Elk Lake\, 5100 Patricia Bay Hwy\, Victoria\, British Columbia\, V8Y 2T6\, Canada
CATEGORIES:Regattas
ORGANIZER;CN="Victoria City Rowing Club":MAILTO:clubadmin@vcrc.bc.ca
GEO:48.5234816;-123.3866952
X-APPLE-STRUCTURED-LOCATION;VALUE=URI;X-ADDRESS=Elk Lake 5100 Patricia Bay Hwy Victoria British Columbia V8Y 2T6 Canada;X-APPLE-RADIUS=500;X-TITLE=5100 Patricia Bay Hwy:geo:-123.3866952,48.5234816
END:VEVENT
BEGIN:VEVENT
DTSTART;VALUE=DATE:20200307
DTEND;VALUE=DATE:20200309
DTSTAMP:20260421T155312
CREATED:20200123T001703Z
LAST-MODIFIED:20200123T001703Z
UID:10000242-1583539200-1583711999@rowingbc.ca
SUMMARY:Elk Lake Spring
DESCRIPTION:General information available here \nRegistration information available here
URL:https://rowingbc.ca/event/elk-lake-spring/
LOCATION:Elk Lake\, 5100 Patricia Bay Hwy\, Victoria\, British Columbia\, V8Y 2T6\, Canada
CATEGORIES:Regattas
ORGANIZER;CN="University of Victoria Rowing Club":MAILTO:mensrow@uvic.ca
GEO:48.5234816;-123.3866952
X-APPLE-STRUCTURED-LOCATION;VALUE=URI;X-ADDRESS=Elk Lake 5100 Patricia Bay Hwy Victoria British Columbia V8Y 2T6 Canada;X-APPLE-RADIUS=500;X-TITLE=5100 Patricia Bay Hwy:geo:-123.3866952,48.5234816
END:VEVENT
BEGIN:VEVENT
DTSTART;VALUE=DATE:20191109
DTEND;VALUE=DATE:20191111
DTSTAMP:20260421T155312
CREATED:20190108T231707Z
LAST-MODIFIED:20190108T231707Z
UID:10000189-1573257600-1573430399@rowingbc.ca
SUMMARY:LVISSA City Championships
DESCRIPTION:Hosted by the Greater Victoria Youth Rowing Society. \nRegistration and full information available HERE.
URL:https://rowingbc.ca/event/lvissa-city-championships-2/
LOCATION:Elk Lake\, 5100 Patricia Bay Hwy\, Victoria\, British Columbia\, V8Y 2T6\, Canada
CATEGORIES:Regattas
GEO:48.5234816;-123.3866952
X-APPLE-STRUCTURED-LOCATION;VALUE=URI;X-ADDRESS=Elk Lake 5100 Patricia Bay Hwy Victoria British Columbia V8Y 2T6 Canada;X-APPLE-RADIUS=500;X-TITLE=5100 Patricia Bay Hwy:geo:-123.3866952,48.5234816
END:VEVENT
BEGIN:VEVENT
DTSTART;VALUE=DATE:20191102
DTEND;VALUE=DATE:20191104
DTSTAMP:20260421T155312
CREATED:20190108T231607Z
LAST-MODIFIED:20190718T163338Z
UID:10000188-1572652800-1572825599@rowingbc.ca
SUMMARY:Canadian University Rowing Championships
DESCRIPTION:Hosted by University of Victoria Rowing. \nRegistration and full information available HERE.
URL:https://rowingbc.ca/event/canadian-university-rowing-championships/
LOCATION:Elk Lake\, 5100 Patricia Bay Hwy\, Victoria\, British Columbia\, V8Y 2T6\, Canada
CATEGORIES:Regattas
GEO:48.5234816;-123.3866952
X-APPLE-STRUCTURED-LOCATION;VALUE=URI;X-ADDRESS=Elk Lake 5100 Patricia Bay Hwy Victoria British Columbia V8Y 2T6 Canada;X-APPLE-RADIUS=500;X-TITLE=5100 Patricia Bay Hwy:geo:-123.3866952,48.5234816
END:VEVENT
BEGIN:VEVENT
DTSTART;VALUE=DATE:20191026
DTEND;VALUE=DATE:20191028
DTSTAMP:20260421T155312
CREATED:20190108T231317Z
LAST-MODIFIED:20190806T203354Z
UID:10000185-1572048000-1572220799@rowingbc.ca
SUMMARY:Annual 2nd Regatta (October Sprints)
DESCRIPTION:Hosted by the Greater Victoria Youth Rowing Society. \nRegistration and full information available HERE.
URL:https://rowingbc.ca/event/annual-2nd-regatta-october-sprints/
LOCATION:Elk Lake\, 5100 Patricia Bay Hwy\, Victoria\, British Columbia\, V8Y 2T6\, Canada
CATEGORIES:Regattas
GEO:48.5234816;-123.3866952
X-APPLE-STRUCTURED-LOCATION;VALUE=URI;X-ADDRESS=Elk Lake 5100 Patricia Bay Hwy Victoria British Columbia V8Y 2T6 Canada;X-APPLE-RADIUS=500;X-TITLE=5100 Patricia Bay Hwy:geo:-123.3866952,48.5234816
END:VEVENT
BEGIN:VEVENT
DTSTART;VALUE=DATE:20190929
DTEND;VALUE=DATE:20190930
DTSTAMP:20260421T155312
CREATED:20190108T231115Z
LAST-MODIFIED:20190108T231115Z
UID:10000183-1569715200-1569801599@rowingbc.ca
SUMMARY:Crabfest Skills and Head of the Hamster Regatta
DESCRIPTION:Hosted by the Greater Victoria Youth Rowing Society. \nRegistration and full information available HERE.
URL:https://rowingbc.ca/event/crabfest-skills-and-head-of-the-hamster-regatta/
LOCATION:Elk Lake\, 5100 Patricia Bay Hwy\, Victoria\, British Columbia\, V8Y 2T6\, Canada
CATEGORIES:Regattas
GEO:48.5234816;-123.3866952
X-APPLE-STRUCTURED-LOCATION;VALUE=URI;X-ADDRESS=Elk Lake 5100 Patricia Bay Hwy Victoria British Columbia V8Y 2T6 Canada;X-APPLE-RADIUS=500;X-TITLE=5100 Patricia Bay Hwy:geo:-123.3866952,48.5234816
END:VEVENT
BEGIN:VEVENT
DTSTART;VALUE=DATE:20190817
DTEND;VALUE=DATE:20190819
DTSTAMP:20260421T155312
CREATED:20190508T191805Z
LAST-MODIFIED:20190508T191805Z
UID:10000208-1566000000-1566172799@rowingbc.ca
SUMMARY:Coastal Beach Sprints
DESCRIPTION:This FISA-style Coastal Beach Sprint Regatta will be hosted by the Victoria City Rowing Club. \nIn addition to being a fun chance for rowers to experience a coastal regatta\, this is an opportunity for coaches and umpires to get more comfortable with the logistics of costal events. \nMore information to come.
URL:https://rowingbc.ca/event/coastal-beach-sprints/
LOCATION:Elk Lake\, 5100 Patricia Bay Hwy\, Victoria\, British Columbia\, V8Y 2T6\, Canada
CATEGORIES:Regattas
ORGANIZER;CN="Victoria City Rowing Club":MAILTO:clubadmin@vcrc.bc.ca
GEO:48.5234816;-123.3866952
X-APPLE-STRUCTURED-LOCATION;VALUE=URI;X-ADDRESS=Elk Lake 5100 Patricia Bay Hwy Victoria British Columbia V8Y 2T6 Canada;X-APPLE-RADIUS=500;X-TITLE=5100 Patricia Bay Hwy:geo:-123.3866952,48.5234816
END:VEVENT
BEGIN:VEVENT
DTSTART;VALUE=DATE:20190712
DTEND;VALUE=DATE:20190715
DTSTAMP:20260421T155312
CREATED:20190108T230639Z
LAST-MODIFIED:20190108T230639Z
UID:10000178-1562889600-1563148799@rowingbc.ca
SUMMARY:Challenge West Regatta
DESCRIPTION:Hosted by the Victoria City Rowing Club. \nRegistration and full information available HERE.
URL:https://rowingbc.ca/event/challenge-west-regatta/
LOCATION:Elk Lake\, 5100 Patricia Bay Hwy\, Victoria\, British Columbia\, V8Y 2T6\, Canada
CATEGORIES:Regattas
GEO:48.5234816;-123.3866952
X-APPLE-STRUCTURED-LOCATION;VALUE=URI;X-ADDRESS=Elk Lake 5100 Patricia Bay Hwy Victoria British Columbia V8Y 2T6 Canada;X-APPLE-RADIUS=500;X-TITLE=5100 Patricia Bay Hwy:geo:-123.3866952,48.5234816
END:VEVENT
BEGIN:VEVENT
DTSTART;VALUE=DATE:20190628
DTEND;VALUE=DATE:20190701
DTSTAMP:20260421T155312
CREATED:20190108T230546Z
LAST-MODIFIED:20190108T230546Z
UID:10000177-1561680000-1561939199@rowingbc.ca
SUMMARY:RCA Junior Selection Camp
DESCRIPTION:Hosted by Rowing Canada Aviron. \nRegistration and full information available HERE.
URL:https://rowingbc.ca/event/rca-junior-selection-camp/
LOCATION:Elk Lake\, 5100 Patricia Bay Hwy\, Victoria\, British Columbia\, V8Y 2T6\, Canada
CATEGORIES:Regattas
GEO:48.5234816;-123.3866952
X-APPLE-STRUCTURED-LOCATION;VALUE=URI;X-ADDRESS=Elk Lake 5100 Patricia Bay Hwy Victoria British Columbia V8Y 2T6 Canada;X-APPLE-RADIUS=500;X-TITLE=5100 Patricia Bay Hwy:geo:-123.3866952,48.5234816
END:VEVENT
BEGIN:VEVENT
DTSTART;VALUE=DATE:20190617
DTEND;VALUE=DATE:20190623
DTSTAMP:20260421T155312
CREATED:20190108T230356Z
LAST-MODIFIED:20190108T230356Z
UID:10000175-1560729600-1561247999@rowingbc.ca
SUMMARY:RCA Selection Camp
DESCRIPTION:Hosted by Rowing Canada Aviron. \nRegistration and full information available HERE.
URL:https://rowingbc.ca/event/rca-selection-camp/
LOCATION:Elk Lake\, 5100 Patricia Bay Hwy\, Victoria\, British Columbia\, V8Y 2T6\, Canada
CATEGORIES:Regattas
GEO:48.5234816;-123.3866952
X-APPLE-STRUCTURED-LOCATION;VALUE=URI;X-ADDRESS=Elk Lake 5100 Patricia Bay Hwy Victoria British Columbia V8Y 2T6 Canada;X-APPLE-RADIUS=500;X-TITLE=5100 Patricia Bay Hwy:geo:-123.3866952,48.5234816
END:VEVENT
BEGIN:VEVENT
DTSTART;VALUE=DATE:20190614
DTEND;VALUE=DATE:20190617
DTSTAMP:20260421T155312
CREATED:20190108T230244Z
LAST-MODIFIED:20190108T230244Z
UID:10000174-1560470400-1560729599@rowingbc.ca
SUMMARY:RCA Speed Orders
DESCRIPTION:Hosted by Rowing Canada Aviron. \nRegistration and full information available HERE.
URL:https://rowingbc.ca/event/rca-speed-orders/
LOCATION:Elk Lake\, 5100 Patricia Bay Hwy\, Victoria\, British Columbia\, V8Y 2T6\, Canada
CATEGORIES:Regattas
GEO:48.5234816;-123.3866952
X-APPLE-STRUCTURED-LOCATION;VALUE=URI;X-ADDRESS=Elk Lake 5100 Patricia Bay Hwy Victoria British Columbia V8Y 2T6 Canada;X-APPLE-RADIUS=500;X-TITLE=5100 Patricia Bay Hwy:geo:-123.3866952,48.5234816
END:VEVENT
BEGIN:VEVENT
DTSTART;VALUE=DATE:20190406
DTEND;VALUE=DATE:20190408
DTSTAMP:20260421T155312
CREATED:20190108T225006Z
LAST-MODIFIED:20190108T225007Z
UID:10000070-1554508800-1554681599@rowingbc.ca
SUMMARY:Dueling Over a Grand
DESCRIPTION:Hosted by the Victoria City Rowing Club. \nRegistration and full information available HERE.
URL:https://rowingbc.ca/event/dueling-over-a-grand-2/
LOCATION:Elk Lake\, 5100 Patricia Bay Hwy\, Victoria\, British Columbia\, V8Y 2T6\, Canada
CATEGORIES:Regattas
GEO:48.5234816;-123.3866952
X-APPLE-STRUCTURED-LOCATION;VALUE=URI;X-ADDRESS=Elk Lake 5100 Patricia Bay Hwy Victoria British Columbia V8Y 2T6 Canada;X-APPLE-RADIUS=500;X-TITLE=5100 Patricia Bay Hwy:geo:-123.3866952,48.5234816
END:VEVENT
BEGIN:VEVENT
DTSTART;VALUE=DATE:20190302
DTEND;VALUE=DATE:20190304
DTSTAMP:20260421T155312
CREATED:20190108T224421Z
LAST-MODIFIED:20190108T224421Z
UID:10000064-1551484800-1551657599@rowingbc.ca
SUMMARY:Elk Lake Spring Regatta
DESCRIPTION:Hosted by University of Victoria Rowing. \nRegistration and full information available HERE.
URL:https://rowingbc.ca/event/elk-lake-spring-regatta-2/
LOCATION:Elk Lake\, 5100 Patricia Bay Hwy\, Victoria\, British Columbia\, V8Y 2T6\, Canada
CATEGORIES:Regattas
GEO:48.5234816;-123.3866952
X-APPLE-STRUCTURED-LOCATION;VALUE=URI;X-ADDRESS=Elk Lake 5100 Patricia Bay Hwy Victoria British Columbia V8Y 2T6 Canada;X-APPLE-RADIUS=500;X-TITLE=5100 Patricia Bay Hwy:geo:-123.3866952,48.5234816
END:VEVENT
BEGIN:VEVENT
DTSTART;VALUE=DATE:20181111
DTEND;VALUE=DATE:20181112
DTSTAMP:20260421T155312
CREATED:20171205T195012Z
LAST-MODIFIED:20171205T195012Z
UID:10000137-1541894400-1541980799@rowingbc.ca
SUMMARY:LVISSA Island Highschool Championships
DESCRIPTION:
URL:https://rowingbc.ca/event/lvissa-island-highschool-championships/
LOCATION:Elk Lake\, 5100 Patricia Bay Hwy\, Victoria\, British Columbia\, V8Y 2T6\, Canada
CATEGORIES:Regattas
ORGANIZER;CN="Greater Victoria Youth Rowing Society":MAILTO:president@gvyrs.ca
GEO:48.5234816;-123.3866952
X-APPLE-STRUCTURED-LOCATION;VALUE=URI;X-ADDRESS=Elk Lake 5100 Patricia Bay Hwy Victoria British Columbia V8Y 2T6 Canada;X-APPLE-RADIUS=500;X-TITLE=5100 Patricia Bay Hwy:geo:-123.3866952,48.5234816
END:VEVENT
BEGIN:VEVENT
DTSTART;VALUE=DATE:20181103
DTEND;VALUE=DATE:20181105
DTSTAMP:20260421T155312
CREATED:20171205T194718Z
LAST-MODIFIED:20171205T194718Z
UID:10000135-1541203200-1541375999@rowingbc.ca
SUMMARY:LVISSA City Championships
DESCRIPTION:
URL:https://rowingbc.ca/event/lvissa-city-championships/
LOCATION:Elk Lake\, 5100 Patricia Bay Hwy\, Victoria\, British Columbia\, V8Y 2T6\, Canada
CATEGORIES:Regattas
ORGANIZER;CN="Greater Victoria Youth Rowing Society":MAILTO:president@gvyrs.ca
GEO:48.5234816;-123.3866952
X-APPLE-STRUCTURED-LOCATION;VALUE=URI;X-ADDRESS=Elk Lake 5100 Patricia Bay Hwy Victoria British Columbia V8Y 2T6 Canada;X-APPLE-RADIUS=500;X-TITLE=5100 Patricia Bay Hwy:geo:-123.3866952,48.5234816
END:VEVENT
BEGIN:VEVENT
DTSTART;VALUE=DATE:20181013
DTEND;VALUE=DATE:20181016
DTSTAMP:20260421T155312
CREATED:20171205T194045Z
LAST-MODIFIED:20180919T155945Z
UID:10000132-1539388800-1539647999@rowingbc.ca
SUMMARY:Annual 2nd Regatta
DESCRIPTION:
URL:https://rowingbc.ca/event/annual-2nd-regatta/
LOCATION:Elk Lake\, 5100 Patricia Bay Hwy\, Victoria\, British Columbia\, V8Y 2T6\, Canada
CATEGORIES:Regattas
ORGANIZER;CN="Greater Victoria Youth Rowing Society":MAILTO:president@gvyrs.ca
GEO:48.5234816;-123.3866952
X-APPLE-STRUCTURED-LOCATION;VALUE=URI;X-ADDRESS=Elk Lake 5100 Patricia Bay Hwy Victoria British Columbia V8Y 2T6 Canada;X-APPLE-RADIUS=500;X-TITLE=5100 Patricia Bay Hwy:geo:-123.3866952,48.5234816
END:VEVENT
BEGIN:VEVENT
DTSTART;VALUE=DATE:20180930
DTEND;VALUE=DATE:20181001
DTSTAMP:20260421T155312
CREATED:20171205T193733Z
LAST-MODIFIED:20171205T193733Z
UID:10000030-1538265600-1538351999@rowingbc.ca
SUMMARY:Crabfest Skills Regatta and Head of the Hamster
DESCRIPTION:
URL:https://rowingbc.ca/event/crabfest-skills-regatta-and-head-of-the-hamster/
LOCATION:Elk Lake\, 5100 Patricia Bay Hwy\, Victoria\, British Columbia\, V8Y 2T6\, Canada
CATEGORIES:Regattas
ORGANIZER;CN="Greater Victoria Youth Rowing Society":MAILTO:president@gvyrs.ca
GEO:48.5234816;-123.3866952
X-APPLE-STRUCTURED-LOCATION;VALUE=URI;X-ADDRESS=Elk Lake 5100 Patricia Bay Hwy Victoria British Columbia V8Y 2T6 Canada;X-APPLE-RADIUS=500;X-TITLE=5100 Patricia Bay Hwy:geo:-123.3866952,48.5234816
END:VEVENT
BEGIN:VEVENT
DTSTART;VALUE=DATE:20180713
DTEND;VALUE=DATE:20180716
DTSTAMP:20260421T155312
CREATED:20171205T192420Z
LAST-MODIFIED:20180703T173713Z
UID:10000024-1531440000-1531699199@rowingbc.ca
SUMMARY:Challenge West/BC Championships
DESCRIPTION:Full event information is on the VCRC website \nRegistration through Regatta Central
URL:https://rowingbc.ca/event/challenge-west-bc-championships/
LOCATION:Elk Lake\, 5100 Patricia Bay Hwy\, Victoria\, British Columbia\, V8Y 2T6\, Canada
CATEGORIES:Regattas
ORGANIZER;CN="Victoria City Rowing Club":MAILTO:clubadmin@vcrc.bc.ca
GEO:48.5234816;-123.3866952
X-APPLE-STRUCTURED-LOCATION;VALUE=URI;X-ADDRESS=Elk Lake 5100 Patricia Bay Hwy Victoria British Columbia V8Y 2T6 Canada;X-APPLE-RADIUS=500;X-TITLE=5100 Patricia Bay Hwy:geo:-123.3866952,48.5234816
END:VEVENT
BEGIN:VEVENT
DTSTART;VALUE=DATE:20180407
DTEND;VALUE=DATE:20180409
DTSTAMP:20260421T155312
CREATED:20171205T173443Z
LAST-MODIFIED:20171205T173443Z
UID:10000126-1523059200-1523231999@rowingbc.ca
SUMMARY:Dueling Over a Grand
DESCRIPTION:Full event information: http://www.vcrc.bc.ca/regattas-and-events/vcrc-regattas/duelling-over-a-grand
URL:https://rowingbc.ca/event/dueling-over-a-grand/
LOCATION:Elk Lake\, 5100 Patricia Bay Hwy\, Victoria\, British Columbia\, V8Y 2T6\, Canada
CATEGORIES:Regattas
ORGANIZER;CN="Victoria City Rowing Club":MAILTO:clubadmin@vcrc.bc.ca
GEO:48.5234816;-123.3866952
X-APPLE-STRUCTURED-LOCATION;VALUE=URI;X-ADDRESS=Elk Lake 5100 Patricia Bay Hwy Victoria British Columbia V8Y 2T6 Canada;X-APPLE-RADIUS=500;X-TITLE=5100 Patricia Bay Hwy:geo:-123.3866952,48.5234816
END:VEVENT
BEGIN:VEVENT
DTSTART;VALUE=DATE:20180303
DTEND;VALUE=DATE:20180305
DTSTAMP:20260421T155312
CREATED:20171205T172739Z
LAST-MODIFIED:20171205T172739Z
UID:10000123-1520035200-1520207999@rowingbc.ca
SUMMARY:Elk Lake Spring Regatta
DESCRIPTION:Full Event Information: http://www.govikesgo.com/sports/2017/7/29/RegattaInfo1718.aspx
URL:https://rowingbc.ca/event/elk-lake-spring-regatta/
LOCATION:Elk Lake\, 5100 Patricia Bay Hwy\, Victoria\, British Columbia\, V8Y 2T6\, Canada
CATEGORIES:Regattas
ORGANIZER;CN="University of Victoria Rowing Club":MAILTO:mensrow@uvic.ca
GEO:48.5234816;-123.3866952
X-APPLE-STRUCTURED-LOCATION;VALUE=URI;X-ADDRESS=Elk Lake 5100 Patricia Bay Hwy Victoria British Columbia V8Y 2T6 Canada;X-APPLE-RADIUS=500;X-TITLE=5100 Patricia Bay Hwy:geo:-123.3866952,48.5234816
END:VEVENT
BEGIN:VEVENT
DTSTART;VALUE=DATE:20171104
DTEND;VALUE=DATE:20171106
DTSTAMP:20260421T155312
CREATED:20161202T230228Z
LAST-MODIFIED:20161202T230228Z
UID:10000071-1509753600-1509926399@rowingbc.ca
SUMMARY:2017 LVISSA City Championships Regatta
DESCRIPTION:
URL:https://rowingbc.ca/event/2017-lvissa-city-championships-regatta/
LOCATION:Elk Lake\, 5100 Patricia Bay Hwy\, Victoria\, British Columbia\, V8Y 2T6\, Canada
CATEGORIES:Regattas
ORGANIZER;CN="Greater Victoria Youth Rowing Society":MAILTO:president@gvyrs.ca
GEO:48.5234816;-123.3866952
X-APPLE-STRUCTURED-LOCATION;VALUE=URI;X-ADDRESS=Elk Lake 5100 Patricia Bay Hwy Victoria British Columbia V8Y 2T6 Canada;X-APPLE-RADIUS=500;X-TITLE=5100 Patricia Bay Hwy:geo:-123.3866952,48.5234816
END:VEVENT
END:VCALENDAR