BEGIN:VCALENDAR
VERSION:2.0
PRODID:-//Rowing British Columbia - ECPv6.15.12.2//NONSGML v1.0//EN
CALSCALE:GREGORIAN
METHOD:PUBLISH
X-ORIGINAL-URL:https://rowingbc.ca
X-WR-CALDESC:Events for Rowing British Columbia
REFRESH-INTERVAL;VALUE=DURATION:PT1H
X-Robots-Tag:noindex
X-PUBLISHED-TTL:PT1H
BEGIN:VTIMEZONE
TZID:America/Vancouver
BEGIN:DAYLIGHT
TZOFFSETFROM:-0800
TZOFFSETTO:-0700
TZNAME:PDT
DTSTART:20160313T100000
END:DAYLIGHT
BEGIN:STANDARD
TZOFFSETFROM:-0700
TZOFFSETTO:-0800
TZNAME:PST
DTSTART:20161106T090000
END:STANDARD
BEGIN:DAYLIGHT
TZOFFSETFROM:-0800
TZOFFSETTO:-0700
TZNAME:PDT
DTSTART:20170312T100000
END:DAYLIGHT
BEGIN:STANDARD
TZOFFSETFROM:-0700
TZOFFSETTO:-0800
TZNAME:PST
DTSTART:20171105T090000
END:STANDARD
BEGIN:DAYLIGHT
TZOFFSETFROM:-0800
TZOFFSETTO:-0700
TZNAME:PDT
DTSTART:20180311T100000
END:DAYLIGHT
BEGIN:STANDARD
TZOFFSETFROM:-0700
TZOFFSETTO:-0800
TZNAME:PST
DTSTART:20181104T090000
END:STANDARD
END:VTIMEZONE
BEGIN:VEVENT
DTSTART;VALUE=DATE:20171028
DTEND;VALUE=DATE:20171029
DTSTAMP:20260421T212542
CREATED:20161202T225318Z
LAST-MODIFIED:20170123T181658Z
UID:10000079-1509148800-1509235199@rowingbc.ca
SUMMARY:2017 Western Canadian University Rowing Championships
DESCRIPTION:
URL:https://rowingbc.ca/event/2017-western-canadian-university-rowing-championships/
LOCATION:Elk Lake\, 5100 Patricia Bay Hwy\, Victoria\, British Columbia\, V8Y 2T6\, Canada
CATEGORIES:Regattas
ORGANIZER;CN="University of Victoria Rowing Club":MAILTO:mensrow@uvic.ca
GEO:48.5234816;-123.3866952
X-APPLE-STRUCTURED-LOCATION;VALUE=URI;X-ADDRESS=Elk Lake 5100 Patricia Bay Hwy Victoria British Columbia V8Y 2T6 Canada;X-APPLE-RADIUS=500;X-TITLE=5100 Patricia Bay Hwy:geo:-123.3866952,48.5234816
END:VEVENT
BEGIN:VEVENT
DTSTART;VALUE=DATE:20171014
DTEND;VALUE=DATE:20171016
DTSTAMP:20260421T212542
CREATED:20161202T225158Z
LAST-MODIFIED:20161202T225951Z
UID:10000057-1507939200-1508111999@rowingbc.ca
SUMMARY:2017 Annual Second Regatta (October Sprints)
DESCRIPTION:
URL:https://rowingbc.ca/event/2017-annual-second-regatta-october-sprints/
LOCATION:Elk Lake\, 5100 Patricia Bay Hwy\, Victoria\, British Columbia\, V8Y 2T6\, Canada
CATEGORIES:Regattas
ORGANIZER;CN="Greater Victoria Youth Rowing Society":MAILTO:president@gvyrs.ca
GEO:48.5234816;-123.3866952
X-APPLE-STRUCTURED-LOCATION;VALUE=URI;X-ADDRESS=Elk Lake 5100 Patricia Bay Hwy Victoria British Columbia V8Y 2T6 Canada;X-APPLE-RADIUS=500;X-TITLE=5100 Patricia Bay Hwy:geo:-123.3866952,48.5234816
END:VEVENT
BEGIN:VEVENT
DTSTART;VALUE=DATE:20171001
DTEND;VALUE=DATE:20171002
DTSTAMP:20260421T212542
CREATED:20161202T225048Z
LAST-MODIFIED:20161202T225048Z
UID:10000085-1506816000-1506902399@rowingbc.ca
SUMMARY:2017 Crabfest Skills Regatta & Head of the Hamster Regatta
DESCRIPTION:
URL:https://rowingbc.ca/event/2017-crabfest-skills-regatta-head-of-the-hamster-regatta/
LOCATION:Elk Lake\, 5100 Patricia Bay Hwy\, Victoria\, British Columbia\, V8Y 2T6\, Canada
CATEGORIES:Regattas
ORGANIZER;CN="Greater Victoria Youth Rowing Society":MAILTO:president@gvyrs.ca
GEO:48.5234816;-123.3866952
X-APPLE-STRUCTURED-LOCATION;VALUE=URI;X-ADDRESS=Elk Lake 5100 Patricia Bay Hwy Victoria British Columbia V8Y 2T6 Canada;X-APPLE-RADIUS=500;X-TITLE=5100 Patricia Bay Hwy:geo:-123.3866952,48.5234816
END:VEVENT
BEGIN:VEVENT
DTSTART;VALUE=DATE:20170707
DTEND;VALUE=DATE:20170708
DTSTAMP:20260421T212542
CREATED:20161202T222619Z
LAST-MODIFIED:20161202T222619Z
UID:10000088-1499385600-1499471999@rowingbc.ca
SUMMARY:2017 Challenge West & BC Championships
DESCRIPTION:
URL:https://rowingbc.ca/event/2017-challenge-west-bc-championships/
LOCATION:Elk Lake\, 5100 Patricia Bay Hwy\, Victoria\, British Columbia\, V8Y 2T6\, Canada
CATEGORIES:Regattas
GEO:48.5234816;-123.3866952
X-APPLE-STRUCTURED-LOCATION;VALUE=URI;X-ADDRESS=Elk Lake 5100 Patricia Bay Hwy Victoria British Columbia V8Y 2T6 Canada;X-APPLE-RADIUS=500;X-TITLE=5100 Patricia Bay Hwy:geo:-123.3866952,48.5234816
END:VEVENT
BEGIN:VEVENT
DTSTART;VALUE=DATE:20170401
DTEND;VALUE=DATE:20170403
DTSTAMP:20260421T212542
CREATED:20161202T215855Z
LAST-MODIFIED:20161202T215855Z
UID:10000095-1491004800-1491177599@rowingbc.ca
SUMMARY:2017 Duelling Over A Grand
DESCRIPTION:
URL:https://rowingbc.ca/event/2017-duelling-over-a-grand/
LOCATION:Elk Lake\, 5100 Patricia Bay Hwy\, Victoria\, British Columbia\, V8Y 2T6\, Canada
CATEGORIES:Regattas
ORGANIZER;CN="Victoria City Rowing Club":MAILTO:clubadmin@vcrc.bc.ca
GEO:48.5234816;-123.3866952
X-APPLE-STRUCTURED-LOCATION;VALUE=URI;X-ADDRESS=Elk Lake 5100 Patricia Bay Hwy Victoria British Columbia V8Y 2T6 Canada;X-APPLE-RADIUS=500;X-TITLE=5100 Patricia Bay Hwy:geo:-123.3866952,48.5234816
END:VEVENT
BEGIN:VEVENT
DTSTART;VALUE=DATE:20170317
DTEND;VALUE=DATE:20170320
DTSTAMP:20260421T212542
CREATED:20170116T231441Z
LAST-MODIFIED:20170202T173204Z
UID:10000115-1489708800-1489967999@rowingbc.ca
SUMMARY:Para Rowing Development Camp
DESCRIPTION:This will be an opportunity for experienced para athletes to train together and challenge each other in a new environment. It also provides a valuable opportunity for the wider para community to connect and build from each other’s successes\, set goals and aim in the same direction for the remainder of 2017. All para coaches and athletes from the US and Canada are invited to attend this development camp. There is no cost to participate\, but attendees are required to arrange their own transportation and accommodation while attending the camp. We look forward to hosting many eager athletes and coaches for this weekend. \nThis year’s theme will be skill development. The camp will be held at Elk Lake\, National Para training centre. John Wetzstein (RCA National Para Team Coach) will be leading one of the sessions. Also included will be an S&C session at the Pacific Institute of Sport Excellence\, led by their para lead trainer. Video sessions will be held each day\, and a social night out will be on the agenda. Time trials will round out the weekend\, to give athletes the ability to put their learnings to good use. Lunch will be provided on Saturday and Sunday. \n\nThe camp is very much intended for coaches as well as athletes\, so please spread the word to coaches and athletes who you think would benefit from attending.\n \n\nPara athletes must already be able to row\, coaches with any level of experience (none/lots) are most welcome.\n\nWhile this event is aimed at experienced athletes with an interest in competition\, new athletes are encouraged to attend the Come and Try Day at the Vancouver Rowing Club on Sunday\, February 26th.  \nTo attend this para rowing development camp\, please complete the Online Registration Form.
URL:https://rowingbc.ca/event/para-rowing-development-camp/
LOCATION:Elk Lake\, 5100 Patricia Bay Hwy\, Victoria\, British Columbia\, V8Y 2T6\, Canada
CATEGORIES:Regattas,Rowing BC Events
ORGANIZER;CN="Rowing British Columbia":MAILTO:sonja.lonne@rowingbc.ca
GEO:48.5234816;-123.3866952
X-APPLE-STRUCTURED-LOCATION;VALUE=URI;X-ADDRESS=Elk Lake 5100 Patricia Bay Hwy Victoria British Columbia V8Y 2T6 Canada;X-APPLE-RADIUS=500;X-TITLE=5100 Patricia Bay Hwy:geo:-123.3866952,48.5234816
END:VEVENT
END:VCALENDAR