BEGIN:VCALENDAR
VERSION:2.0
PRODID:-//Rowing British Columbia - ECPv6.15.12.2//NONSGML v1.0//EN
CALSCALE:GREGORIAN
METHOD:PUBLISH
X-ORIGINAL-URL:https://rowingbc.ca
X-WR-CALDESC:Events for Rowing British Columbia
REFRESH-INTERVAL;VALUE=DURATION:PT1H
X-Robots-Tag:noindex
X-PUBLISHED-TTL:PT1H
BEGIN:VTIMEZONE
TZID:America/Vancouver
BEGIN:DAYLIGHT
TZOFFSETFROM:-0800
TZOFFSETTO:-0700
TZNAME:PDT
DTSTART:20160313T100000
END:DAYLIGHT
BEGIN:STANDARD
TZOFFSETFROM:-0700
TZOFFSETTO:-0800
TZNAME:PST
DTSTART:20161106T090000
END:STANDARD
BEGIN:DAYLIGHT
TZOFFSETFROM:-0800
TZOFFSETTO:-0700
TZNAME:PDT
DTSTART:20170312T100000
END:DAYLIGHT
BEGIN:STANDARD
TZOFFSETFROM:-0700
TZOFFSETTO:-0800
TZNAME:PST
DTSTART:20171105T090000
END:STANDARD
BEGIN:DAYLIGHT
TZOFFSETFROM:-0800
TZOFFSETTO:-0700
TZNAME:PDT
DTSTART:20180311T100000
END:DAYLIGHT
BEGIN:STANDARD
TZOFFSETFROM:-0700
TZOFFSETTO:-0800
TZNAME:PST
DTSTART:20181104T090000
END:STANDARD
BEGIN:DAYLIGHT
TZOFFSETFROM:-0800
TZOFFSETTO:-0700
TZNAME:PDT
DTSTART:20190310T100000
END:DAYLIGHT
BEGIN:STANDARD
TZOFFSETFROM:-0700
TZOFFSETTO:-0800
TZNAME:PST
DTSTART:20191103T090000
END:STANDARD
BEGIN:DAYLIGHT
TZOFFSETFROM:-0800
TZOFFSETTO:-0700
TZNAME:PDT
DTSTART:20200308T100000
END:DAYLIGHT
BEGIN:STANDARD
TZOFFSETFROM:-0700
TZOFFSETTO:-0800
TZNAME:PST
DTSTART:20201101T090000
END:STANDARD
BEGIN:DAYLIGHT
TZOFFSETFROM:-0800
TZOFFSETTO:-0700
TZNAME:PDT
DTSTART:20210314T100000
END:DAYLIGHT
BEGIN:STANDARD
TZOFFSETFROM:-0700
TZOFFSETTO:-0800
TZNAME:PST
DTSTART:20211107T090000
END:STANDARD
BEGIN:DAYLIGHT
TZOFFSETFROM:-0800
TZOFFSETTO:-0700
TZNAME:PDT
DTSTART:20220313T100000
END:DAYLIGHT
BEGIN:STANDARD
TZOFFSETFROM:-0700
TZOFFSETTO:-0800
TZNAME:PST
DTSTART:20221106T090000
END:STANDARD
BEGIN:DAYLIGHT
TZOFFSETFROM:-0800
TZOFFSETTO:-0700
TZNAME:PDT
DTSTART:20230312T100000
END:DAYLIGHT
BEGIN:STANDARD
TZOFFSETFROM:-0700
TZOFFSETTO:-0800
TZNAME:PST
DTSTART:20231105T090000
END:STANDARD
END:VTIMEZONE
BEGIN:VEVENT
DTSTART;VALUE=DATE:20221022
DTEND;VALUE=DATE:20221024
DTSTAMP:20260422T024536
CREATED:20211202T224216Z
LAST-MODIFIED:20220112T003836Z
UID:10000257-1666396800-1666569599@rowingbc.ca
SUMMARY:REGATTA: Head of the Gorge/Tail of the Gorge
DESCRIPTION:Head of the Gorge/Tail of the Gorge hosted by TBD. \nLocation: Gorge Waterway (Victoria) \nDescription: These two regattas are an iconic BC event to attend. Each day\, racing takes place on the Gorge Narrows for all categories of athletes. Viewers can watch from the Tillicum Narrows Bridge as boats navigate through the rushing water at the narrows\, making this a very spectator-friendly event. Historically\, athletes have used this as an opportunity to dress up in Halloween costumes while racing. This event draws participation from across BC and the Pacific NorthWest. \nRegistration: Registration and more information available HERE closer to the regatta date.
URL:https://rowingbc.ca/event/regatta-head-of-the-gorge-tail-of-the-gorge/
LOCATION:Esquimalt Gorge Park\, 1070 Tillicum Rd\, Victoria\, British Columbia\, V9A 2A3\, Canada
CATEGORIES:Regattas
GEO:48.4473598;-123.4005199
X-APPLE-STRUCTURED-LOCATION;VALUE=URI;X-ADDRESS=Esquimalt Gorge Park 1070 Tillicum Rd Victoria British Columbia V9A 2A3 Canada;X-APPLE-RADIUS=500;X-TITLE=1070 Tillicum Rd:geo:-123.4005199,48.4473598
END:VEVENT
BEGIN:VEVENT
DTSTART;VALUE=DATE:20211016
DTEND;VALUE=DATE:20211018
DTSTAMP:20260422T024536
CREATED:20201104T202843Z
LAST-MODIFIED:20210820T202408Z
UID:10000321-1634342400-1634515199@rowingbc.ca
SUMMARY:Head and Tail of the Gorge
DESCRIPTION:Head and Tail of the Gorge hosted by University of Victoria Rowing. \nThese two regattas are an iconic BC event to attend. Each day\, racing takes place on the Gorge Narrows for all categories of athletes. Viewers can watch from the Tillicum Narrows Bridge as boats navigate through the rushing water at the narrows\, making this a very spectator-friendly event. Historically\, athletes have used this as an opportunity to dress up in Halloween costumes while racing. This event draws participation from across BC and the Pacific NorthWest. \nLearn more about University of Victoria Rowing here \nComplete Event Information and Registration is available through Regatta Central here \n 
URL:https://rowingbc.ca/event/head-and-tail-of-the-gorge-2/
LOCATION:Esquimalt Gorge Park\, 1070 Tillicum Rd\, Victoria\, British Columbia\, V9A 2A3\, Canada
CATEGORIES:Regattas
ORGANIZER;CN="University of Victoria Rowing Club":MAILTO:mensrow@uvic.ca
GEO:48.4473598;-123.4005199
X-APPLE-STRUCTURED-LOCATION;VALUE=URI;X-ADDRESS=Esquimalt Gorge Park 1070 Tillicum Rd Victoria British Columbia V9A 2A3 Canada;X-APPLE-RADIUS=500;X-TITLE=1070 Tillicum Rd:geo:-123.4005199,48.4473598
END:VEVENT
BEGIN:VEVENT
DTSTART;VALUE=DATE:20201017
DTEND;VALUE=DATE:20201019
DTSTAMP:20260422T024536
CREATED:20200123T025953Z
LAST-MODIFIED:20200910T212550Z
UID:10000279-1602892800-1603065599@rowingbc.ca
SUMMARY:Head/Tail of the Gorge (cancelled)
DESCRIPTION:General information is available here \nRegistration information is available here \n 
URL:https://rowingbc.ca/event/head-tail-of-the-gorge/
LOCATION:Esquimalt Gorge Park\, 1070 Tillicum Rd\, Victoria\, British Columbia\, V9A 2A3\, Canada
CATEGORIES:Regattas
ORGANIZER;CN="University of Victoria Rowing Club":MAILTO:mensrow@uvic.ca
GEO:48.4473598;-123.4005199
X-APPLE-STRUCTURED-LOCATION;VALUE=URI;X-ADDRESS=Esquimalt Gorge Park 1070 Tillicum Rd Victoria British Columbia V9A 2A3 Canada;X-APPLE-RADIUS=500;X-TITLE=1070 Tillicum Rd:geo:-123.4005199,48.4473598
END:VEVENT
BEGIN:VEVENT
DTSTART;VALUE=DATE:20191019
DTEND;VALUE=DATE:20191021
DTSTAMP:20260422T024536
CREATED:20190108T231421Z
LAST-MODIFIED:20190718T163109Z
UID:10000186-1571443200-1571615999@rowingbc.ca
SUMMARY:Head and Tail of the Gorge
DESCRIPTION:Hosted by University of Victoria Rowing. \nRegistration and full information available HERE.
URL:https://rowingbc.ca/event/head-and-tail-of-the-gorge/
LOCATION:Esquimalt Gorge Park\, 1070 Tillicum Rd\, Victoria\, British Columbia\, V9A 2A3\, Canada
CATEGORIES:Regattas
GEO:48.4473598;-123.4005199
X-APPLE-STRUCTURED-LOCATION;VALUE=URI;X-ADDRESS=Esquimalt Gorge Park 1070 Tillicum Rd Victoria British Columbia V9A 2A3 Canada;X-APPLE-RADIUS=500;X-TITLE=1070 Tillicum Rd:geo:-123.4005199,48.4473598
END:VEVENT
BEGIN:VEVENT
DTSTART;VALUE=DATE:20181020
DTEND;VALUE=DATE:20181022
DTSTAMP:20260422T024536
CREATED:20171205T194228Z
LAST-MODIFIED:20171205T194228Z
UID:10000133-1539993600-1540166399@rowingbc.ca
SUMMARY:Head of the Gorge/Tail of the Gorge
DESCRIPTION:
URL:https://rowingbc.ca/event/head-of-the-gorge-tail-of-the-gorge/
LOCATION:Esquimalt Gorge Park\, 1070 Tillicum Rd\, Victoria\, British Columbia\, V9A 2A3\, Canada
CATEGORIES:Regattas
ORGANIZER;CN="University of Victoria Rowing Club":MAILTO:mensrow@uvic.ca
GEO:48.4473598;-123.4005199
X-APPLE-STRUCTURED-LOCATION;VALUE=URI;X-ADDRESS=Esquimalt Gorge Park 1070 Tillicum Rd Victoria British Columbia V9A 2A3 Canada;X-APPLE-RADIUS=500;X-TITLE=1070 Tillicum Rd:geo:-123.4005199,48.4473598
END:VEVENT
BEGIN:VEVENT
DTSTART;VALUE=DATE:20171021
DTEND;VALUE=DATE:20171023
DTSTAMP:20260422T024536
CREATED:20161202T225811Z
LAST-MODIFIED:20161202T225811Z
UID:10000081-1508544000-1508716799@rowingbc.ca
SUMMARY:2017 Head of the Gorge & Tail of the Gorge Regattas
DESCRIPTION:
URL:https://rowingbc.ca/event/2017-head-of-the-gorge-tail-of-the-gorge-regattas/
LOCATION:Esquimalt Gorge Park\, 1070 Tillicum Rd\, Victoria\, British Columbia\, V9A 2A3\, Canada
CATEGORIES:Regattas
ORGANIZER;CN="University of Victoria Rowing Club":MAILTO:mensrow@uvic.ca
GEO:48.4473598;-123.4005199
X-APPLE-STRUCTURED-LOCATION;VALUE=URI;X-ADDRESS=Esquimalt Gorge Park 1070 Tillicum Rd Victoria British Columbia V9A 2A3 Canada;X-APPLE-RADIUS=500;X-TITLE=1070 Tillicum Rd:geo:-123.4005199,48.4473598
END:VEVENT
END:VCALENDAR