BEGIN:VCALENDAR
VERSION:2.0
PRODID:-//Rowing British Columbia - ECPv6.15.12.2//NONSGML v1.0//EN
CALSCALE:GREGORIAN
METHOD:PUBLISH
X-WR-CALNAME:Rowing British Columbia
X-ORIGINAL-URL:https://rowingbc.ca
X-WR-CALDESC:Events for Rowing British Columbia
REFRESH-INTERVAL;VALUE=DURATION:PT1H
X-Robots-Tag:noindex
X-PUBLISHED-TTL:PT1H
BEGIN:VTIMEZONE
TZID:America/Vancouver
BEGIN:DAYLIGHT
TZOFFSETFROM:-0800
TZOFFSETTO:-0700
TZNAME:PDT
DTSTART:20160313T100000
END:DAYLIGHT
BEGIN:STANDARD
TZOFFSETFROM:-0700
TZOFFSETTO:-0800
TZNAME:PST
DTSTART:20161106T090000
END:STANDARD
BEGIN:DAYLIGHT
TZOFFSETFROM:-0800
TZOFFSETTO:-0700
TZNAME:PDT
DTSTART:20170312T100000
END:DAYLIGHT
BEGIN:STANDARD
TZOFFSETFROM:-0700
TZOFFSETTO:-0800
TZNAME:PST
DTSTART:20171105T090000
END:STANDARD
BEGIN:DAYLIGHT
TZOFFSETFROM:-0800
TZOFFSETTO:-0700
TZNAME:PDT
DTSTART:20180311T100000
END:DAYLIGHT
BEGIN:STANDARD
TZOFFSETFROM:-0700
TZOFFSETTO:-0800
TZNAME:PST
DTSTART:20181104T090000
END:STANDARD
BEGIN:DAYLIGHT
TZOFFSETFROM:-0800
TZOFFSETTO:-0700
TZNAME:PDT
DTSTART:20190310T100000
END:DAYLIGHT
BEGIN:STANDARD
TZOFFSETFROM:-0700
TZOFFSETTO:-0800
TZNAME:PST
DTSTART:20191103T090000
END:STANDARD
BEGIN:DAYLIGHT
TZOFFSETFROM:-0800
TZOFFSETTO:-0700
TZNAME:PDT
DTSTART:20200308T100000
END:DAYLIGHT
BEGIN:STANDARD
TZOFFSETFROM:-0700
TZOFFSETTO:-0800
TZNAME:PST
DTSTART:20201101T090000
END:STANDARD
BEGIN:DAYLIGHT
TZOFFSETFROM:-0800
TZOFFSETTO:-0700
TZNAME:PDT
DTSTART:20210314T100000
END:DAYLIGHT
BEGIN:STANDARD
TZOFFSETFROM:-0700
TZOFFSETTO:-0800
TZNAME:PST
DTSTART:20211107T090000
END:STANDARD
BEGIN:DAYLIGHT
TZOFFSETFROM:-0800
TZOFFSETTO:-0700
TZNAME:PDT
DTSTART:20220313T100000
END:DAYLIGHT
BEGIN:STANDARD
TZOFFSETFROM:-0700
TZOFFSETTO:-0800
TZNAME:PST
DTSTART:20221106T090000
END:STANDARD
BEGIN:DAYLIGHT
TZOFFSETFROM:-0800
TZOFFSETTO:-0700
TZNAME:PDT
DTSTART:20230312T100000
END:DAYLIGHT
BEGIN:STANDARD
TZOFFSETFROM:-0700
TZOFFSETTO:-0800
TZNAME:PST
DTSTART:20231105T090000
END:STANDARD
END:VTIMEZONE
BEGIN:VEVENT
DTSTART;VALUE=DATE:20221030
DTEND;VALUE=DATE:20221031
DTSTAMP:20260421T155036
CREATED:20211202T225007Z
LAST-MODIFIED:20211220T225325Z
UID:10000263-1667088000-1667174399@rowingbc.ca
SUMMARY:REGATTA: Head Up the Creek
DESCRIPTION:Head Up the Creek hosted by False Creek Rowing Club.  \nLocation: False Creek (Vancouver) \nDescription: This 5000m event has historically been held in March at the start of the Head Race season\, but has moved to this date in hopes of better weather\, and to provide a clear end to the Head Race season on the Lower Mainland. This event is primarily attended by JR athletes looking for race experience\, and SR/MA athletes looking for a race opportunity close to home. It mostly attracts attendees from the Lower Mainland. The environment is purposefully designed to be welcoming for those newer to regattas. The event is easy to access with its central Downtown Vancouver location and provides the unique opportunity to row under multiple bridges\, beside and around small tourist ferries\, and culminates in cake for the winners.  \nRegistration: Registration and more information available HERE closer to the regatta date.
URL:https://rowingbc.ca/event/regatta-head-up-the-creek/
LOCATION:False Creek\, False Creek\, Vancouver\, British Columbia\, Canada
CATEGORIES:Regattas
ORGANIZER;CN="False Creek Rowing Club":MAILTO:regatta@falsecreekrowingclub.ca
GEO:49.2698701;-123.1247632
X-APPLE-STRUCTURED-LOCATION;VALUE=URI;X-ADDRESS=False Creek False Creek Vancouver British Columbia Canada;X-APPLE-RADIUS=500;X-TITLE=False Creek:geo:-123.1247632,49.2698701
END:VEVENT
BEGIN:VEVENT
DTSTART;VALUE=DATE:20211031
DTEND;VALUE=DATE:20211101
DTSTAMP:20260421T155036
CREATED:20201104T203721Z
LAST-MODIFIED:20211008T180813Z
UID:10000323-1635638400-1635724799@rowingbc.ca
SUMMARY:CANCELLED Head Up the Creek
DESCRIPTION:Head Up the Creek hosted by False Creek Rowing Club. \nThis 5000m event has historically been held in March at the start of the Head Race season\, but has moved to this date in hopes of better weather\, and to provide a clear end to the Head Race season on the Lower Mainland. This event is primarily attended by JR athletes looking for race experience\, and SR/MA athletes looking for a race opportunity close to home. It mostly attracts attendees from the Lower Mainland. The environment is purposefully designed to be welcoming for those newer to regattas. The event is easy to access with its central Downtown Vancouver location and provides the unique opportunity to row under multiple bridges\, beside and around small tourist ferries\, and culminates in cake for the winners. \nLearn more about the False Creek Rowing Club here. \nComplete Event Information and Registration is available through Regatta Central here.
URL:https://rowingbc.ca/event/head-up-the-creek-2/
LOCATION:False Creek\, False Creek\, Vancouver\, British Columbia\, Canada
CATEGORIES:Regattas
ORGANIZER;CN="False Creek Rowing Club":MAILTO:regatta@falsecreekrowingclub.ca
GEO:49.2698701;-123.1247632
X-APPLE-STRUCTURED-LOCATION;VALUE=URI;X-ADDRESS=False Creek False Creek Vancouver British Columbia Canada;X-APPLE-RADIUS=500;X-TITLE=False Creek:geo:-123.1247632,49.2698701
END:VEVENT
BEGIN:VEVENT
DTSTART;VALUE=DATE:20200315
DTEND;VALUE=DATE:20200316
DTSTAMP:20260421T155036
CREATED:20200123T004353Z
LAST-MODIFIED:20200314T010911Z
UID:10000244-1584230400-1584316799@rowingbc.ca
SUMMARY:Head up the Creek..cancelled
DESCRIPTION:General information available here \nRegistration information available here
URL:https://rowingbc.ca/event/head-up-the-creek/
LOCATION:False Creek\, False Creek\, Vancouver\, British Columbia\, Canada
CATEGORIES:Regattas
ORGANIZER;CN="False Creek Rowing Club":MAILTO:regatta@falsecreekrowingclub.ca
GEO:49.2698701;-123.1247632
X-APPLE-STRUCTURED-LOCATION;VALUE=URI;X-ADDRESS=False Creek False Creek Vancouver British Columbia Canada;X-APPLE-RADIUS=500;X-TITLE=False Creek:geo:-123.1247632,49.2698701
END:VEVENT
BEGIN:VEVENT
DTSTART;VALUE=DATE:20190303
DTEND;VALUE=DATE:20190304
DTSTAMP:20260421T155036
CREATED:20190108T224553Z
LAST-MODIFIED:20190108T224553Z
UID:10000066-1551571200-1551657599@rowingbc.ca
SUMMARY:Head Up the Creek Regatta
DESCRIPTION:Hosted by the False Creek Rowing Club. \nRegistration and full information available HERE.
URL:https://rowingbc.ca/event/head-up-the-creek-regatta-2/
LOCATION:False Creek\, False Creek\, Vancouver\, British Columbia\, Canada
CATEGORIES:Regattas
GEO:49.2698701;-123.1247632
X-APPLE-STRUCTURED-LOCATION;VALUE=URI;X-ADDRESS=False Creek False Creek Vancouver British Columbia Canada;X-APPLE-RADIUS=500;X-TITLE=False Creek:geo:-123.1247632,49.2698701
END:VEVENT
BEGIN:VEVENT
DTSTART;VALUE=DATE:20180304
DTEND;VALUE=DATE:20180305
DTSTAMP:20260421T155036
CREATED:20171205T173246Z
LAST-MODIFIED:20171205T173246Z
UID:10000125-1520121600-1520207999@rowingbc.ca
SUMMARY:Head Up the Creek Regatta
DESCRIPTION:Full Event Information: http://www.falsecreekrowingclub.ca/hucr.php \nRegistration deadline: February 25\, 2017
URL:https://rowingbc.ca/event/head-up-the-creek-regatta/
LOCATION:False Creek\, False Creek\, Vancouver\, British Columbia\, Canada
CATEGORIES:Regattas
ORGANIZER;CN="False Creek Rowing Club":MAILTO:regatta@falsecreekrowingclub.ca
GEO:49.2698701;-123.1247632
X-APPLE-STRUCTURED-LOCATION;VALUE=URI;X-ADDRESS=False Creek False Creek Vancouver British Columbia Canada;X-APPLE-RADIUS=500;X-TITLE=False Creek:geo:-123.1247632,49.2698701
END:VEVENT
BEGIN:VEVENT
DTSTART;VALUE=DATE:20170305
DTEND;VALUE=DATE:20170306
DTSTAMP:20260421T155036
CREATED:20161129T220950Z
LAST-MODIFIED:20161202T204258Z
UID:10000101-1488672000-1488758399@rowingbc.ca
SUMMARY:2017 Head up the Creek Regatta
DESCRIPTION:
URL:https://rowingbc.ca/event/2017-head-up-the-creek-regatta/
LOCATION:False Creek\, False Creek\, Vancouver\, British Columbia\, Canada
CATEGORIES:Regattas
ORGANIZER;CN="False Creek Rowing Club":MAILTO:regatta@falsecreekrowingclub.ca
GEO:49.2698701;-123.1247632
X-APPLE-STRUCTURED-LOCATION;VALUE=URI;X-ADDRESS=False Creek False Creek Vancouver British Columbia Canada;X-APPLE-RADIUS=500;X-TITLE=False Creek:geo:-123.1247632,49.2698701
END:VEVENT
END:VCALENDAR