BEGIN:VCALENDAR
VERSION:2.0
PRODID:-//Rowing British Columbia - ECPv6.15.12.2//NONSGML v1.0//EN
CALSCALE:GREGORIAN
METHOD:PUBLISH
X-ORIGINAL-URL:https://rowingbc.ca
X-WR-CALDESC:Events for Rowing British Columbia
REFRESH-INTERVAL;VALUE=DURATION:PT1H
X-Robots-Tag:noindex
X-PUBLISHED-TTL:PT1H
BEGIN:VTIMEZONE
TZID:America/Vancouver
BEGIN:DAYLIGHT
TZOFFSETFROM:-0800
TZOFFSETTO:-0700
TZNAME:PDT
DTSTART:20170312T100000
END:DAYLIGHT
BEGIN:STANDARD
TZOFFSETFROM:-0700
TZOFFSETTO:-0800
TZNAME:PST
DTSTART:20171105T090000
END:STANDARD
BEGIN:DAYLIGHT
TZOFFSETFROM:-0800
TZOFFSETTO:-0700
TZNAME:PDT
DTSTART:20180311T100000
END:DAYLIGHT
BEGIN:STANDARD
TZOFFSETFROM:-0700
TZOFFSETTO:-0800
TZNAME:PST
DTSTART:20181104T090000
END:STANDARD
BEGIN:DAYLIGHT
TZOFFSETFROM:-0800
TZOFFSETTO:-0700
TZNAME:PDT
DTSTART:20190310T100000
END:DAYLIGHT
BEGIN:STANDARD
TZOFFSETFROM:-0700
TZOFFSETTO:-0800
TZNAME:PST
DTSTART:20191103T090000
END:STANDARD
END:VTIMEZONE
BEGIN:VEVENT
DTSTART;VALUE=DATE:20180907
DTEND;VALUE=DATE:20180910
DTSTAMP:20260421T162856
CREATED:20180503T224850Z
LAST-MODIFIED:20180904T162135Z
UID:10000043-1536278400-1536537599@rowingbc.ca
SUMMARY:Rowing BC Masters Camp (Vancouver)
DESCRIPTION:Date: September 7-9th\nLocation: Jericho Sailing Center\, Vancouver \nHosts: Rowing BC\, Salish Sea Coastal Rowing Club\nTopic: World Coastal Rowing Championships Preparation\nMinimum participants: 8\nCost to participate: $260 \nWith roughly one month until the World Rowing Coastal Championships and held in Sidney\, BC this coastal rowing weekend at the Jericho Sailing Centre in Vancouver\, BC will offer the ideal training opportunity for rowers getting used to coastal boats and water conditions. This camp will provide the opportunity to experience reacting to a sea swell and other open-water features as well as practice turning and beach launching before shifting focus onto the World Championships race course structure and practising on a mock-course set up at Jericho. The weekend will conclude with a race following the real World Championships course set-up. \n Amidst the on-water components\, participants will also enjoy “Stories from the Sea” – a series of photo stories from rowers who have had experiences like rowing across the Atlantic! The weekend will be a chance to expand your rowing network\, and get to know others from across the province through group lunches and dinners. All equipment will be provided\, but participants are expected to have rowing experience equivalent to being confident in a flatwater single. Both experienced and novice coastal rowers are welcome! Registration includes a limited-edition Rowing BC Masters Camp long-sleeved technical shirt for all participants.  \nWeekend Overview:  \nFriday\, September 7th\n6:00-9:30 PM \nSaturday\, September 8th\n6:30 AM-7:15 PM \nSunday\, September 9th\n6:30 AM-4:15 PM \nRegistration: \nRegistration is available on a first-come-first-served basis. Registrations received after a camp is full will be placed on a waitlist and contacted if space becomes available. Completed registration includes submission of an online registration form along with payment made by cheque to the Rowing BC office (155-3820 Cessna Drive\, Richmond\, BC\, V7B 0A2) or e-transfer to admin@rowingbc.ca. \nRegistration is now closed. Contact sonja.lonne@rowingbc.ca with any additional questions. \nParticipants are expected to make their own travel and accommodation arrangements.
URL:https://rowingbc.ca/event/masters-camp-vancouver/
LOCATION:Jericho
CATEGORIES:Rowing BC Events
ORGANIZER;CN="Rowing British Columbia":MAILTO:sonja.lonne@rowingbc.ca
END:VEVENT
END:VCALENDAR