BEGIN:VCALENDAR
VERSION:2.0
PRODID:-//Rowing British Columbia - ECPv6.15.12.2//NONSGML v1.0//EN
CALSCALE:GREGORIAN
METHOD:PUBLISH
X-WR-CALNAME:Rowing British Columbia
X-ORIGINAL-URL:https://rowingbc.ca
X-WR-CALDESC:Events for Rowing British Columbia
REFRESH-INTERVAL;VALUE=DURATION:PT1H
X-Robots-Tag:noindex
X-PUBLISHED-TTL:PT1H
BEGIN:VTIMEZONE
TZID:America/Vancouver
BEGIN:DAYLIGHT
TZOFFSETFROM:-0800
TZOFFSETTO:-0700
TZNAME:PDT
DTSTART:20170312T100000
END:DAYLIGHT
BEGIN:STANDARD
TZOFFSETFROM:-0700
TZOFFSETTO:-0800
TZNAME:PST
DTSTART:20171105T090000
END:STANDARD
BEGIN:DAYLIGHT
TZOFFSETFROM:-0800
TZOFFSETTO:-0700
TZNAME:PDT
DTSTART:20180311T100000
END:DAYLIGHT
BEGIN:STANDARD
TZOFFSETFROM:-0700
TZOFFSETTO:-0800
TZNAME:PST
DTSTART:20181104T090000
END:STANDARD
BEGIN:DAYLIGHT
TZOFFSETFROM:-0800
TZOFFSETTO:-0700
TZNAME:PDT
DTSTART:20190310T100000
END:DAYLIGHT
BEGIN:STANDARD
TZOFFSETFROM:-0700
TZOFFSETTO:-0800
TZNAME:PST
DTSTART:20191103T090000
END:STANDARD
END:VTIMEZONE
BEGIN:VEVENT
DTSTART;TZID=America/Vancouver:20180813T100000
DTEND;TZID=America/Vancouver:20180813T160000
DTSTAMP:20260421T144536
CREATED:20180730T193921Z
LAST-MODIFIED:20180814T174926Z
UID:10000153-1534154400-1534176000@rowingbc.ca
SUMMARY:Come-and-Try in Kelowna
DESCRIPTION:More information about the event is available here
URL:https://rowingbc.ca/event/coastal-come-and-try-in-kelowna/
LOCATION:Kelowna City Park\, 1600 Abbott St\, Kelowna\, BC\, V1Y 1B7\, Canada
ORGANIZER;CN="Rowing British Columbia":MAILTO:sonja.lonne@rowingbc.ca
GEO:49.8841132;-119.5015924
X-APPLE-STRUCTURED-LOCATION;VALUE=URI;X-ADDRESS=Kelowna City Park 1600 Abbott St Kelowna BC V1Y 1B7 Canada;X-APPLE-RADIUS=500;X-TITLE=1600 Abbott St:geo:-119.5015924,49.8841132
END:VEVENT
END:VCALENDAR