BEGIN:VCALENDAR
VERSION:2.0
PRODID:-//Rowing British Columbia - ECPv6.15.12.2//NONSGML v1.0//EN
CALSCALE:GREGORIAN
METHOD:PUBLISH
X-WR-CALNAME:Rowing British Columbia
X-ORIGINAL-URL:https://rowingbc.ca
X-WR-CALDESC:Events for Rowing British Columbia
REFRESH-INTERVAL;VALUE=DURATION:PT1H
X-Robots-Tag:noindex
X-PUBLISHED-TTL:PT1H
BEGIN:VTIMEZONE
TZID:America/Vancouver
BEGIN:DAYLIGHT
TZOFFSETFROM:-0800
TZOFFSETTO:-0700
TZNAME:PDT
DTSTART:20160313T100000
END:DAYLIGHT
BEGIN:STANDARD
TZOFFSETFROM:-0700
TZOFFSETTO:-0800
TZNAME:PST
DTSTART:20161106T090000
END:STANDARD
BEGIN:DAYLIGHT
TZOFFSETFROM:-0800
TZOFFSETTO:-0700
TZNAME:PDT
DTSTART:20170312T100000
END:DAYLIGHT
BEGIN:STANDARD
TZOFFSETFROM:-0700
TZOFFSETTO:-0800
TZNAME:PST
DTSTART:20171105T090000
END:STANDARD
BEGIN:DAYLIGHT
TZOFFSETFROM:-0800
TZOFFSETTO:-0700
TZNAME:PDT
DTSTART:20180311T100000
END:DAYLIGHT
BEGIN:STANDARD
TZOFFSETFROM:-0700
TZOFFSETTO:-0800
TZNAME:PST
DTSTART:20181104T090000
END:STANDARD
BEGIN:DAYLIGHT
TZOFFSETFROM:-0800
TZOFFSETTO:-0700
TZNAME:PDT
DTSTART:20190310T100000
END:DAYLIGHT
BEGIN:STANDARD
TZOFFSETFROM:-0700
TZOFFSETTO:-0800
TZNAME:PST
DTSTART:20191103T090000
END:STANDARD
BEGIN:DAYLIGHT
TZOFFSETFROM:-0800
TZOFFSETTO:-0700
TZNAME:PDT
DTSTART:20200308T100000
END:DAYLIGHT
BEGIN:STANDARD
TZOFFSETFROM:-0700
TZOFFSETTO:-0800
TZNAME:PST
DTSTART:20201101T090000
END:STANDARD
BEGIN:DAYLIGHT
TZOFFSETFROM:-0800
TZOFFSETTO:-0700
TZNAME:PDT
DTSTART:20210314T100000
END:DAYLIGHT
BEGIN:STANDARD
TZOFFSETFROM:-0700
TZOFFSETTO:-0800
TZNAME:PST
DTSTART:20211107T090000
END:STANDARD
BEGIN:DAYLIGHT
TZOFFSETFROM:-0800
TZOFFSETTO:-0700
TZNAME:PDT
DTSTART:20220313T100000
END:DAYLIGHT
BEGIN:STANDARD
TZOFFSETFROM:-0700
TZOFFSETTO:-0800
TZNAME:PST
DTSTART:20221106T090000
END:STANDARD
BEGIN:DAYLIGHT
TZOFFSETFROM:-0800
TZOFFSETTO:-0700
TZNAME:PDT
DTSTART:20230312T100000
END:DAYLIGHT
BEGIN:STANDARD
TZOFFSETFROM:-0700
TZOFFSETTO:-0800
TZNAME:PST
DTSTART:20231105T090000
END:STANDARD
END:VTIMEZONE
BEGIN:VEVENT
DTSTART;VALUE=DATE:20220513
DTEND;VALUE=DATE:20220516
DTSTAMP:20260421T175734
CREATED:20211202T220249Z
LAST-MODIFIED:20211220T215725Z
UID:10000375-1652400000-1652659199@rowingbc.ca
SUMMARY:REGATTA: Shawnigan Lake Regatta
DESCRIPTION:Shawnigan Lake Regatta hosted by Shawnigan Lake School Rowing.  \nLocation: Shawnigan Lake \nDescription: This 2000m regatta is for highschool athletes racing for their clubs or schools. It is the last big local regatta on Vancouver Island in the Spring season\, and a final chance for a tune up before some teams head to the Canadaian Secondary School Regatta. Athletes attending this regatta will often first attend the Maple Bay Regatta and Brentwood Regatta\, then attend the Shawnigan Lake Regatta\, possibly before attending the Canadian Secondary School Regatta. Participants come from across BC. Hosted in a park\, this regatta has a garden picnic atmosphere that is nice for spectators.  \nRegistration: Registration and more information available HERE closer to the regatta date.
URL:https://rowingbc.ca/event/shawnigan-lake-regatta-5/
LOCATION:Shawnigan Lake\, 1975 Renfrew Rd\, Shawnigan Lake\, British Columbia\, V0R 2W1\, Canada
CATEGORIES:Regattas
GEO:48.6554964;-123.6371187
X-APPLE-STRUCTURED-LOCATION;VALUE=URI;X-ADDRESS=Shawnigan Lake 1975 Renfrew Rd Shawnigan Lake British Columbia V0R 2W1 Canada;X-APPLE-RADIUS=500;X-TITLE=1975 Renfrew Rd:geo:-123.6371187,48.6554964
END:VEVENT
BEGIN:VEVENT
DTSTART;VALUE=DATE:20220227
DTEND;VALUE=DATE:20220228
DTSTAMP:20260421T175734
CREATED:20211202T213214Z
LAST-MODIFIED:20220228T175044Z
UID:10000367-1645920000-1646006399@rowingbc.ca
SUMMARY:REGATTA: Head of the Shawnigan
DESCRIPTION:Head of the Shawnigan hosted by Shawnigan Lake School Rowing.  \nLocation: Shawnigan Lake \nDescription:Start of on-water season development regatta for athletes from across BC\, but especially Vancouver Island.  \nRegistration: Registration and more information will become available HERE closer to the event date.
URL:https://rowingbc.ca/event/head-of-the-shawnigan/
LOCATION:Shawnigan Lake\, 1975 Renfrew Rd\, Shawnigan Lake\, British Columbia\, V0R 2W1\, Canada
CATEGORIES:Regattas
GEO:48.6554964;-123.6371187
X-APPLE-STRUCTURED-LOCATION;VALUE=URI;X-ADDRESS=Shawnigan Lake 1975 Renfrew Rd Shawnigan Lake British Columbia V0R 2W1 Canada;X-APPLE-RADIUS=500;X-TITLE=1975 Renfrew Rd:geo:-123.6371187,48.6554964
END:VEVENT
BEGIN:VEVENT
DTSTART;VALUE=DATE:20210508
DTEND;VALUE=DATE:20210510
DTSTAMP:20260421T175734
CREATED:20201104T191052Z
LAST-MODIFIED:20210406T172058Z
UID:10000302-1620432000-1620604799@rowingbc.ca
SUMMARY:Shawnigan Lake Regatta (Cancelled)
DESCRIPTION:Shawnigan Lake Regatta hosted by Shawnigan Lake School. \nThis 2000m regatta is for highschool athletes racing for their clubs or schools. It is the last big local regatta on Vancouver Island in the Spring season\, and a final chance for a tune up before some teams head to the Canadian Secondary School Regatta. Athletes attending this regatta will often first attend the Maple Bay Regatta and Brentwood Regatta\, then attend the Shawnigan Lake Regatta\, possibly before attending the Canadian Secondary School Regatta. Participants come from across BC. Hosted in a park\, this regatta has a garden picnic atmosphere that is nice for spectators. \nLearn more about Shawnigan Lake School Rowing here \nComplete Event Information and Registration will be available through Regatta Central here closer to the event date.
URL:https://rowingbc.ca/event/shawnigan-lake-regatta-4/
LOCATION:Shawnigan Lake\, 1975 Renfrew Rd\, Shawnigan Lake\, British Columbia\, V0R 2W1\, Canada
CATEGORIES:Regattas
GEO:48.6554964;-123.6371187
X-APPLE-STRUCTURED-LOCATION;VALUE=URI;X-ADDRESS=Shawnigan Lake 1975 Renfrew Rd Shawnigan Lake British Columbia V0R 2W1 Canada;X-APPLE-RADIUS=500;X-TITLE=1975 Renfrew Rd:geo:-123.6371187,48.6554964
END:VEVENT
BEGIN:VEVENT
DTSTART;VALUE=DATE:20200508
DTEND;VALUE=DATE:20200511
DTSTAMP:20260421T175734
CREATED:20200123T013458Z
LAST-MODIFIED:20200320T045217Z
UID:10000250-1588896000-1589155199@rowingbc.ca
SUMMARY:Shawnigan Lake Regatta..cancelled
DESCRIPTION:General information available here \nRegistration information available here
URL:https://rowingbc.ca/event/shawnigan-lake-regatta-3/
LOCATION:Shawnigan Lake\, 1975 Renfrew Rd\, Shawnigan Lake\, British Columbia\, V0R 2W1\, Canada
CATEGORIES:Regattas
GEO:48.6554964;-123.6371187
X-APPLE-STRUCTURED-LOCATION;VALUE=URI;X-ADDRESS=Shawnigan Lake 1975 Renfrew Rd Shawnigan Lake British Columbia V0R 2W1 Canada;X-APPLE-RADIUS=500;X-TITLE=1975 Renfrew Rd:geo:-123.6371187,48.6554964
END:VEVENT
BEGIN:VEVENT
DTSTART;VALUE=DATE:20190510
DTEND;VALUE=DATE:20190513
DTSTAMP:20260421T175734
CREATED:20190108T225631Z
LAST-MODIFIED:20190108T225631Z
UID:10000078-1557446400-1557705599@rowingbc.ca
SUMMARY:Shawnigan Lake Regatta
DESCRIPTION:Hosted by Shawnigan Lake School Rowing. \nRegistration and full information available HERE.
URL:https://rowingbc.ca/event/shawnigan-lake-regatta-2/
LOCATION:Shawnigan Lake\, 1975 Renfrew Rd\, Shawnigan Lake\, British Columbia\, V0R 2W1\, Canada
CATEGORIES:Regattas
GEO:48.6554964;-123.6371187
X-APPLE-STRUCTURED-LOCATION;VALUE=URI;X-ADDRESS=Shawnigan Lake 1975 Renfrew Rd Shawnigan Lake British Columbia V0R 2W1 Canada;X-APPLE-RADIUS=500;X-TITLE=1975 Renfrew Rd:geo:-123.6371187,48.6554964
END:VEVENT
BEGIN:VEVENT
DTSTART;VALUE=DATE:20180511
DTEND;VALUE=DATE:20180514
DTSTAMP:20260421T175734
CREATED:20171205T174249Z
LAST-MODIFIED:20171205T174249Z
UID:10000130-1525996800-1526255999@rowingbc.ca
SUMMARY:Shawnigan Lake Regatta
DESCRIPTION:
URL:https://rowingbc.ca/event/shawnigan-lake-regatta/
LOCATION:Shawnigan Lake\, 1975 Renfrew Rd\, Shawnigan Lake\, British Columbia\, V0R 2W1\, Canada
CATEGORIES:Regattas
GEO:48.6554964;-123.6371187
X-APPLE-STRUCTURED-LOCATION;VALUE=URI;X-ADDRESS=Shawnigan Lake 1975 Renfrew Rd Shawnigan Lake British Columbia V0R 2W1 Canada;X-APPLE-RADIUS=500;X-TITLE=1975 Renfrew Rd:geo:-123.6371187,48.6554964
END:VEVENT
BEGIN:VEVENT
DTSTART;VALUE=DATE:20180218
DTEND;VALUE=DATE:20180219
DTSTAMP:20260421T175734
CREATED:20171205T172245Z
LAST-MODIFIED:20180119T214049Z
UID:10000122-1518912000-1518998399@rowingbc.ca
SUMMARY:Head of the Lake
DESCRIPTION:36TH ANNUAL HEAD OF SHAWNIGAN LAKE REGATTA\nSunday\, Feb. 18\, 2018\nEntries: \n\nAll entries are due by noon on Saturday\, Feb. 10 via http://www.regattadata.com\nFor assistance with regatta data\, please go to: https://secure.regattadata.com/wiki/index.php?title=RDS_how_to\nFor additional information or assistance\, contact Colin Mattock: cmattock@shawnigan.ca\n\n\n\n\n\nFull Regatta Package: \nHead of the Lake Regatta Package available here.
URL:https://rowingbc.ca/event/head-of-the-lake/
LOCATION:Shawnigan Lake\, 1975 Renfrew Rd\, Shawnigan Lake\, British Columbia\, V0R 2W1\, Canada
CATEGORIES:Regattas
GEO:48.6554964;-123.6371187
X-APPLE-STRUCTURED-LOCATION;VALUE=URI;X-ADDRESS=Shawnigan Lake 1975 Renfrew Rd Shawnigan Lake British Columbia V0R 2W1 Canada;X-APPLE-RADIUS=500;X-TITLE=1975 Renfrew Rd:geo:-123.6371187,48.6554964
END:VEVENT
BEGIN:VEVENT
DTSTART;VALUE=DATE:20170512
DTEND;VALUE=DATE:20170515
DTSTAMP:20260421T175734
CREATED:20161202T220840Z
LAST-MODIFIED:20170411T180128Z
UID:10000060-1494547200-1494806399@rowingbc.ca
SUMMARY:2017 Shawnigan Lake Regatta
DESCRIPTION:Regatta package available here.
URL:https://rowingbc.ca/event/2017-shawnigan-lake-regatta/
LOCATION:Shawnigan Lake\, 1975 Renfrew Rd\, Shawnigan Lake\, British Columbia\, V0R 2W1\, Canada
CATEGORIES:Regattas
GEO:48.6554964;-123.6371187
X-APPLE-STRUCTURED-LOCATION;VALUE=URI;X-ADDRESS=Shawnigan Lake 1975 Renfrew Rd Shawnigan Lake British Columbia V0R 2W1 Canada;X-APPLE-RADIUS=500;X-TITLE=1975 Renfrew Rd:geo:-123.6371187,48.6554964
END:VEVENT
END:VCALENDAR