BEGIN:VCALENDAR
VERSION:2.0
PRODID:-//Rowing British Columbia - ECPv6.15.12.2//NONSGML v1.0//EN
CALSCALE:GREGORIAN
METHOD:PUBLISH
X-ORIGINAL-URL:https://rowingbc.ca
X-WR-CALDESC:Events for Rowing British Columbia
REFRESH-INTERVAL;VALUE=DURATION:PT1H
X-Robots-Tag:noindex
X-PUBLISHED-TTL:PT1H
BEGIN:VTIMEZONE
TZID:America/Vancouver
BEGIN:DAYLIGHT
TZOFFSETFROM:-0800
TZOFFSETTO:-0700
TZNAME:PDT
DTSTART:20170312T100000
END:DAYLIGHT
BEGIN:STANDARD
TZOFFSETFROM:-0700
TZOFFSETTO:-0800
TZNAME:PST
DTSTART:20171105T090000
END:STANDARD
BEGIN:DAYLIGHT
TZOFFSETFROM:-0800
TZOFFSETTO:-0700
TZNAME:PDT
DTSTART:20180311T100000
END:DAYLIGHT
BEGIN:STANDARD
TZOFFSETFROM:-0700
TZOFFSETTO:-0800
TZNAME:PST
DTSTART:20181104T090000
END:STANDARD
BEGIN:DAYLIGHT
TZOFFSETFROM:-0800
TZOFFSETTO:-0700
TZNAME:PDT
DTSTART:20190310T100000
END:DAYLIGHT
BEGIN:STANDARD
TZOFFSETFROM:-0700
TZOFFSETTO:-0800
TZNAME:PST
DTSTART:20191103T090000
END:STANDARD
END:VTIMEZONE
BEGIN:VEVENT
DTSTART;VALUE=DATE:20180825
DTEND;VALUE=DATE:20180826
DTSTAMP:20260421T180426
CREATED:20180503T222952Z
LAST-MODIFIED:20180820T192456Z
UID:10000041-1535155200-1535241599@rowingbc.ca
SUMMARY:Rowing BC Masters Camp (Sidney)
DESCRIPTION:Date: August 25th\nLocation: Tulista Park\, Sidney\nHosts: Rowing BC\, OARCA\,Victoria City Rowing Club\nTopic: World Coastal Rowing Championships Preparation\nMinimum participants: 12\nCost to participate: $100 \nThroughout the Spring and Summer\, the Victoria City Rowing Club is offering T/Th coastal rowing come and try/practice sessions in Sidney\, BC to allow participants an opportunity to get comfortable in the coastal equipment in the lead up to the 2018 World Rowing Coastal Championships being held in Sidney October 11-14th. (To get involved in these sessions\, interested participants can contact clubadmin@vcrc.bc.ca.) \nTo wrap up the Summer\, this one-day camp will provide a mini taste of what the World Rowing Coastal Championships will be like. Hosted on the official World Championships course\, camp participants will have the opportunity to experience the course for practice purposes\, and then complete the day with a fun race experience. A group lunch will provide the opportunity for coastal rowing enthusiasts from across the province to get to know each other more\, and get excited for the upcoming World Championships! All equipment will be provided\, but participants are expected to have rowing experience equivalent to being confident in a flatwater single. \nRegistration includes a limited-edition Rowing BC Masters Camp long-sleeved technical shirt for all participants. \nCamp Overview:  \nSaturday\, August 25th\n7:30 AM-5:00 PM \nRegistration: \nRegistration is available on a first-come-first-served basis. Registrations received after a camp is full will be placed on a waitlist and contacted if space becomes available. Completed registration includes submission of an online registration form along with payment made by cheque to the Rowing BC office (155-3820 Cessna Drive\, Richmond\, BC\, V7B 0A2) or e-transfer to admin@rowingbc.ca. \nREGISTRATION IS NOW FULL! To be placed on a waitlist\, contact sonja.lonne@rowingbc.ca \nParticipants are expected to make their own travel and accommodation arrangements.
URL:https://rowingbc.ca/event/masters-camp-sidney/
LOCATION:Sidney\, BC
CATEGORIES:Rowing BC Events
ORGANIZER;CN="Rowing British Columbia":MAILTO:sonja.lonne@rowingbc.ca
END:VEVENT
END:VCALENDAR