BEGIN:VCALENDAR
VERSION:2.0
PRODID:-//Rowing British Columbia - ECPv6.15.12.2//NONSGML v1.0//EN
CALSCALE:GREGORIAN
METHOD:PUBLISH
X-WR-CALNAME:Rowing British Columbia
X-ORIGINAL-URL:https://rowingbc.ca
X-WR-CALDESC:Events for Rowing British Columbia
REFRESH-INTERVAL;VALUE=DURATION:PT1H
X-Robots-Tag:noindex
X-PUBLISHED-TTL:PT1H
BEGIN:VTIMEZONE
TZID:America/Vancouver
BEGIN:DAYLIGHT
TZOFFSETFROM:-0800
TZOFFSETTO:-0700
TZNAME:PDT
DTSTART:20140309T100000
END:DAYLIGHT
BEGIN:STANDARD
TZOFFSETFROM:-0700
TZOFFSETTO:-0800
TZNAME:PST
DTSTART:20141102T090000
END:STANDARD
BEGIN:DAYLIGHT
TZOFFSETFROM:-0800
TZOFFSETTO:-0700
TZNAME:PDT
DTSTART:20150308T100000
END:DAYLIGHT
BEGIN:STANDARD
TZOFFSETFROM:-0700
TZOFFSETTO:-0800
TZNAME:PST
DTSTART:20151101T090000
END:STANDARD
BEGIN:DAYLIGHT
TZOFFSETFROM:-0800
TZOFFSETTO:-0700
TZNAME:PDT
DTSTART:20160313T100000
END:DAYLIGHT
BEGIN:STANDARD
TZOFFSETFROM:-0700
TZOFFSETTO:-0800
TZNAME:PST
DTSTART:20161106T090000
END:STANDARD
BEGIN:DAYLIGHT
TZOFFSETFROM:-0800
TZOFFSETTO:-0700
TZNAME:PDT
DTSTART:20170312T100000
END:DAYLIGHT
BEGIN:STANDARD
TZOFFSETFROM:-0700
TZOFFSETTO:-0800
TZNAME:PST
DTSTART:20171105T090000
END:STANDARD
END:VTIMEZONE
BEGIN:VEVENT
DTSTART;VALUE=DATE:20160219
DTEND;VALUE=DATE:20160222
DTSTAMP:20260421T173229
CREATED:20161213T211424Z
LAST-MODIFIED:20161216T212422Z
UID:10000054-1455840000-1456099199@rowingbc.ca
SUMMARY:RCA Coach Weekend 2 Workshop
DESCRIPTION:Rowing BC is hosting an RCA Coach Weekend 2 Workshop on February 19 – 21\, 2016. \nThe workshop fee is $300.00 per person. Workshop participants are responsible for their own travel and accommodation costs. Payment can be made either by cheque (in person at the workshop) or online through PayPal. \nThe workshop requires a minimum of 10 participants; individuals will be registered on a first come\, first served basis. \nWorkshop times are as follows: \n\nFriday\, February 19\, 2016: 7:00pm – 9:30pm\nSaturday\, February 20\, 2016: 8:30am – 5:00pm\nSunday\, February 21\, 2016: 8:30am – 2:30pm\n\nParticipants should plan to bring their own snacks and lunches. \nTo register for this workshop\, please fill out the Online Workshop Registration Form. \nThe registration deadline for this course is Monday\, February 15\, 2016. \nThis workshop is made possible in part by the support InvestorsGroup and the Coaching Association of Canada.
URL:https://rowingbc.ca/event/rca-coach-weekend-2-workshop-vancouver-island-winter-2016/
LOCATION:St. Michaels University School\, 3400 Richmond Rd\, Victoria\, BC\, V8P 4P5\, Canada
CATEGORIES:Coach Workshops,RCA Coach Workshops
ORGANIZER;CN="Rowing British Columbia":MAILTO:sonja.lonne@rowingbc.ca
GEO:48.4516957;-123.3279532
X-APPLE-STRUCTURED-LOCATION;VALUE=URI;X-ADDRESS=St. Michaels University School 3400 Richmond Rd Victoria BC V8P 4P5 Canada;X-APPLE-RADIUS=500;X-TITLE=3400 Richmond Rd:geo:-123.3279532,48.4516957
END:VEVENT
BEGIN:VEVENT
DTSTART;TZID=America/Vancouver:20151122T140000
DTEND;TZID=America/Vancouver:20151122T170000
DTSTAMP:20260421T173229
CREATED:20161214T054507Z
LAST-MODIFIED:20161214T054507Z
UID:10000005-1448200800-1448211600@rowingbc.ca
SUMMARY:Para-Rowing Inclusion At Your Club
DESCRIPTION:*This session will be preceded by “Selection” at 11.15am \nFacilitated by Martin George\, Rowing BC Coaching Coordinator and Para-rowing Coach\, this session is designed to give coaches and club administrators a good understanding of how to introduce persons with a disability to the sport of rowing. There is\, in fact\, not a great difference between teaching rowing for able-bodied participants\, and those participants with a disability. This workshop will focus on the areas where these differences occur\, such as transfers\, rigging\, and will include useful tips around the boathouse. The focus will be very much hands-on\, and give participants opportunities to try out different types of rowing\, and address common concerns. \nFor more information on this and other upcoming Coach Development Sessions\, feel free to contact Martin George\, Rowing BC Coaching Coordinator. \n*** The Coach Development Sessions qualify for Professional Development (PD) points for certified coaches\, under the Coaches Association of Canada. To track your PD points online\, visit the Maintenance of Certification website. \n\nUpdate: November 2016 \nThank you to all those who attended. Below is the powerpoint that was presented during the session. \n\nGetting Started Working with Athletes with a Disability Notes (.pdf)
URL:https://rowingbc.ca/event/para-rowing-inclusion-at-your-club/
LOCATION:St. Michaels University School\, 3400 Richmond Rd\, Victoria\, BC\, V8P 4P5\, Canada
CATEGORIES:Coach Development Sessions
ORGANIZER;CN="Rowing British Columbia":MAILTO:sonja.lonne@rowingbc.ca
GEO:48.4516957;-123.3279532
X-APPLE-STRUCTURED-LOCATION;VALUE=URI;X-ADDRESS=St. Michaels University School 3400 Richmond Rd Victoria BC V8P 4P5 Canada;X-APPLE-RADIUS=500;X-TITLE=3400 Richmond Rd:geo:-123.3279532,48.4516957
END:VEVENT
BEGIN:VEVENT
DTSTART;TZID=America/Vancouver:20151122T111500
DTEND;TZID=America/Vancouver:20151122T124500
DTSTAMP:20260421T173229
CREATED:20161214T053922Z
LAST-MODIFIED:20161214T053922Z
UID:10000004-1448190900-1448196300@rowingbc.ca
SUMMARY:Selection
DESCRIPTION:Facilitated by Chuck McDiarmid\, Rowing Canada Aviron High-Performance Development Coordinator\, this session will offer an overview of selection policies and procedures for athletes and coaches from the perspective of Rowing Canada Aviron’s Development Selection Process. Chuck will also offer some guidelines to ensure a successful selection process. The information will be valuable to both coaches and athletes\, particularly those wanting to be considered for Team BC for the upcoming BC Summer Games. \nFor more information on this and other upcoming Coach Development Sessions\, feel free to contact Martin George\, Rowing BC Coaching Coordinator. \n*** The Coach Development Sessions qualify for Professional Development (PD) points for certified coaches\, under the Coaches Association of Canada. To track your PD points online\, visit the Maintenance of Certification website. \n\nUpdate: November 2015 \nThank you to all those who attended. Below is the powerpoint that was presented during the session. \n\nSelection Powerpoint (.pdf)
URL:https://rowingbc.ca/event/selection/
LOCATION:St. Michaels University School\, 3400 Richmond Rd\, Victoria\, BC\, V8P 4P5\, Canada
CATEGORIES:Coach Development Sessions
ORGANIZER;CN="Rowing British Columbia":MAILTO:sonja.lonne@rowingbc.ca
GEO:48.4516957;-123.3279532
X-APPLE-STRUCTURED-LOCATION;VALUE=URI;X-ADDRESS=St. Michaels University School 3400 Richmond Rd Victoria BC V8P 4P5 Canada;X-APPLE-RADIUS=500;X-TITLE=3400 Richmond Rd:geo:-123.3279532,48.4516957
END:VEVENT
BEGIN:VEVENT
DTSTART;TZID=America/Vancouver:20151122T093000
DTEND;TZID=America/Vancouver:20151122T110000
DTSTAMP:20260421T173229
CREATED:20161214T053109Z
LAST-MODIFIED:20161214T053451Z
UID:10000003-1448184600-1448190000@rowingbc.ca
SUMMARY:Strength Training for Youth Rowers
DESCRIPTION:*This session will be followed by “Selection” at 11.15am \nFacilitated by Oliver Amiel\, Brentwood College Rugby Strength & Conditioning Coach\, this session is a must for any coach wanting to understand how to safely use resistance training for their youth rowers. Topics covered will include when\, and how\, to include resistance training in your youth program\, and include fundamental exercises to assist the development of your rowers. \nFor more information on this and other upcoming Coach Development Sessions\, feel free to contact Martin George\, Rowing BC Coaching Coordinator. \n*** The Coach Development Sessions qualify for Professional Development (PD) points for certified coaches\, under the Coaches Association of Canada. To track your PD points online\, visit the Maintenance of Certification website. \n\nUpdate: November 2015 \nThank you to all those who attended. Below is the powerpoint that was presented during the session. \n\nStrength and Conditioning for Youth in Rowing Powerpoint (.pdf)
URL:https://rowingbc.ca/event/strength-training-for-youth-rowers/
LOCATION:St. Michaels University School\, 3400 Richmond Rd\, Victoria\, BC\, V8P 4P5\, Canada
CATEGORIES:Coach Development Sessions
ORGANIZER;CN="Rowing British Columbia":MAILTO:sonja.lonne@rowingbc.ca
GEO:48.4516957;-123.3279532
X-APPLE-STRUCTURED-LOCATION;VALUE=URI;X-ADDRESS=St. Michaels University School 3400 Richmond Rd Victoria BC V8P 4P5 Canada;X-APPLE-RADIUS=500;X-TITLE=3400 Richmond Rd:geo:-123.3279532,48.4516957
END:VEVENT
END:VCALENDAR